BEGIN:VCALENDAR
VERSION:2.0
PRODID:-//Mosque Foundation | Bridgeview, Illinois - ECPv6.15.16//NONSGML v1.0//EN
CALSCALE:GREGORIAN
METHOD:PUBLISH
X-WR-CALNAME:Mosque Foundation | Bridgeview, Illinois
X-ORIGINAL-URL:https://mosquefoundation.org
X-WR-CALDESC:Events for Mosque Foundation | Bridgeview, Illinois
REFRESH-INTERVAL;VALUE=DURATION:PT1H
X-Robots-Tag:noindex
X-PUBLISHED-TTL:PT1H
BEGIN:VTIMEZONE
TZID:America/Chicago
BEGIN:DAYLIGHT
TZOFFSETFROM:-0600
TZOFFSETTO:-0500
TZNAME:CDT
DTSTART:20290311T080000
END:DAYLIGHT
BEGIN:STANDARD
TZOFFSETFROM:-0500
TZOFFSETTO:-0600
TZNAME:CST
DTSTART:20291104T070000
END:STANDARD
BEGIN:DAYLIGHT
TZOFFSETFROM:-0600
TZOFFSETTO:-0500
TZNAME:CDT
DTSTART:20300310T080000
END:DAYLIGHT
BEGIN:STANDARD
TZOFFSETFROM:-0500
TZOFFSETTO:-0600
TZNAME:CST
DTSTART:20301103T070000
END:STANDARD
BEGIN:DAYLIGHT
TZOFFSETFROM:-0600
TZOFFSETTO:-0500
TZNAME:CDT
DTSTART:20310309T080000
END:DAYLIGHT
BEGIN:STANDARD
TZOFFSETFROM:-0500
TZOFFSETTO:-0600
TZNAME:CST
DTSTART:20311102T070000
END:STANDARD
END:VTIMEZONE
BEGIN:VEVENT
DTSTART;TZID=America/Chicago:20300105T090000
DTEND;TZID=America/Chicago:20300105T130000
DTSTAMP:20260420T194751
CREATED:20250904T001543Z
LAST-MODIFIED:20251102T133041Z
UID:10040688-1893834000-1893848400@mosquefoundation.org
SUMMARY:Saturday Program For Young Women
DESCRIPTION:
URL:https://mosquefoundation.org/event/saturday-program-for-yong-women/2030-01-05/
CATEGORIES:Mosque Foundation Events
ATTACH;FMTTYPE=image/jpeg:https://mosquefoundation.org/wp-content/uploads/2025/09/MF_-Sat-Program-Women-SM-2025.jpg
END:VEVENT
BEGIN:VEVENT
DTSTART;TZID=America/Chicago:20300106T120000
DTEND;TZID=America/Chicago:20300106T130000
DTSTAMP:20260420T194751
CREATED:20240311T190209Z
LAST-MODIFIED:20260419T054313Z
UID:10041376-1893931200-1893934800@mosquefoundation.org
SUMMARY:Spanish Class for Women
DESCRIPTION:
URL:https://mosquefoundation.org/event/spanish-class/2030-01-06/
CATEGORIES:Mosque Foundation Events
ATTACH;FMTTYPE=image/jpeg:https://mosquefoundation.org/wp-content/uploads/2024/03/MF-Spanish-Class-ES-2024-SM-scaled.jpg
END:VEVENT
BEGIN:VEVENT
DTSTART;TZID=America/Chicago:20300106T120000
DTEND;TZID=America/Chicago:20300106T140000
DTSTAMP:20260420T194751
CREATED:20260419T053917Z
LAST-MODIFIED:20260419T053944Z
UID:10050302-1893931200-1893938400@mosquefoundation.org
SUMMARY:English Class for Women
DESCRIPTION:
URL:https://mosquefoundation.org/event/english-class-for-women/2030-01-06/
CATEGORIES:Mosque Foundation Events
ATTACH;FMTTYPE=image/jpeg:https://mosquefoundation.org/wp-content/uploads/2026/04/PHOTO-2026-04-18-06-01-36.jpg
END:VEVENT
BEGIN:VEVENT
DTSTART;TZID=America/Chicago:20300106T211500
DTEND;TZID=America/Chicago:20300106T220000
DTSTAMP:20260420T194751
CREATED:20260409T185427Z
LAST-MODIFIED:20260409T185443Z
UID:10048987-1893964500-1893967200@mosquefoundation.org
SUMMARY:Sunday Class
DESCRIPTION:
URL:https://mosquefoundation.org/event/sunday-class-2/2030-01-06/
CATEGORIES:Mosque Foundation Events
ATTACH;FMTTYPE=image/jpeg:https://mosquefoundation.org/wp-content/uploads/2026/03/MF_-Sh-Jafar-En-2026.jpg
END:VEVENT
BEGIN:VEVENT
DTSTART;TZID=America/Chicago:20300107T214500
DTEND;TZID=America/Chicago:20300107T223000
DTSTAMP:20260420T194751
CREATED:20260330T183316Z
LAST-MODIFIED:20260419T053209Z
UID:10049249-1894052700-1894055400@mosquefoundation.org
SUMMARY:Monday Class
DESCRIPTION:
URL:https://mosquefoundation.org/event/monday-class/2030-01-07/
CATEGORIES:Mosque Foundation Events
ATTACH;FMTTYPE=image/jpeg:https://mosquefoundation.org/wp-content/uploads/2026/03/mondayclass.jpg
END:VEVENT
BEGIN:VEVENT
DTSTART;TZID=America/Chicago:20300108T130000
DTEND;TZID=America/Chicago:20300108T140000
DTSTAMP:20260420T194751
CREATED:20240802T032249Z
LAST-MODIFIED:20260308T174747Z
UID:10046501-1894107600-1894111200@mosquefoundation.org
SUMMARY:Tuesday Class for Sisters
DESCRIPTION:
URL:https://mosquefoundation.org/event/tuesday-class-for-sisters/2030-01-08/
CATEGORIES:Mosque Foundation Events
ATTACH;FMTTYPE=image/jpeg:https://mosquefoundation.org/wp-content/uploads/2023/06/MF_-Tue-Women-2024.jpg
END:VEVENT
BEGIN:VEVENT
DTSTART;TZID=America/Chicago:20300108T214500
DTEND;TZID=America/Chicago:20300108T223000
DTSTAMP:20260420T194751
CREATED:20260330T183652Z
LAST-MODIFIED:20260419T053510Z
UID:10050041-1894139100-1894141800@mosquefoundation.org
SUMMARY:Tuesday Class
DESCRIPTION:
URL:https://mosquefoundation.org/event/tuesday-class/2030-01-08/
CATEGORIES:Mosque Foundation Events
ATTACH;FMTTYPE=image/jpeg:https://mosquefoundation.org/wp-content/uploads/2026/03/tueclass.jpg
END:VEVENT
BEGIN:VEVENT
DTSTART;TZID=America/Chicago:20300109T180000
DTEND;TZID=America/Chicago:20300109T190000
DTSTAMP:20260420T194751
CREATED:20251102T133710Z
LAST-MODIFIED:20260308T175756Z
UID:10046780-1894212000-1894215600@mosquefoundation.org
SUMMARY:Wednesday Class For Women
DESCRIPTION:
URL:https://mosquefoundation.org/event/wednesday-class-for-women-2-2/2030-01-09/
CATEGORIES:Mosque Foundation Events
ATTACH;FMTTYPE=image/jpeg:https://mosquefoundation.org/wp-content/uploads/2024/01/MF_-Women-2024-scaled.jpg
END:VEVENT
BEGIN:VEVENT
DTSTART;TZID=America/Chicago:20300109T214500
DTEND;TZID=America/Chicago:20300109T223000
DTSTAMP:20260420T194751
CREATED:20260330T183840Z
LAST-MODIFIED:20260419T053416Z
UID:10049777-1894225500-1894228200@mosquefoundation.org
SUMMARY:Wednesday Class
DESCRIPTION:
URL:https://mosquefoundation.org/event/wednsday-class/2030-01-09/
CATEGORIES:Mosque Foundation Events
ATTACH;FMTTYPE=image/jpeg:https://mosquefoundation.org/wp-content/uploads/2026/03/wedclass.jpg
END:VEVENT
BEGIN:VEVENT
DTSTART;TZID=America/Chicago:20300110T214500
DTEND;TZID=America/Chicago:20300110T223000
DTSTAMP:20260420T194751
CREATED:20260330T184243Z
LAST-MODIFIED:20260419T053313Z
UID:10049513-1894311900-1894314600@mosquefoundation.org
SUMMARY:Thursday Class
DESCRIPTION:
URL:https://mosquefoundation.org/event/thursday-class/2030-01-10/
CATEGORIES:Mosque Foundation Events
ATTACH;FMTTYPE=image/jpeg:https://mosquefoundation.org/wp-content/uploads/2026/03/thursdayclass.jpg
END:VEVENT
BEGIN:VEVENT
DTSTART;TZID=America/Chicago:20300112T090000
DTEND;TZID=America/Chicago:20300112T130000
DTSTAMP:20260420T194751
CREATED:20250904T001543Z
LAST-MODIFIED:20251102T133041Z
UID:10040689-1894438800-1894453200@mosquefoundation.org
SUMMARY:Saturday Program For Young Women
DESCRIPTION:
URL:https://mosquefoundation.org/event/saturday-program-for-yong-women/2030-01-12/
CATEGORIES:Mosque Foundation Events
ATTACH;FMTTYPE=image/jpeg:https://mosquefoundation.org/wp-content/uploads/2025/09/MF_-Sat-Program-Women-SM-2025.jpg
END:VEVENT
BEGIN:VEVENT
DTSTART;TZID=America/Chicago:20300113T120000
DTEND;TZID=America/Chicago:20300113T130000
DTSTAMP:20260420T194751
CREATED:20240311T190209Z
LAST-MODIFIED:20260419T054313Z
UID:10041377-1894536000-1894539600@mosquefoundation.org
SUMMARY:Spanish Class for Women
DESCRIPTION:
URL:https://mosquefoundation.org/event/spanish-class/2030-01-13/
CATEGORIES:Mosque Foundation Events
ATTACH;FMTTYPE=image/jpeg:https://mosquefoundation.org/wp-content/uploads/2024/03/MF-Spanish-Class-ES-2024-SM-scaled.jpg
END:VEVENT
BEGIN:VEVENT
DTSTART;TZID=America/Chicago:20300113T120000
DTEND;TZID=America/Chicago:20300113T140000
DTSTAMP:20260420T194751
CREATED:20260419T053917Z
LAST-MODIFIED:20260419T053944Z
UID:10050303-1894536000-1894543200@mosquefoundation.org
SUMMARY:English Class for Women
DESCRIPTION:
URL:https://mosquefoundation.org/event/english-class-for-women/2030-01-13/
CATEGORIES:Mosque Foundation Events
ATTACH;FMTTYPE=image/jpeg:https://mosquefoundation.org/wp-content/uploads/2026/04/PHOTO-2026-04-18-06-01-36.jpg
END:VEVENT
BEGIN:VEVENT
DTSTART;TZID=America/Chicago:20300113T211500
DTEND;TZID=America/Chicago:20300113T220000
DTSTAMP:20260420T194751
CREATED:20260409T185427Z
LAST-MODIFIED:20260409T185443Z
UID:10048988-1894569300-1894572000@mosquefoundation.org
SUMMARY:Sunday Class
DESCRIPTION:
URL:https://mosquefoundation.org/event/sunday-class-2/2030-01-13/
CATEGORIES:Mosque Foundation Events
ATTACH;FMTTYPE=image/jpeg:https://mosquefoundation.org/wp-content/uploads/2026/03/MF_-Sh-Jafar-En-2026.jpg
END:VEVENT
BEGIN:VEVENT
DTSTART;TZID=America/Chicago:20300114T214500
DTEND;TZID=America/Chicago:20300114T223000
DTSTAMP:20260420T194751
CREATED:20260330T183316Z
LAST-MODIFIED:20260419T053209Z
UID:10049250-1894657500-1894660200@mosquefoundation.org
SUMMARY:Monday Class
DESCRIPTION:
URL:https://mosquefoundation.org/event/monday-class/2030-01-14/
CATEGORIES:Mosque Foundation Events
ATTACH;FMTTYPE=image/jpeg:https://mosquefoundation.org/wp-content/uploads/2026/03/mondayclass.jpg
END:VEVENT
BEGIN:VEVENT
DTSTART;TZID=America/Chicago:20300115T130000
DTEND;TZID=America/Chicago:20300115T140000
DTSTAMP:20260420T194751
CREATED:20240802T032249Z
LAST-MODIFIED:20260308T174747Z
UID:10046502-1894712400-1894716000@mosquefoundation.org
SUMMARY:Tuesday Class for Sisters
DESCRIPTION:
URL:https://mosquefoundation.org/event/tuesday-class-for-sisters/2030-01-15/
CATEGORIES:Mosque Foundation Events
ATTACH;FMTTYPE=image/jpeg:https://mosquefoundation.org/wp-content/uploads/2023/06/MF_-Tue-Women-2024.jpg
END:VEVENT
BEGIN:VEVENT
DTSTART;TZID=America/Chicago:20300115T214500
DTEND;TZID=America/Chicago:20300115T223000
DTSTAMP:20260420T194751
CREATED:20260330T183652Z
LAST-MODIFIED:20260419T053510Z
UID:10050042-1894743900-1894746600@mosquefoundation.org
SUMMARY:Tuesday Class
DESCRIPTION:
URL:https://mosquefoundation.org/event/tuesday-class/2030-01-15/
CATEGORIES:Mosque Foundation Events
ATTACH;FMTTYPE=image/jpeg:https://mosquefoundation.org/wp-content/uploads/2026/03/tueclass.jpg
END:VEVENT
BEGIN:VEVENT
DTSTART;TZID=America/Chicago:20300116T180000
DTEND;TZID=America/Chicago:20300116T190000
DTSTAMP:20260420T194751
CREATED:20251102T133710Z
LAST-MODIFIED:20260308T175756Z
UID:10046781-1894816800-1894820400@mosquefoundation.org
SUMMARY:Wednesday Class For Women
DESCRIPTION:
URL:https://mosquefoundation.org/event/wednesday-class-for-women-2-2/2030-01-16/
CATEGORIES:Mosque Foundation Events
ATTACH;FMTTYPE=image/jpeg:https://mosquefoundation.org/wp-content/uploads/2024/01/MF_-Women-2024-scaled.jpg
END:VEVENT
BEGIN:VEVENT
DTSTART;TZID=America/Chicago:20300116T214500
DTEND;TZID=America/Chicago:20300116T223000
DTSTAMP:20260420T194751
CREATED:20260330T183840Z
LAST-MODIFIED:20260419T053416Z
UID:10049778-1894830300-1894833000@mosquefoundation.org
SUMMARY:Wednesday Class
DESCRIPTION:
URL:https://mosquefoundation.org/event/wednsday-class/2030-01-16/
CATEGORIES:Mosque Foundation Events
ATTACH;FMTTYPE=image/jpeg:https://mosquefoundation.org/wp-content/uploads/2026/03/wedclass.jpg
END:VEVENT
BEGIN:VEVENT
DTSTART;TZID=America/Chicago:20300117T214500
DTEND;TZID=America/Chicago:20300117T223000
DTSTAMP:20260420T194751
CREATED:20260330T184243Z
LAST-MODIFIED:20260419T053313Z
UID:10049514-1894916700-1894919400@mosquefoundation.org
SUMMARY:Thursday Class
DESCRIPTION:
URL:https://mosquefoundation.org/event/thursday-class/2030-01-17/
CATEGORIES:Mosque Foundation Events
ATTACH;FMTTYPE=image/jpeg:https://mosquefoundation.org/wp-content/uploads/2026/03/thursdayclass.jpg
END:VEVENT
BEGIN:VEVENT
DTSTART;TZID=America/Chicago:20300119T090000
DTEND;TZID=America/Chicago:20300119T130000
DTSTAMP:20260420T194751
CREATED:20250904T001543Z
LAST-MODIFIED:20251102T133041Z
UID:10040690-1895043600-1895058000@mosquefoundation.org
SUMMARY:Saturday Program For Young Women
DESCRIPTION:
URL:https://mosquefoundation.org/event/saturday-program-for-yong-women/2030-01-19/
CATEGORIES:Mosque Foundation Events
ATTACH;FMTTYPE=image/jpeg:https://mosquefoundation.org/wp-content/uploads/2025/09/MF_-Sat-Program-Women-SM-2025.jpg
END:VEVENT
BEGIN:VEVENT
DTSTART;TZID=America/Chicago:20300120T120000
DTEND;TZID=America/Chicago:20300120T130000
DTSTAMP:20260420T194751
CREATED:20240311T190209Z
LAST-MODIFIED:20260419T054313Z
UID:10041378-1895140800-1895144400@mosquefoundation.org
SUMMARY:Spanish Class for Women
DESCRIPTION:
URL:https://mosquefoundation.org/event/spanish-class/2030-01-20/
CATEGORIES:Mosque Foundation Events
ATTACH;FMTTYPE=image/jpeg:https://mosquefoundation.org/wp-content/uploads/2024/03/MF-Spanish-Class-ES-2024-SM-scaled.jpg
END:VEVENT
BEGIN:VEVENT
DTSTART;TZID=America/Chicago:20300120T120000
DTEND;TZID=America/Chicago:20300120T140000
DTSTAMP:20260420T194751
CREATED:20260419T053917Z
LAST-MODIFIED:20260419T053944Z
UID:10050304-1895140800-1895148000@mosquefoundation.org
SUMMARY:English Class for Women
DESCRIPTION:
URL:https://mosquefoundation.org/event/english-class-for-women/2030-01-20/
CATEGORIES:Mosque Foundation Events
ATTACH;FMTTYPE=image/jpeg:https://mosquefoundation.org/wp-content/uploads/2026/04/PHOTO-2026-04-18-06-01-36.jpg
END:VEVENT
BEGIN:VEVENT
DTSTART;TZID=America/Chicago:20300120T211500
DTEND;TZID=America/Chicago:20300120T220000
DTSTAMP:20260420T194751
CREATED:20260409T185427Z
LAST-MODIFIED:20260409T185443Z
UID:10048989-1895174100-1895176800@mosquefoundation.org
SUMMARY:Sunday Class
DESCRIPTION:
URL:https://mosquefoundation.org/event/sunday-class-2/2030-01-20/
CATEGORIES:Mosque Foundation Events
ATTACH;FMTTYPE=image/jpeg:https://mosquefoundation.org/wp-content/uploads/2026/03/MF_-Sh-Jafar-En-2026.jpg
END:VEVENT
BEGIN:VEVENT
DTSTART;TZID=America/Chicago:20300121T214500
DTEND;TZID=America/Chicago:20300121T223000
DTSTAMP:20260420T194751
CREATED:20260330T183316Z
LAST-MODIFIED:20260419T053209Z
UID:10049251-1895262300-1895265000@mosquefoundation.org
SUMMARY:Monday Class
DESCRIPTION:
URL:https://mosquefoundation.org/event/monday-class/2030-01-21/
CATEGORIES:Mosque Foundation Events
ATTACH;FMTTYPE=image/jpeg:https://mosquefoundation.org/wp-content/uploads/2026/03/mondayclass.jpg
END:VEVENT
BEGIN:VEVENT
DTSTART;TZID=America/Chicago:20300122T130000
DTEND;TZID=America/Chicago:20300122T140000
DTSTAMP:20260420T194751
CREATED:20240802T032249Z
LAST-MODIFIED:20260308T174747Z
UID:10046503-1895317200-1895320800@mosquefoundation.org
SUMMARY:Tuesday Class for Sisters
DESCRIPTION:
URL:https://mosquefoundation.org/event/tuesday-class-for-sisters/2030-01-22/
CATEGORIES:Mosque Foundation Events
ATTACH;FMTTYPE=image/jpeg:https://mosquefoundation.org/wp-content/uploads/2023/06/MF_-Tue-Women-2024.jpg
END:VEVENT
BEGIN:VEVENT
DTSTART;TZID=America/Chicago:20300122T214500
DTEND;TZID=America/Chicago:20300122T223000
DTSTAMP:20260420T194751
CREATED:20260330T183652Z
LAST-MODIFIED:20260419T053510Z
UID:10050043-1895348700-1895351400@mosquefoundation.org
SUMMARY:Tuesday Class
DESCRIPTION:
URL:https://mosquefoundation.org/event/tuesday-class/2030-01-22/
CATEGORIES:Mosque Foundation Events
ATTACH;FMTTYPE=image/jpeg:https://mosquefoundation.org/wp-content/uploads/2026/03/tueclass.jpg
END:VEVENT
BEGIN:VEVENT
DTSTART;TZID=America/Chicago:20300123T180000
DTEND;TZID=America/Chicago:20300123T190000
DTSTAMP:20260420T194751
CREATED:20251102T133710Z
LAST-MODIFIED:20260308T175756Z
UID:10046782-1895421600-1895425200@mosquefoundation.org
SUMMARY:Wednesday Class For Women
DESCRIPTION:
URL:https://mosquefoundation.org/event/wednesday-class-for-women-2-2/2030-01-23/
CATEGORIES:Mosque Foundation Events
ATTACH;FMTTYPE=image/jpeg:https://mosquefoundation.org/wp-content/uploads/2024/01/MF_-Women-2024-scaled.jpg
END:VEVENT
BEGIN:VEVENT
DTSTART;TZID=America/Chicago:20300123T214500
DTEND;TZID=America/Chicago:20300123T223000
DTSTAMP:20260420T194751
CREATED:20260330T183840Z
LAST-MODIFIED:20260419T053416Z
UID:10049779-1895435100-1895437800@mosquefoundation.org
SUMMARY:Wednesday Class
DESCRIPTION:
URL:https://mosquefoundation.org/event/wednsday-class/2030-01-23/
CATEGORIES:Mosque Foundation Events
ATTACH;FMTTYPE=image/jpeg:https://mosquefoundation.org/wp-content/uploads/2026/03/wedclass.jpg
END:VEVENT
BEGIN:VEVENT
DTSTART;TZID=America/Chicago:20300124T214500
DTEND;TZID=America/Chicago:20300124T223000
DTSTAMP:20260420T194751
CREATED:20260330T184243Z
LAST-MODIFIED:20260419T053313Z
UID:10049515-1895521500-1895524200@mosquefoundation.org
SUMMARY:Thursday Class
DESCRIPTION:
URL:https://mosquefoundation.org/event/thursday-class/2030-01-24/
CATEGORIES:Mosque Foundation Events
ATTACH;FMTTYPE=image/jpeg:https://mosquefoundation.org/wp-content/uploads/2026/03/thursdayclass.jpg
END:VEVENT
END:VCALENDAR