BEGIN:VCALENDAR
VERSION:2.0
PRODID:-//Mosque Foundation | Bridgeview, Illinois - ECPv6.15.16//NONSGML v1.0//EN
CALSCALE:GREGORIAN
METHOD:PUBLISH
X-WR-CALNAME:Mosque Foundation | Bridgeview, Illinois
X-ORIGINAL-URL:https://mosquefoundation.org
X-WR-CALDESC:Events for Mosque Foundation | Bridgeview, Illinois
REFRESH-INTERVAL;VALUE=DURATION:PT1H
X-Robots-Tag:noindex
X-PUBLISHED-TTL:PT1H
BEGIN:VTIMEZONE
TZID:America/Chicago
BEGIN:DAYLIGHT
TZOFFSETFROM:-0600
TZOFFSETTO:-0500
TZNAME:CDT
DTSTART:20280312T080000
END:DAYLIGHT
BEGIN:STANDARD
TZOFFSETFROM:-0500
TZOFFSETTO:-0600
TZNAME:CST
DTSTART:20281105T070000
END:STANDARD
BEGIN:DAYLIGHT
TZOFFSETFROM:-0600
TZOFFSETTO:-0500
TZNAME:CDT
DTSTART:20290311T080000
END:DAYLIGHT
BEGIN:STANDARD
TZOFFSETFROM:-0500
TZOFFSETTO:-0600
TZNAME:CST
DTSTART:20291104T070000
END:STANDARD
BEGIN:DAYLIGHT
TZOFFSETFROM:-0600
TZOFFSETTO:-0500
TZNAME:CDT
DTSTART:20300310T080000
END:DAYLIGHT
BEGIN:STANDARD
TZOFFSETFROM:-0500
TZOFFSETTO:-0600
TZNAME:CST
DTSTART:20301103T070000
END:STANDARD
END:VTIMEZONE
BEGIN:VEVENT
DTSTART;TZID=America/Chicago:20291013T080000
DTEND;TZID=America/Chicago:20291013T120000
DTSTAMP:20260419T075032
CREATED:20250904T001543Z
LAST-MODIFIED:20251102T133041Z
UID:10040676-1886572800-1886587200@mosquefoundation.org
SUMMARY:Saturday Program For Young Women
DESCRIPTION:
URL:https://mosquefoundation.org/event/saturday-program-for-yong-women/2029-10-13/
CATEGORIES:Mosque Foundation Events
ATTACH;FMTTYPE=image/jpeg:https://mosquefoundation.org/wp-content/uploads/2025/09/MF_-Sat-Program-Women-SM-2025.jpg
END:VEVENT
BEGIN:VEVENT
DTSTART;TZID=America/Chicago:20291014T110000
DTEND;TZID=America/Chicago:20291014T120000
DTSTAMP:20260419T075032
CREATED:20240311T190209Z
LAST-MODIFIED:20260419T054313Z
UID:10041364-1886670000-1886673600@mosquefoundation.org
SUMMARY:Spanish Class for Women
DESCRIPTION:
URL:https://mosquefoundation.org/event/spanish-class/2029-10-14/
CATEGORIES:Mosque Foundation Events
ATTACH;FMTTYPE=image/jpeg:https://mosquefoundation.org/wp-content/uploads/2024/03/MF-Spanish-Class-ES-2024-SM-scaled.jpg
END:VEVENT
BEGIN:VEVENT
DTSTART;TZID=America/Chicago:20291014T110000
DTEND;TZID=America/Chicago:20291014T130000
DTSTAMP:20260419T075032
CREATED:20260419T053917Z
LAST-MODIFIED:20260419T053944Z
UID:10050290-1886670000-1886677200@mosquefoundation.org
SUMMARY:English Class for Women
DESCRIPTION:
URL:https://mosquefoundation.org/event/english-class-for-women/2029-10-14/
CATEGORIES:Mosque Foundation Events
ATTACH;FMTTYPE=image/jpeg:https://mosquefoundation.org/wp-content/uploads/2026/04/PHOTO-2026-04-18-06-01-36.jpg
END:VEVENT
BEGIN:VEVENT
DTSTART;TZID=America/Chicago:20291014T201500
DTEND;TZID=America/Chicago:20291014T210000
DTSTAMP:20260419T075032
CREATED:20260409T185427Z
LAST-MODIFIED:20260409T185443Z
UID:10048975-1886703300-1886706000@mosquefoundation.org
SUMMARY:Sunday Class
DESCRIPTION:
URL:https://mosquefoundation.org/event/sunday-class-2/2029-10-14/
CATEGORIES:Mosque Foundation Events
ATTACH;FMTTYPE=image/jpeg:https://mosquefoundation.org/wp-content/uploads/2026/03/MF_-Sh-Jafar-En-2026.jpg
END:VEVENT
BEGIN:VEVENT
DTSTART;TZID=America/Chicago:20291015T204500
DTEND;TZID=America/Chicago:20291015T213000
DTSTAMP:20260419T075032
CREATED:20260330T183316Z
LAST-MODIFIED:20260419T053209Z
UID:10049237-1886791500-1886794200@mosquefoundation.org
SUMMARY:Monday Class
DESCRIPTION:
URL:https://mosquefoundation.org/event/monday-class/2029-10-15/
CATEGORIES:Mosque Foundation Events
ATTACH;FMTTYPE=image/jpeg:https://mosquefoundation.org/wp-content/uploads/2026/03/mondayclass.jpg
END:VEVENT
BEGIN:VEVENT
DTSTART;TZID=America/Chicago:20291016T120000
DTEND;TZID=America/Chicago:20291016T130000
DTSTAMP:20260419T075032
CREATED:20240802T032249Z
LAST-MODIFIED:20260308T174747Z
UID:10046489-1886846400-1886850000@mosquefoundation.org
SUMMARY:Tuesday Class for Sisters
DESCRIPTION:
URL:https://mosquefoundation.org/event/tuesday-class-for-sisters/2029-10-16/
CATEGORIES:Mosque Foundation Events
ATTACH;FMTTYPE=image/jpeg:https://mosquefoundation.org/wp-content/uploads/2023/06/MF_-Tue-Women-2024.jpg
END:VEVENT
BEGIN:VEVENT
DTSTART;TZID=America/Chicago:20291016T204500
DTEND;TZID=America/Chicago:20291016T213000
DTSTAMP:20260419T075032
CREATED:20260330T183652Z
LAST-MODIFIED:20260419T053510Z
UID:10050029-1886877900-1886880600@mosquefoundation.org
SUMMARY:Tuesday Class
DESCRIPTION:
URL:https://mosquefoundation.org/event/tuesday-class/2029-10-16/
CATEGORIES:Mosque Foundation Events
ATTACH;FMTTYPE=image/jpeg:https://mosquefoundation.org/wp-content/uploads/2026/03/tueclass.jpg
END:VEVENT
BEGIN:VEVENT
DTSTART;TZID=America/Chicago:20291017T170000
DTEND;TZID=America/Chicago:20291017T180000
DTSTAMP:20260419T075032
CREATED:20251102T133710Z
LAST-MODIFIED:20260308T175756Z
UID:10046768-1886950800-1886954400@mosquefoundation.org
SUMMARY:Wednesday Class For Women
DESCRIPTION:
URL:https://mosquefoundation.org/event/wednesday-class-for-women-2-2/2029-10-17/
CATEGORIES:Mosque Foundation Events
ATTACH;FMTTYPE=image/jpeg:https://mosquefoundation.org/wp-content/uploads/2024/01/MF_-Women-2024-scaled.jpg
END:VEVENT
BEGIN:VEVENT
DTSTART;TZID=America/Chicago:20291017T204500
DTEND;TZID=America/Chicago:20291017T213000
DTSTAMP:20260419T075032
CREATED:20260330T183840Z
LAST-MODIFIED:20260419T053416Z
UID:10049765-1886964300-1886967000@mosquefoundation.org
SUMMARY:Wednesday Class
DESCRIPTION:
URL:https://mosquefoundation.org/event/wednsday-class/2029-10-17/
CATEGORIES:Mosque Foundation Events
ATTACH;FMTTYPE=image/jpeg:https://mosquefoundation.org/wp-content/uploads/2026/03/wedclass.jpg
END:VEVENT
BEGIN:VEVENT
DTSTART;TZID=America/Chicago:20291018T204500
DTEND;TZID=America/Chicago:20291018T213000
DTSTAMP:20260419T075032
CREATED:20260330T184243Z
LAST-MODIFIED:20260419T053313Z
UID:10049501-1887050700-1887053400@mosquefoundation.org
SUMMARY:Thursday Class
DESCRIPTION:
URL:https://mosquefoundation.org/event/thursday-class/2029-10-18/
CATEGORIES:Mosque Foundation Events
ATTACH;FMTTYPE=image/jpeg:https://mosquefoundation.org/wp-content/uploads/2026/03/thursdayclass.jpg
END:VEVENT
BEGIN:VEVENT
DTSTART;TZID=America/Chicago:20291020T080000
DTEND;TZID=America/Chicago:20291020T120000
DTSTAMP:20260419T075032
CREATED:20250904T001543Z
LAST-MODIFIED:20251102T133041Z
UID:10040677-1887177600-1887192000@mosquefoundation.org
SUMMARY:Saturday Program For Young Women
DESCRIPTION:
URL:https://mosquefoundation.org/event/saturday-program-for-yong-women/2029-10-20/
CATEGORIES:Mosque Foundation Events
ATTACH;FMTTYPE=image/jpeg:https://mosquefoundation.org/wp-content/uploads/2025/09/MF_-Sat-Program-Women-SM-2025.jpg
END:VEVENT
BEGIN:VEVENT
DTSTART;TZID=America/Chicago:20291021T110000
DTEND;TZID=America/Chicago:20291021T120000
DTSTAMP:20260419T075032
CREATED:20240311T190209Z
LAST-MODIFIED:20260419T054313Z
UID:10041365-1887274800-1887278400@mosquefoundation.org
SUMMARY:Spanish Class for Women
DESCRIPTION:
URL:https://mosquefoundation.org/event/spanish-class/2029-10-21/
CATEGORIES:Mosque Foundation Events
ATTACH;FMTTYPE=image/jpeg:https://mosquefoundation.org/wp-content/uploads/2024/03/MF-Spanish-Class-ES-2024-SM-scaled.jpg
END:VEVENT
BEGIN:VEVENT
DTSTART;TZID=America/Chicago:20291021T110000
DTEND;TZID=America/Chicago:20291021T130000
DTSTAMP:20260419T075032
CREATED:20260419T053917Z
LAST-MODIFIED:20260419T053944Z
UID:10050291-1887274800-1887282000@mosquefoundation.org
SUMMARY:English Class for Women
DESCRIPTION:
URL:https://mosquefoundation.org/event/english-class-for-women/2029-10-21/
CATEGORIES:Mosque Foundation Events
ATTACH;FMTTYPE=image/jpeg:https://mosquefoundation.org/wp-content/uploads/2026/04/PHOTO-2026-04-18-06-01-36.jpg
END:VEVENT
BEGIN:VEVENT
DTSTART;TZID=America/Chicago:20291021T201500
DTEND;TZID=America/Chicago:20291021T210000
DTSTAMP:20260419T075032
CREATED:20260409T185427Z
LAST-MODIFIED:20260409T185443Z
UID:10048976-1887308100-1887310800@mosquefoundation.org
SUMMARY:Sunday Class
DESCRIPTION:
URL:https://mosquefoundation.org/event/sunday-class-2/2029-10-21/
CATEGORIES:Mosque Foundation Events
ATTACH;FMTTYPE=image/jpeg:https://mosquefoundation.org/wp-content/uploads/2026/03/MF_-Sh-Jafar-En-2026.jpg
END:VEVENT
BEGIN:VEVENT
DTSTART;TZID=America/Chicago:20291022T204500
DTEND;TZID=America/Chicago:20291022T213000
DTSTAMP:20260419T075032
CREATED:20260330T183316Z
LAST-MODIFIED:20260419T053209Z
UID:10049238-1887396300-1887399000@mosquefoundation.org
SUMMARY:Monday Class
DESCRIPTION:
URL:https://mosquefoundation.org/event/monday-class/2029-10-22/
CATEGORIES:Mosque Foundation Events
ATTACH;FMTTYPE=image/jpeg:https://mosquefoundation.org/wp-content/uploads/2026/03/mondayclass.jpg
END:VEVENT
BEGIN:VEVENT
DTSTART;TZID=America/Chicago:20291023T120000
DTEND;TZID=America/Chicago:20291023T130000
DTSTAMP:20260419T075032
CREATED:20240802T032249Z
LAST-MODIFIED:20260308T174747Z
UID:10046490-1887451200-1887454800@mosquefoundation.org
SUMMARY:Tuesday Class for Sisters
DESCRIPTION:
URL:https://mosquefoundation.org/event/tuesday-class-for-sisters/2029-10-23/
CATEGORIES:Mosque Foundation Events
ATTACH;FMTTYPE=image/jpeg:https://mosquefoundation.org/wp-content/uploads/2023/06/MF_-Tue-Women-2024.jpg
END:VEVENT
BEGIN:VEVENT
DTSTART;TZID=America/Chicago:20291023T204500
DTEND;TZID=America/Chicago:20291023T213000
DTSTAMP:20260419T075032
CREATED:20260330T183652Z
LAST-MODIFIED:20260419T053510Z
UID:10050030-1887482700-1887485400@mosquefoundation.org
SUMMARY:Tuesday Class
DESCRIPTION:
URL:https://mosquefoundation.org/event/tuesday-class/2029-10-23/
CATEGORIES:Mosque Foundation Events
ATTACH;FMTTYPE=image/jpeg:https://mosquefoundation.org/wp-content/uploads/2026/03/tueclass.jpg
END:VEVENT
BEGIN:VEVENT
DTSTART;TZID=America/Chicago:20291024T170000
DTEND;TZID=America/Chicago:20291024T180000
DTSTAMP:20260419T075032
CREATED:20251102T133710Z
LAST-MODIFIED:20260308T175756Z
UID:10046769-1887555600-1887559200@mosquefoundation.org
SUMMARY:Wednesday Class For Women
DESCRIPTION:
URL:https://mosquefoundation.org/event/wednesday-class-for-women-2-2/2029-10-24/
CATEGORIES:Mosque Foundation Events
ATTACH;FMTTYPE=image/jpeg:https://mosquefoundation.org/wp-content/uploads/2024/01/MF_-Women-2024-scaled.jpg
END:VEVENT
BEGIN:VEVENT
DTSTART;TZID=America/Chicago:20291024T204500
DTEND;TZID=America/Chicago:20291024T213000
DTSTAMP:20260419T075032
CREATED:20260330T183840Z
LAST-MODIFIED:20260419T053416Z
UID:10049766-1887569100-1887571800@mosquefoundation.org
SUMMARY:Wednesday Class
DESCRIPTION:
URL:https://mosquefoundation.org/event/wednsday-class/2029-10-24/
CATEGORIES:Mosque Foundation Events
ATTACH;FMTTYPE=image/jpeg:https://mosquefoundation.org/wp-content/uploads/2026/03/wedclass.jpg
END:VEVENT
BEGIN:VEVENT
DTSTART;TZID=America/Chicago:20291025T204500
DTEND;TZID=America/Chicago:20291025T213000
DTSTAMP:20260419T075032
CREATED:20260330T184243Z
LAST-MODIFIED:20260419T053313Z
UID:10049502-1887655500-1887658200@mosquefoundation.org
SUMMARY:Thursday Class
DESCRIPTION:
URL:https://mosquefoundation.org/event/thursday-class/2029-10-25/
CATEGORIES:Mosque Foundation Events
ATTACH;FMTTYPE=image/jpeg:https://mosquefoundation.org/wp-content/uploads/2026/03/thursdayclass.jpg
END:VEVENT
BEGIN:VEVENT
DTSTART;TZID=America/Chicago:20291027T080000
DTEND;TZID=America/Chicago:20291027T120000
DTSTAMP:20260419T075032
CREATED:20250904T001543Z
LAST-MODIFIED:20251102T133041Z
UID:10040678-1887782400-1887796800@mosquefoundation.org
SUMMARY:Saturday Program For Young Women
DESCRIPTION:
URL:https://mosquefoundation.org/event/saturday-program-for-yong-women/2029-10-27/
CATEGORIES:Mosque Foundation Events
ATTACH;FMTTYPE=image/jpeg:https://mosquefoundation.org/wp-content/uploads/2025/09/MF_-Sat-Program-Women-SM-2025.jpg
END:VEVENT
BEGIN:VEVENT
DTSTART;TZID=America/Chicago:20291028T110000
DTEND;TZID=America/Chicago:20291028T120000
DTSTAMP:20260419T075032
CREATED:20240311T190209Z
LAST-MODIFIED:20260419T054313Z
UID:10041366-1887879600-1887883200@mosquefoundation.org
SUMMARY:Spanish Class for Women
DESCRIPTION:
URL:https://mosquefoundation.org/event/spanish-class/2029-10-28/
CATEGORIES:Mosque Foundation Events
ATTACH;FMTTYPE=image/jpeg:https://mosquefoundation.org/wp-content/uploads/2024/03/MF-Spanish-Class-ES-2024-SM-scaled.jpg
END:VEVENT
BEGIN:VEVENT
DTSTART;TZID=America/Chicago:20291028T110000
DTEND;TZID=America/Chicago:20291028T130000
DTSTAMP:20260419T075032
CREATED:20260419T053917Z
LAST-MODIFIED:20260419T053944Z
UID:10050292-1887879600-1887886800@mosquefoundation.org
SUMMARY:English Class for Women
DESCRIPTION:
URL:https://mosquefoundation.org/event/english-class-for-women/2029-10-28/
CATEGORIES:Mosque Foundation Events
ATTACH;FMTTYPE=image/jpeg:https://mosquefoundation.org/wp-content/uploads/2026/04/PHOTO-2026-04-18-06-01-36.jpg
END:VEVENT
BEGIN:VEVENT
DTSTART;TZID=America/Chicago:20291028T201500
DTEND;TZID=America/Chicago:20291028T210000
DTSTAMP:20260419T075032
CREATED:20260409T185427Z
LAST-MODIFIED:20260409T185443Z
UID:10048977-1887912900-1887915600@mosquefoundation.org
SUMMARY:Sunday Class
DESCRIPTION:
URL:https://mosquefoundation.org/event/sunday-class-2/2029-10-28/
CATEGORIES:Mosque Foundation Events
ATTACH;FMTTYPE=image/jpeg:https://mosquefoundation.org/wp-content/uploads/2026/03/MF_-Sh-Jafar-En-2026.jpg
END:VEVENT
BEGIN:VEVENT
DTSTART;TZID=America/Chicago:20291029T204500
DTEND;TZID=America/Chicago:20291029T213000
DTSTAMP:20260419T075032
CREATED:20260330T183316Z
LAST-MODIFIED:20260419T053209Z
UID:10049239-1888001100-1888003800@mosquefoundation.org
SUMMARY:Monday Class
DESCRIPTION:
URL:https://mosquefoundation.org/event/monday-class/2029-10-29/
CATEGORIES:Mosque Foundation Events
ATTACH;FMTTYPE=image/jpeg:https://mosquefoundation.org/wp-content/uploads/2026/03/mondayclass.jpg
END:VEVENT
BEGIN:VEVENT
DTSTART;TZID=America/Chicago:20291030T120000
DTEND;TZID=America/Chicago:20291030T130000
DTSTAMP:20260419T075032
CREATED:20240802T032249Z
LAST-MODIFIED:20260308T174747Z
UID:10046491-1888056000-1888059600@mosquefoundation.org
SUMMARY:Tuesday Class for Sisters
DESCRIPTION:
URL:https://mosquefoundation.org/event/tuesday-class-for-sisters/2029-10-30/
CATEGORIES:Mosque Foundation Events
ATTACH;FMTTYPE=image/jpeg:https://mosquefoundation.org/wp-content/uploads/2023/06/MF_-Tue-Women-2024.jpg
END:VEVENT
BEGIN:VEVENT
DTSTART;TZID=America/Chicago:20291030T204500
DTEND;TZID=America/Chicago:20291030T213000
DTSTAMP:20260419T075032
CREATED:20260330T183652Z
LAST-MODIFIED:20260419T053510Z
UID:10050031-1888087500-1888090200@mosquefoundation.org
SUMMARY:Tuesday Class
DESCRIPTION:
URL:https://mosquefoundation.org/event/tuesday-class/2029-10-30/
CATEGORIES:Mosque Foundation Events
ATTACH;FMTTYPE=image/jpeg:https://mosquefoundation.org/wp-content/uploads/2026/03/tueclass.jpg
END:VEVENT
BEGIN:VEVENT
DTSTART;TZID=America/Chicago:20291031T170000
DTEND;TZID=America/Chicago:20291031T180000
DTSTAMP:20260419T075032
CREATED:20251102T133710Z
LAST-MODIFIED:20260308T175756Z
UID:10046770-1888160400-1888164000@mosquefoundation.org
SUMMARY:Wednesday Class For Women
DESCRIPTION:
URL:https://mosquefoundation.org/event/wednesday-class-for-women-2-2/2029-10-31/
CATEGORIES:Mosque Foundation Events
ATTACH;FMTTYPE=image/jpeg:https://mosquefoundation.org/wp-content/uploads/2024/01/MF_-Women-2024-scaled.jpg
END:VEVENT
BEGIN:VEVENT
DTSTART;TZID=America/Chicago:20291031T204500
DTEND;TZID=America/Chicago:20291031T213000
DTSTAMP:20260419T075032
CREATED:20260330T183840Z
LAST-MODIFIED:20260419T053416Z
UID:10049767-1888173900-1888176600@mosquefoundation.org
SUMMARY:Wednesday Class
DESCRIPTION:
URL:https://mosquefoundation.org/event/wednsday-class/2029-10-31/
CATEGORIES:Mosque Foundation Events
ATTACH;FMTTYPE=image/jpeg:https://mosquefoundation.org/wp-content/uploads/2026/03/wedclass.jpg
END:VEVENT
BEGIN:VEVENT
DTSTART;TZID=America/Chicago:20291101T204500
DTEND;TZID=America/Chicago:20291101T213000
DTSTAMP:20260419T075032
CREATED:20260330T184243Z
LAST-MODIFIED:20260419T053313Z
UID:10049503-1888260300-1888263000@mosquefoundation.org
SUMMARY:Thursday Class
DESCRIPTION:
URL:https://mosquefoundation.org/event/thursday-class/2029-11-01/
CATEGORIES:Mosque Foundation Events
ATTACH;FMTTYPE=image/jpeg:https://mosquefoundation.org/wp-content/uploads/2026/03/thursdayclass.jpg
END:VEVENT
END:VCALENDAR