BEGIN:VCALENDAR
VERSION:2.0
PRODID:-//Mosque Foundation | Bridgeview, Illinois - ECPv6.15.16//NONSGML v1.0//EN
CALSCALE:GREGORIAN
METHOD:PUBLISH
X-ORIGINAL-URL:https://mosquefoundation.org
X-WR-CALDESC:Events for Mosque Foundation | Bridgeview, Illinois
REFRESH-INTERVAL;VALUE=DURATION:PT1H
X-Robots-Tag:noindex
X-PUBLISHED-TTL:PT1H
BEGIN:VTIMEZONE
TZID:America/Chicago
BEGIN:DAYLIGHT
TZOFFSETFROM:-0600
TZOFFSETTO:-0500
TZNAME:CDT
DTSTART:20270314T080000
END:DAYLIGHT
BEGIN:STANDARD
TZOFFSETFROM:-0500
TZOFFSETTO:-0600
TZNAME:CST
DTSTART:20271107T070000
END:STANDARD
BEGIN:DAYLIGHT
TZOFFSETFROM:-0600
TZOFFSETTO:-0500
TZNAME:CDT
DTSTART:20280312T080000
END:DAYLIGHT
BEGIN:STANDARD
TZOFFSETFROM:-0500
TZOFFSETTO:-0600
TZNAME:CST
DTSTART:20281105T070000
END:STANDARD
BEGIN:DAYLIGHT
TZOFFSETFROM:-0600
TZOFFSETTO:-0500
TZNAME:CDT
DTSTART:20290311T080000
END:DAYLIGHT
BEGIN:STANDARD
TZOFFSETFROM:-0500
TZOFFSETTO:-0600
TZNAME:CST
DTSTART:20291104T070000
END:STANDARD
END:VTIMEZONE
BEGIN:VEVENT
DTSTART;TZID=America/Chicago:20280806T110000
DTEND;TZID=America/Chicago:20280806T120000
DTSTAMP:20260420T195854
CREATED:20240311T190209Z
LAST-MODIFIED:20260419T054313Z
UID:10041302-1849172400-1849176000@mosquefoundation.org
SUMMARY:Spanish Class for Women
DESCRIPTION:
URL:https://mosquefoundation.org/event/spanish-class/2028-08-06/
CATEGORIES:Mosque Foundation Events
ATTACH;FMTTYPE=image/jpeg:https://mosquefoundation.org/wp-content/uploads/2024/03/MF-Spanish-Class-ES-2024-SM-scaled.jpg
END:VEVENT
BEGIN:VEVENT
DTSTART;TZID=America/Chicago:20280806T110000
DTEND;TZID=America/Chicago:20280806T130000
DTSTAMP:20260420T195854
CREATED:20260419T053917Z
LAST-MODIFIED:20260419T053944Z
UID:10050228-1849172400-1849179600@mosquefoundation.org
SUMMARY:English Class for Women
DESCRIPTION:
URL:https://mosquefoundation.org/event/english-class-for-women/2028-08-06/
CATEGORIES:Mosque Foundation Events
ATTACH;FMTTYPE=image/jpeg:https://mosquefoundation.org/wp-content/uploads/2026/04/PHOTO-2026-04-18-06-01-36.jpg
END:VEVENT
BEGIN:VEVENT
DTSTART;TZID=America/Chicago:20280806T201500
DTEND;TZID=America/Chicago:20280806T210000
DTSTAMP:20260420T195854
CREATED:20260409T185427Z
LAST-MODIFIED:20260409T185443Z
UID:10048913-1849205700-1849208400@mosquefoundation.org
SUMMARY:Sunday Class
DESCRIPTION:
URL:https://mosquefoundation.org/event/sunday-class-2/2028-08-06/
CATEGORIES:Mosque Foundation Events
ATTACH;FMTTYPE=image/jpeg:https://mosquefoundation.org/wp-content/uploads/2026/03/MF_-Sh-Jafar-En-2026.jpg
END:VEVENT
BEGIN:VEVENT
DTSTART;TZID=America/Chicago:20280807T204500
DTEND;TZID=America/Chicago:20280807T213000
DTSTAMP:20260420T195854
CREATED:20260330T183316Z
LAST-MODIFIED:20260419T053209Z
UID:10049175-1849293900-1849296600@mosquefoundation.org
SUMMARY:Monday Class
DESCRIPTION:
URL:https://mosquefoundation.org/event/monday-class/2028-08-07/
CATEGORIES:Mosque Foundation Events
ATTACH;FMTTYPE=image/jpeg:https://mosquefoundation.org/wp-content/uploads/2026/03/mondayclass.jpg
END:VEVENT
BEGIN:VEVENT
DTSTART;TZID=America/Chicago:20280808T120000
DTEND;TZID=America/Chicago:20280808T130000
DTSTAMP:20260420T195854
CREATED:20240802T032249Z
LAST-MODIFIED:20260308T174747Z
UID:10046427-1849348800-1849352400@mosquefoundation.org
SUMMARY:Tuesday Class for Sisters
DESCRIPTION:
URL:https://mosquefoundation.org/event/tuesday-class-for-sisters/2028-08-08/
CATEGORIES:Mosque Foundation Events
ATTACH;FMTTYPE=image/jpeg:https://mosquefoundation.org/wp-content/uploads/2023/06/MF_-Tue-Women-2024.jpg
END:VEVENT
BEGIN:VEVENT
DTSTART;TZID=America/Chicago:20280808T204500
DTEND;TZID=America/Chicago:20280808T213000
DTSTAMP:20260420T195854
CREATED:20260330T183652Z
LAST-MODIFIED:20260419T053510Z
UID:10049967-1849380300-1849383000@mosquefoundation.org
SUMMARY:Tuesday Class
DESCRIPTION:
URL:https://mosquefoundation.org/event/tuesday-class/2028-08-08/
CATEGORIES:Mosque Foundation Events
ATTACH;FMTTYPE=image/jpeg:https://mosquefoundation.org/wp-content/uploads/2026/03/tueclass.jpg
END:VEVENT
BEGIN:VEVENT
DTSTART;TZID=America/Chicago:20280809T170000
DTEND;TZID=America/Chicago:20280809T180000
DTSTAMP:20260420T195854
CREATED:20251102T133710Z
LAST-MODIFIED:20260308T175756Z
UID:10046706-1849453200-1849456800@mosquefoundation.org
SUMMARY:Wednesday Class For Women
DESCRIPTION:
URL:https://mosquefoundation.org/event/wednesday-class-for-women-2-2/2028-08-09/
CATEGORIES:Mosque Foundation Events
ATTACH;FMTTYPE=image/jpeg:https://mosquefoundation.org/wp-content/uploads/2024/01/MF_-Women-2024-scaled.jpg
END:VEVENT
BEGIN:VEVENT
DTSTART;TZID=America/Chicago:20280809T204500
DTEND;TZID=America/Chicago:20280809T213000
DTSTAMP:20260420T195854
CREATED:20260330T183840Z
LAST-MODIFIED:20260419T053416Z
UID:10049703-1849466700-1849469400@mosquefoundation.org
SUMMARY:Wednesday Class
DESCRIPTION:
URL:https://mosquefoundation.org/event/wednsday-class/2028-08-09/
CATEGORIES:Mosque Foundation Events
ATTACH;FMTTYPE=image/jpeg:https://mosquefoundation.org/wp-content/uploads/2026/03/wedclass.jpg
END:VEVENT
BEGIN:VEVENT
DTSTART;TZID=America/Chicago:20280810T204500
DTEND;TZID=America/Chicago:20280810T213000
DTSTAMP:20260420T195854
CREATED:20260330T184243Z
LAST-MODIFIED:20260419T053313Z
UID:10049439-1849553100-1849555800@mosquefoundation.org
SUMMARY:Thursday Class
DESCRIPTION:
URL:https://mosquefoundation.org/event/thursday-class/2028-08-10/
CATEGORIES:Mosque Foundation Events
ATTACH;FMTTYPE=image/jpeg:https://mosquefoundation.org/wp-content/uploads/2026/03/thursdayclass.jpg
END:VEVENT
BEGIN:VEVENT
DTSTART;TZID=America/Chicago:20280812T080000
DTEND;TZID=America/Chicago:20280812T120000
DTSTAMP:20260420T195854
CREATED:20250904T001543Z
LAST-MODIFIED:20251102T133041Z
UID:10040615-1849680000-1849694400@mosquefoundation.org
SUMMARY:Saturday Program For Young Women
DESCRIPTION:
URL:https://mosquefoundation.org/event/saturday-program-for-yong-women/2028-08-12/
CATEGORIES:Mosque Foundation Events
ATTACH;FMTTYPE=image/jpeg:https://mosquefoundation.org/wp-content/uploads/2025/09/MF_-Sat-Program-Women-SM-2025.jpg
END:VEVENT
BEGIN:VEVENT
DTSTART;TZID=America/Chicago:20280813T110000
DTEND;TZID=America/Chicago:20280813T120000
DTSTAMP:20260420T195854
CREATED:20240311T190209Z
LAST-MODIFIED:20260419T054313Z
UID:10041303-1849777200-1849780800@mosquefoundation.org
SUMMARY:Spanish Class for Women
DESCRIPTION:
URL:https://mosquefoundation.org/event/spanish-class/2028-08-13/
CATEGORIES:Mosque Foundation Events
ATTACH;FMTTYPE=image/jpeg:https://mosquefoundation.org/wp-content/uploads/2024/03/MF-Spanish-Class-ES-2024-SM-scaled.jpg
END:VEVENT
BEGIN:VEVENT
DTSTART;TZID=America/Chicago:20280813T110000
DTEND;TZID=America/Chicago:20280813T130000
DTSTAMP:20260420T195854
CREATED:20260419T053917Z
LAST-MODIFIED:20260419T053944Z
UID:10050229-1849777200-1849784400@mosquefoundation.org
SUMMARY:English Class for Women
DESCRIPTION:
URL:https://mosquefoundation.org/event/english-class-for-women/2028-08-13/
CATEGORIES:Mosque Foundation Events
ATTACH;FMTTYPE=image/jpeg:https://mosquefoundation.org/wp-content/uploads/2026/04/PHOTO-2026-04-18-06-01-36.jpg
END:VEVENT
BEGIN:VEVENT
DTSTART;TZID=America/Chicago:20280813T201500
DTEND;TZID=America/Chicago:20280813T210000
DTSTAMP:20260420T195854
CREATED:20260409T185427Z
LAST-MODIFIED:20260409T185443Z
UID:10048914-1849810500-1849813200@mosquefoundation.org
SUMMARY:Sunday Class
DESCRIPTION:
URL:https://mosquefoundation.org/event/sunday-class-2/2028-08-13/
CATEGORIES:Mosque Foundation Events
ATTACH;FMTTYPE=image/jpeg:https://mosquefoundation.org/wp-content/uploads/2026/03/MF_-Sh-Jafar-En-2026.jpg
END:VEVENT
BEGIN:VEVENT
DTSTART;TZID=America/Chicago:20280814T204500
DTEND;TZID=America/Chicago:20280814T213000
DTSTAMP:20260420T195854
CREATED:20260330T183316Z
LAST-MODIFIED:20260419T053209Z
UID:10049176-1849898700-1849901400@mosquefoundation.org
SUMMARY:Monday Class
DESCRIPTION:
URL:https://mosquefoundation.org/event/monday-class/2028-08-14/
CATEGORIES:Mosque Foundation Events
ATTACH;FMTTYPE=image/jpeg:https://mosquefoundation.org/wp-content/uploads/2026/03/mondayclass.jpg
END:VEVENT
BEGIN:VEVENT
DTSTART;TZID=America/Chicago:20280815T120000
DTEND;TZID=America/Chicago:20280815T130000
DTSTAMP:20260420T195854
CREATED:20240802T032249Z
LAST-MODIFIED:20260308T174747Z
UID:10046428-1849953600-1849957200@mosquefoundation.org
SUMMARY:Tuesday Class for Sisters
DESCRIPTION:
URL:https://mosquefoundation.org/event/tuesday-class-for-sisters/2028-08-15/
CATEGORIES:Mosque Foundation Events
ATTACH;FMTTYPE=image/jpeg:https://mosquefoundation.org/wp-content/uploads/2023/06/MF_-Tue-Women-2024.jpg
END:VEVENT
BEGIN:VEVENT
DTSTART;TZID=America/Chicago:20280815T204500
DTEND;TZID=America/Chicago:20280815T213000
DTSTAMP:20260420T195854
CREATED:20260330T183652Z
LAST-MODIFIED:20260419T053510Z
UID:10049968-1849985100-1849987800@mosquefoundation.org
SUMMARY:Tuesday Class
DESCRIPTION:
URL:https://mosquefoundation.org/event/tuesday-class/2028-08-15/
CATEGORIES:Mosque Foundation Events
ATTACH;FMTTYPE=image/jpeg:https://mosquefoundation.org/wp-content/uploads/2026/03/tueclass.jpg
END:VEVENT
BEGIN:VEVENT
DTSTART;TZID=America/Chicago:20280816T170000
DTEND;TZID=America/Chicago:20280816T180000
DTSTAMP:20260420T195854
CREATED:20251102T133710Z
LAST-MODIFIED:20260308T175756Z
UID:10046707-1850058000-1850061600@mosquefoundation.org
SUMMARY:Wednesday Class For Women
DESCRIPTION:
URL:https://mosquefoundation.org/event/wednesday-class-for-women-2-2/2028-08-16/
CATEGORIES:Mosque Foundation Events
ATTACH;FMTTYPE=image/jpeg:https://mosquefoundation.org/wp-content/uploads/2024/01/MF_-Women-2024-scaled.jpg
END:VEVENT
BEGIN:VEVENT
DTSTART;TZID=America/Chicago:20280816T204500
DTEND;TZID=America/Chicago:20280816T213000
DTSTAMP:20260420T195854
CREATED:20260330T183840Z
LAST-MODIFIED:20260419T053416Z
UID:10049704-1850071500-1850074200@mosquefoundation.org
SUMMARY:Wednesday Class
DESCRIPTION:
URL:https://mosquefoundation.org/event/wednsday-class/2028-08-16/
CATEGORIES:Mosque Foundation Events
ATTACH;FMTTYPE=image/jpeg:https://mosquefoundation.org/wp-content/uploads/2026/03/wedclass.jpg
END:VEVENT
BEGIN:VEVENT
DTSTART;TZID=America/Chicago:20280817T204500
DTEND;TZID=America/Chicago:20280817T213000
DTSTAMP:20260420T195854
CREATED:20260330T184243Z
LAST-MODIFIED:20260419T053313Z
UID:10049440-1850157900-1850160600@mosquefoundation.org
SUMMARY:Thursday Class
DESCRIPTION:
URL:https://mosquefoundation.org/event/thursday-class/2028-08-17/
CATEGORIES:Mosque Foundation Events
ATTACH;FMTTYPE=image/jpeg:https://mosquefoundation.org/wp-content/uploads/2026/03/thursdayclass.jpg
END:VEVENT
BEGIN:VEVENT
DTSTART;TZID=America/Chicago:20280819T080000
DTEND;TZID=America/Chicago:20280819T120000
DTSTAMP:20260420T195854
CREATED:20250904T001543Z
LAST-MODIFIED:20251102T133041Z
UID:10040616-1850284800-1850299200@mosquefoundation.org
SUMMARY:Saturday Program For Young Women
DESCRIPTION:
URL:https://mosquefoundation.org/event/saturday-program-for-yong-women/2028-08-19/
CATEGORIES:Mosque Foundation Events
ATTACH;FMTTYPE=image/jpeg:https://mosquefoundation.org/wp-content/uploads/2025/09/MF_-Sat-Program-Women-SM-2025.jpg
END:VEVENT
BEGIN:VEVENT
DTSTART;TZID=America/Chicago:20280820T110000
DTEND;TZID=America/Chicago:20280820T120000
DTSTAMP:20260420T195854
CREATED:20240311T190209Z
LAST-MODIFIED:20260419T054313Z
UID:10041304-1850382000-1850385600@mosquefoundation.org
SUMMARY:Spanish Class for Women
DESCRIPTION:
URL:https://mosquefoundation.org/event/spanish-class/2028-08-20/
CATEGORIES:Mosque Foundation Events
ATTACH;FMTTYPE=image/jpeg:https://mosquefoundation.org/wp-content/uploads/2024/03/MF-Spanish-Class-ES-2024-SM-scaled.jpg
END:VEVENT
BEGIN:VEVENT
DTSTART;TZID=America/Chicago:20280820T110000
DTEND;TZID=America/Chicago:20280820T130000
DTSTAMP:20260420T195854
CREATED:20260419T053917Z
LAST-MODIFIED:20260419T053944Z
UID:10050230-1850382000-1850389200@mosquefoundation.org
SUMMARY:English Class for Women
DESCRIPTION:
URL:https://mosquefoundation.org/event/english-class-for-women/2028-08-20/
CATEGORIES:Mosque Foundation Events
ATTACH;FMTTYPE=image/jpeg:https://mosquefoundation.org/wp-content/uploads/2026/04/PHOTO-2026-04-18-06-01-36.jpg
END:VEVENT
BEGIN:VEVENT
DTSTART;TZID=America/Chicago:20280820T201500
DTEND;TZID=America/Chicago:20280820T210000
DTSTAMP:20260420T195854
CREATED:20260409T185427Z
LAST-MODIFIED:20260409T185443Z
UID:10048915-1850415300-1850418000@mosquefoundation.org
SUMMARY:Sunday Class
DESCRIPTION:
URL:https://mosquefoundation.org/event/sunday-class-2/2028-08-20/
CATEGORIES:Mosque Foundation Events
ATTACH;FMTTYPE=image/jpeg:https://mosquefoundation.org/wp-content/uploads/2026/03/MF_-Sh-Jafar-En-2026.jpg
END:VEVENT
BEGIN:VEVENT
DTSTART;TZID=America/Chicago:20280821T204500
DTEND;TZID=America/Chicago:20280821T213000
DTSTAMP:20260420T195854
CREATED:20260330T183316Z
LAST-MODIFIED:20260419T053209Z
UID:10049177-1850503500-1850506200@mosquefoundation.org
SUMMARY:Monday Class
DESCRIPTION:
URL:https://mosquefoundation.org/event/monday-class/2028-08-21/
CATEGORIES:Mosque Foundation Events
ATTACH;FMTTYPE=image/jpeg:https://mosquefoundation.org/wp-content/uploads/2026/03/mondayclass.jpg
END:VEVENT
BEGIN:VEVENT
DTSTART;TZID=America/Chicago:20280822T120000
DTEND;TZID=America/Chicago:20280822T130000
DTSTAMP:20260420T195854
CREATED:20240802T032249Z
LAST-MODIFIED:20260308T174747Z
UID:10046429-1850558400-1850562000@mosquefoundation.org
SUMMARY:Tuesday Class for Sisters
DESCRIPTION:
URL:https://mosquefoundation.org/event/tuesday-class-for-sisters/2028-08-22/
CATEGORIES:Mosque Foundation Events
ATTACH;FMTTYPE=image/jpeg:https://mosquefoundation.org/wp-content/uploads/2023/06/MF_-Tue-Women-2024.jpg
END:VEVENT
BEGIN:VEVENT
DTSTART;TZID=America/Chicago:20280822T204500
DTEND;TZID=America/Chicago:20280822T213000
DTSTAMP:20260420T195854
CREATED:20260330T183652Z
LAST-MODIFIED:20260419T053510Z
UID:10049969-1850589900-1850592600@mosquefoundation.org
SUMMARY:Tuesday Class
DESCRIPTION:
URL:https://mosquefoundation.org/event/tuesday-class/2028-08-22/
CATEGORIES:Mosque Foundation Events
ATTACH;FMTTYPE=image/jpeg:https://mosquefoundation.org/wp-content/uploads/2026/03/tueclass.jpg
END:VEVENT
BEGIN:VEVENT
DTSTART;TZID=America/Chicago:20280823T170000
DTEND;TZID=America/Chicago:20280823T180000
DTSTAMP:20260420T195854
CREATED:20251102T133710Z
LAST-MODIFIED:20260308T175756Z
UID:10046708-1850662800-1850666400@mosquefoundation.org
SUMMARY:Wednesday Class For Women
DESCRIPTION:
URL:https://mosquefoundation.org/event/wednesday-class-for-women-2-2/2028-08-23/
CATEGORIES:Mosque Foundation Events
ATTACH;FMTTYPE=image/jpeg:https://mosquefoundation.org/wp-content/uploads/2024/01/MF_-Women-2024-scaled.jpg
END:VEVENT
BEGIN:VEVENT
DTSTART;TZID=America/Chicago:20280823T204500
DTEND;TZID=America/Chicago:20280823T213000
DTSTAMP:20260420T195854
CREATED:20260330T183840Z
LAST-MODIFIED:20260419T053416Z
UID:10049705-1850676300-1850679000@mosquefoundation.org
SUMMARY:Wednesday Class
DESCRIPTION:
URL:https://mosquefoundation.org/event/wednsday-class/2028-08-23/
CATEGORIES:Mosque Foundation Events
ATTACH;FMTTYPE=image/jpeg:https://mosquefoundation.org/wp-content/uploads/2026/03/wedclass.jpg
END:VEVENT
BEGIN:VEVENT
DTSTART;TZID=America/Chicago:20280824T204500
DTEND;TZID=America/Chicago:20280824T213000
DTSTAMP:20260420T195854
CREATED:20260330T184243Z
LAST-MODIFIED:20260419T053313Z
UID:10049441-1850762700-1850765400@mosquefoundation.org
SUMMARY:Thursday Class
DESCRIPTION:
URL:https://mosquefoundation.org/event/thursday-class/2028-08-24/
CATEGORIES:Mosque Foundation Events
ATTACH;FMTTYPE=image/jpeg:https://mosquefoundation.org/wp-content/uploads/2026/03/thursdayclass.jpg
END:VEVENT
BEGIN:VEVENT
DTSTART;TZID=America/Chicago:20280826T080000
DTEND;TZID=America/Chicago:20280826T120000
DTSTAMP:20260420T195854
CREATED:20250904T001543Z
LAST-MODIFIED:20251102T133041Z
UID:10040617-1850889600-1850904000@mosquefoundation.org
SUMMARY:Saturday Program For Young Women
DESCRIPTION:
URL:https://mosquefoundation.org/event/saturday-program-for-yong-women/2028-08-26/
CATEGORIES:Mosque Foundation Events
ATTACH;FMTTYPE=image/jpeg:https://mosquefoundation.org/wp-content/uploads/2025/09/MF_-Sat-Program-Women-SM-2025.jpg
END:VEVENT
END:VCALENDAR