BEGIN:VCALENDAR
VERSION:2.0
PRODID:-//Mosque Foundation | Bridgeview, Illinois - ECPv6.15.16//NONSGML v1.0//EN
CALSCALE:GREGORIAN
METHOD:PUBLISH
X-WR-CALNAME:Mosque Foundation | Bridgeview, Illinois
X-ORIGINAL-URL:https://mosquefoundation.org
X-WR-CALDESC:Events for Mosque Foundation | Bridgeview, Illinois
REFRESH-INTERVAL;VALUE=DURATION:PT1H
X-Robots-Tag:noindex
X-PUBLISHED-TTL:PT1H
BEGIN:VTIMEZONE
TZID:America/Chicago
BEGIN:DAYLIGHT
TZOFFSETFROM:-0600
TZOFFSETTO:-0500
TZNAME:CDT
DTSTART:20260308T080000
END:DAYLIGHT
BEGIN:STANDARD
TZOFFSETFROM:-0500
TZOFFSETTO:-0600
TZNAME:CST
DTSTART:20261101T070000
END:STANDARD
BEGIN:DAYLIGHT
TZOFFSETFROM:-0600
TZOFFSETTO:-0500
TZNAME:CDT
DTSTART:20270314T080000
END:DAYLIGHT
BEGIN:STANDARD
TZOFFSETFROM:-0500
TZOFFSETTO:-0600
TZNAME:CST
DTSTART:20271107T070000
END:STANDARD
BEGIN:DAYLIGHT
TZOFFSETFROM:-0600
TZOFFSETTO:-0500
TZNAME:CDT
DTSTART:20280312T080000
END:DAYLIGHT
BEGIN:STANDARD
TZOFFSETFROM:-0500
TZOFFSETTO:-0600
TZNAME:CST
DTSTART:20281105T070000
END:STANDARD
END:VTIMEZONE
BEGIN:VEVENT
DTSTART;TZID=America/Chicago:20270822T110000
DTEND;TZID=America/Chicago:20270822T120000
DTSTAMP:20260420T231302
CREATED:20240311T190209Z
LAST-MODIFIED:20260419T054313Z
UID:10041252-1818932400-1818936000@mosquefoundation.org
SUMMARY:Spanish Class for Women
DESCRIPTION:
URL:https://mosquefoundation.org/event/spanish-class/2027-08-22/
CATEGORIES:Mosque Foundation Events
ATTACH;FMTTYPE=image/jpeg:https://mosquefoundation.org/wp-content/uploads/2024/03/MF-Spanish-Class-ES-2024-SM-scaled.jpg
END:VEVENT
BEGIN:VEVENT
DTSTART;TZID=America/Chicago:20270822T110000
DTEND;TZID=America/Chicago:20270822T130000
DTSTAMP:20260420T231302
CREATED:20260419T053917Z
LAST-MODIFIED:20260419T053944Z
UID:10050178-1818932400-1818939600@mosquefoundation.org
SUMMARY:English Class for Women
DESCRIPTION:
URL:https://mosquefoundation.org/event/english-class-for-women/2027-08-22/
CATEGORIES:Mosque Foundation Events
ATTACH;FMTTYPE=image/jpeg:https://mosquefoundation.org/wp-content/uploads/2026/04/PHOTO-2026-04-18-06-01-36.jpg
END:VEVENT
BEGIN:VEVENT
DTSTART;TZID=America/Chicago:20270822T201500
DTEND;TZID=America/Chicago:20270822T210000
DTSTAMP:20260420T231302
CREATED:20260409T185427Z
LAST-MODIFIED:20260409T185443Z
UID:10048863-1818965700-1818968400@mosquefoundation.org
SUMMARY:Sunday Class
DESCRIPTION:
URL:https://mosquefoundation.org/event/sunday-class-2/2027-08-22/
CATEGORIES:Mosque Foundation Events
ATTACH;FMTTYPE=image/jpeg:https://mosquefoundation.org/wp-content/uploads/2026/03/MF_-Sh-Jafar-En-2026.jpg
END:VEVENT
BEGIN:VEVENT
DTSTART;TZID=America/Chicago:20270823T204500
DTEND;TZID=America/Chicago:20270823T213000
DTSTAMP:20260420T231302
CREATED:20260330T183316Z
LAST-MODIFIED:20260419T053209Z
UID:10049125-1819053900-1819056600@mosquefoundation.org
SUMMARY:Monday Class
DESCRIPTION:
URL:https://mosquefoundation.org/event/monday-class/2027-08-23/
CATEGORIES:Mosque Foundation Events
ATTACH;FMTTYPE=image/jpeg:https://mosquefoundation.org/wp-content/uploads/2026/03/mondayclass.jpg
END:VEVENT
BEGIN:VEVENT
DTSTART;TZID=America/Chicago:20270824T120000
DTEND;TZID=America/Chicago:20270824T130000
DTSTAMP:20260420T231302
CREATED:20240802T032249Z
LAST-MODIFIED:20260308T174747Z
UID:10046377-1819108800-1819112400@mosquefoundation.org
SUMMARY:Tuesday Class for Sisters
DESCRIPTION:
URL:https://mosquefoundation.org/event/tuesday-class-for-sisters/2027-08-24/
CATEGORIES:Mosque Foundation Events
ATTACH;FMTTYPE=image/jpeg:https://mosquefoundation.org/wp-content/uploads/2023/06/MF_-Tue-Women-2024.jpg
END:VEVENT
BEGIN:VEVENT
DTSTART;TZID=America/Chicago:20270824T204500
DTEND;TZID=America/Chicago:20270824T213000
DTSTAMP:20260420T231302
CREATED:20260330T183652Z
LAST-MODIFIED:20260419T053510Z
UID:10049917-1819140300-1819143000@mosquefoundation.org
SUMMARY:Tuesday Class
DESCRIPTION:
URL:https://mosquefoundation.org/event/tuesday-class/2027-08-24/
CATEGORIES:Mosque Foundation Events
ATTACH;FMTTYPE=image/jpeg:https://mosquefoundation.org/wp-content/uploads/2026/03/tueclass.jpg
END:VEVENT
BEGIN:VEVENT
DTSTART;TZID=America/Chicago:20270825T170000
DTEND;TZID=America/Chicago:20270825T180000
DTSTAMP:20260420T231302
CREATED:20251102T133710Z
LAST-MODIFIED:20260308T175756Z
UID:10046656-1819213200-1819216800@mosquefoundation.org
SUMMARY:Wednesday Class For Women
DESCRIPTION:
URL:https://mosquefoundation.org/event/wednesday-class-for-women-2-2/2027-08-25/
CATEGORIES:Mosque Foundation Events
ATTACH;FMTTYPE=image/jpeg:https://mosquefoundation.org/wp-content/uploads/2024/01/MF_-Women-2024-scaled.jpg
END:VEVENT
BEGIN:VEVENT
DTSTART;TZID=America/Chicago:20270825T204500
DTEND;TZID=America/Chicago:20270825T213000
DTSTAMP:20260420T231302
CREATED:20260330T183840Z
LAST-MODIFIED:20260419T053416Z
UID:10049653-1819226700-1819229400@mosquefoundation.org
SUMMARY:Wednesday Class
DESCRIPTION:
URL:https://mosquefoundation.org/event/wednsday-class/2027-08-25/
CATEGORIES:Mosque Foundation Events
ATTACH;FMTTYPE=image/jpeg:https://mosquefoundation.org/wp-content/uploads/2026/03/wedclass.jpg
END:VEVENT
BEGIN:VEVENT
DTSTART;TZID=America/Chicago:20270826T204500
DTEND;TZID=America/Chicago:20270826T213000
DTSTAMP:20260420T231302
CREATED:20260330T184243Z
LAST-MODIFIED:20260419T053313Z
UID:10049389-1819313100-1819315800@mosquefoundation.org
SUMMARY:Thursday Class
DESCRIPTION:
URL:https://mosquefoundation.org/event/thursday-class/2027-08-26/
CATEGORIES:Mosque Foundation Events
ATTACH;FMTTYPE=image/jpeg:https://mosquefoundation.org/wp-content/uploads/2026/03/thursdayclass.jpg
END:VEVENT
BEGIN:VEVENT
DTSTART;TZID=America/Chicago:20270828T080000
DTEND;TZID=America/Chicago:20270828T120000
DTSTAMP:20260420T231302
CREATED:20250904T001543Z
LAST-MODIFIED:20251102T133041Z
UID:10040565-1819440000-1819454400@mosquefoundation.org
SUMMARY:Saturday Program For Young Women
DESCRIPTION:
URL:https://mosquefoundation.org/event/saturday-program-for-yong-women/2027-08-28/
CATEGORIES:Mosque Foundation Events
ATTACH;FMTTYPE=image/jpeg:https://mosquefoundation.org/wp-content/uploads/2025/09/MF_-Sat-Program-Women-SM-2025.jpg
END:VEVENT
BEGIN:VEVENT
DTSTART;TZID=America/Chicago:20270829T110000
DTEND;TZID=America/Chicago:20270829T120000
DTSTAMP:20260420T231302
CREATED:20240311T190209Z
LAST-MODIFIED:20260419T054313Z
UID:10041253-1819537200-1819540800@mosquefoundation.org
SUMMARY:Spanish Class for Women
DESCRIPTION:
URL:https://mosquefoundation.org/event/spanish-class/2027-08-29/
CATEGORIES:Mosque Foundation Events
ATTACH;FMTTYPE=image/jpeg:https://mosquefoundation.org/wp-content/uploads/2024/03/MF-Spanish-Class-ES-2024-SM-scaled.jpg
END:VEVENT
BEGIN:VEVENT
DTSTART;TZID=America/Chicago:20270829T110000
DTEND;TZID=America/Chicago:20270829T130000
DTSTAMP:20260420T231302
CREATED:20260419T053917Z
LAST-MODIFIED:20260419T053944Z
UID:10050179-1819537200-1819544400@mosquefoundation.org
SUMMARY:English Class for Women
DESCRIPTION:
URL:https://mosquefoundation.org/event/english-class-for-women/2027-08-29/
CATEGORIES:Mosque Foundation Events
ATTACH;FMTTYPE=image/jpeg:https://mosquefoundation.org/wp-content/uploads/2026/04/PHOTO-2026-04-18-06-01-36.jpg
END:VEVENT
BEGIN:VEVENT
DTSTART;TZID=America/Chicago:20270829T201500
DTEND;TZID=America/Chicago:20270829T210000
DTSTAMP:20260420T231302
CREATED:20260409T185427Z
LAST-MODIFIED:20260409T185443Z
UID:10048864-1819570500-1819573200@mosquefoundation.org
SUMMARY:Sunday Class
DESCRIPTION:
URL:https://mosquefoundation.org/event/sunday-class-2/2027-08-29/
CATEGORIES:Mosque Foundation Events
ATTACH;FMTTYPE=image/jpeg:https://mosquefoundation.org/wp-content/uploads/2026/03/MF_-Sh-Jafar-En-2026.jpg
END:VEVENT
BEGIN:VEVENT
DTSTART;TZID=America/Chicago:20270830T204500
DTEND;TZID=America/Chicago:20270830T213000
DTSTAMP:20260420T231302
CREATED:20260330T183316Z
LAST-MODIFIED:20260419T053209Z
UID:10049126-1819658700-1819661400@mosquefoundation.org
SUMMARY:Monday Class
DESCRIPTION:
URL:https://mosquefoundation.org/event/monday-class/2027-08-30/
CATEGORIES:Mosque Foundation Events
ATTACH;FMTTYPE=image/jpeg:https://mosquefoundation.org/wp-content/uploads/2026/03/mondayclass.jpg
END:VEVENT
BEGIN:VEVENT
DTSTART;TZID=America/Chicago:20270831T120000
DTEND;TZID=America/Chicago:20270831T130000
DTSTAMP:20260420T231302
CREATED:20240802T032249Z
LAST-MODIFIED:20260308T174747Z
UID:10046378-1819713600-1819717200@mosquefoundation.org
SUMMARY:Tuesday Class for Sisters
DESCRIPTION:
URL:https://mosquefoundation.org/event/tuesday-class-for-sisters/2027-08-31/
CATEGORIES:Mosque Foundation Events
ATTACH;FMTTYPE=image/jpeg:https://mosquefoundation.org/wp-content/uploads/2023/06/MF_-Tue-Women-2024.jpg
END:VEVENT
BEGIN:VEVENT
DTSTART;TZID=America/Chicago:20270831T204500
DTEND;TZID=America/Chicago:20270831T213000
DTSTAMP:20260420T231302
CREATED:20260330T183652Z
LAST-MODIFIED:20260419T053510Z
UID:10049918-1819745100-1819747800@mosquefoundation.org
SUMMARY:Tuesday Class
DESCRIPTION:
URL:https://mosquefoundation.org/event/tuesday-class/2027-08-31/
CATEGORIES:Mosque Foundation Events
ATTACH;FMTTYPE=image/jpeg:https://mosquefoundation.org/wp-content/uploads/2026/03/tueclass.jpg
END:VEVENT
BEGIN:VEVENT
DTSTART;TZID=America/Chicago:20270901T170000
DTEND;TZID=America/Chicago:20270901T180000
DTSTAMP:20260420T231302
CREATED:20251102T133710Z
LAST-MODIFIED:20260308T175756Z
UID:10046657-1819818000-1819821600@mosquefoundation.org
SUMMARY:Wednesday Class For Women
DESCRIPTION:
URL:https://mosquefoundation.org/event/wednesday-class-for-women-2-2/2027-09-01/
CATEGORIES:Mosque Foundation Events
ATTACH;FMTTYPE=image/jpeg:https://mosquefoundation.org/wp-content/uploads/2024/01/MF_-Women-2024-scaled.jpg
END:VEVENT
BEGIN:VEVENT
DTSTART;TZID=America/Chicago:20270901T204500
DTEND;TZID=America/Chicago:20270901T213000
DTSTAMP:20260420T231302
CREATED:20260330T183840Z
LAST-MODIFIED:20260419T053416Z
UID:10049654-1819831500-1819834200@mosquefoundation.org
SUMMARY:Wednesday Class
DESCRIPTION:
URL:https://mosquefoundation.org/event/wednsday-class/2027-09-01/
CATEGORIES:Mosque Foundation Events
ATTACH;FMTTYPE=image/jpeg:https://mosquefoundation.org/wp-content/uploads/2026/03/wedclass.jpg
END:VEVENT
BEGIN:VEVENT
DTSTART;TZID=America/Chicago:20270902T204500
DTEND;TZID=America/Chicago:20270902T213000
DTSTAMP:20260420T231302
CREATED:20260330T184243Z
LAST-MODIFIED:20260419T053313Z
UID:10049390-1819917900-1819920600@mosquefoundation.org
SUMMARY:Thursday Class
DESCRIPTION:
URL:https://mosquefoundation.org/event/thursday-class/2027-09-02/
CATEGORIES:Mosque Foundation Events
ATTACH;FMTTYPE=image/jpeg:https://mosquefoundation.org/wp-content/uploads/2026/03/thursdayclass.jpg
END:VEVENT
BEGIN:VEVENT
DTSTART;TZID=America/Chicago:20270904T080000
DTEND;TZID=America/Chicago:20270904T120000
DTSTAMP:20260420T231302
CREATED:20250904T001543Z
LAST-MODIFIED:20251102T133041Z
UID:10040566-1820044800-1820059200@mosquefoundation.org
SUMMARY:Saturday Program For Young Women
DESCRIPTION:
URL:https://mosquefoundation.org/event/saturday-program-for-yong-women/2027-09-04/
CATEGORIES:Mosque Foundation Events
ATTACH;FMTTYPE=image/jpeg:https://mosquefoundation.org/wp-content/uploads/2025/09/MF_-Sat-Program-Women-SM-2025.jpg
END:VEVENT
BEGIN:VEVENT
DTSTART;TZID=America/Chicago:20270905T110000
DTEND;TZID=America/Chicago:20270905T120000
DTSTAMP:20260420T231302
CREATED:20240311T190209Z
LAST-MODIFIED:20260419T054313Z
UID:10041254-1820142000-1820145600@mosquefoundation.org
SUMMARY:Spanish Class for Women
DESCRIPTION:
URL:https://mosquefoundation.org/event/spanish-class/2027-09-05/
CATEGORIES:Mosque Foundation Events
ATTACH;FMTTYPE=image/jpeg:https://mosquefoundation.org/wp-content/uploads/2024/03/MF-Spanish-Class-ES-2024-SM-scaled.jpg
END:VEVENT
BEGIN:VEVENT
DTSTART;TZID=America/Chicago:20270905T110000
DTEND;TZID=America/Chicago:20270905T130000
DTSTAMP:20260420T231302
CREATED:20260419T053917Z
LAST-MODIFIED:20260419T053944Z
UID:10050180-1820142000-1820149200@mosquefoundation.org
SUMMARY:English Class for Women
DESCRIPTION:
URL:https://mosquefoundation.org/event/english-class-for-women/2027-09-05/
CATEGORIES:Mosque Foundation Events
ATTACH;FMTTYPE=image/jpeg:https://mosquefoundation.org/wp-content/uploads/2026/04/PHOTO-2026-04-18-06-01-36.jpg
END:VEVENT
BEGIN:VEVENT
DTSTART;TZID=America/Chicago:20270905T201500
DTEND;TZID=America/Chicago:20270905T210000
DTSTAMP:20260420T231302
CREATED:20260409T185427Z
LAST-MODIFIED:20260409T185443Z
UID:10048865-1820175300-1820178000@mosquefoundation.org
SUMMARY:Sunday Class
DESCRIPTION:
URL:https://mosquefoundation.org/event/sunday-class-2/2027-09-05/
CATEGORIES:Mosque Foundation Events
ATTACH;FMTTYPE=image/jpeg:https://mosquefoundation.org/wp-content/uploads/2026/03/MF_-Sh-Jafar-En-2026.jpg
END:VEVENT
BEGIN:VEVENT
DTSTART;TZID=America/Chicago:20270906T204500
DTEND;TZID=America/Chicago:20270906T213000
DTSTAMP:20260420T231302
CREATED:20260330T183316Z
LAST-MODIFIED:20260419T053209Z
UID:10049127-1820263500-1820266200@mosquefoundation.org
SUMMARY:Monday Class
DESCRIPTION:
URL:https://mosquefoundation.org/event/monday-class/2027-09-06/
CATEGORIES:Mosque Foundation Events
ATTACH;FMTTYPE=image/jpeg:https://mosquefoundation.org/wp-content/uploads/2026/03/mondayclass.jpg
END:VEVENT
BEGIN:VEVENT
DTSTART;TZID=America/Chicago:20270907T120000
DTEND;TZID=America/Chicago:20270907T130000
DTSTAMP:20260420T231302
CREATED:20240802T032249Z
LAST-MODIFIED:20260308T174747Z
UID:10046379-1820318400-1820322000@mosquefoundation.org
SUMMARY:Tuesday Class for Sisters
DESCRIPTION:
URL:https://mosquefoundation.org/event/tuesday-class-for-sisters/2027-09-07/
CATEGORIES:Mosque Foundation Events
ATTACH;FMTTYPE=image/jpeg:https://mosquefoundation.org/wp-content/uploads/2023/06/MF_-Tue-Women-2024.jpg
END:VEVENT
BEGIN:VEVENT
DTSTART;TZID=America/Chicago:20270907T204500
DTEND;TZID=America/Chicago:20270907T213000
DTSTAMP:20260420T231302
CREATED:20260330T183652Z
LAST-MODIFIED:20260419T053510Z
UID:10049919-1820349900-1820352600@mosquefoundation.org
SUMMARY:Tuesday Class
DESCRIPTION:
URL:https://mosquefoundation.org/event/tuesday-class/2027-09-07/
CATEGORIES:Mosque Foundation Events
ATTACH;FMTTYPE=image/jpeg:https://mosquefoundation.org/wp-content/uploads/2026/03/tueclass.jpg
END:VEVENT
BEGIN:VEVENT
DTSTART;TZID=America/Chicago:20270908T170000
DTEND;TZID=America/Chicago:20270908T180000
DTSTAMP:20260420T231302
CREATED:20251102T133710Z
LAST-MODIFIED:20260308T175756Z
UID:10046658-1820422800-1820426400@mosquefoundation.org
SUMMARY:Wednesday Class For Women
DESCRIPTION:
URL:https://mosquefoundation.org/event/wednesday-class-for-women-2-2/2027-09-08/
CATEGORIES:Mosque Foundation Events
ATTACH;FMTTYPE=image/jpeg:https://mosquefoundation.org/wp-content/uploads/2024/01/MF_-Women-2024-scaled.jpg
END:VEVENT
BEGIN:VEVENT
DTSTART;TZID=America/Chicago:20270908T204500
DTEND;TZID=America/Chicago:20270908T213000
DTSTAMP:20260420T231302
CREATED:20260330T183840Z
LAST-MODIFIED:20260419T053416Z
UID:10049655-1820436300-1820439000@mosquefoundation.org
SUMMARY:Wednesday Class
DESCRIPTION:
URL:https://mosquefoundation.org/event/wednsday-class/2027-09-08/
CATEGORIES:Mosque Foundation Events
ATTACH;FMTTYPE=image/jpeg:https://mosquefoundation.org/wp-content/uploads/2026/03/wedclass.jpg
END:VEVENT
BEGIN:VEVENT
DTSTART;TZID=America/Chicago:20270909T204500
DTEND;TZID=America/Chicago:20270909T213000
DTSTAMP:20260420T231302
CREATED:20260330T184243Z
LAST-MODIFIED:20260419T053313Z
UID:10049391-1820522700-1820525400@mosquefoundation.org
SUMMARY:Thursday Class
DESCRIPTION:
URL:https://mosquefoundation.org/event/thursday-class/2027-09-09/
CATEGORIES:Mosque Foundation Events
ATTACH;FMTTYPE=image/jpeg:https://mosquefoundation.org/wp-content/uploads/2026/03/thursdayclass.jpg
END:VEVENT
BEGIN:VEVENT
DTSTART;TZID=America/Chicago:20270911T080000
DTEND;TZID=America/Chicago:20270911T120000
DTSTAMP:20260420T231302
CREATED:20250904T001543Z
LAST-MODIFIED:20251102T133041Z
UID:10040567-1820649600-1820664000@mosquefoundation.org
SUMMARY:Saturday Program For Young Women
DESCRIPTION:
URL:https://mosquefoundation.org/event/saturday-program-for-yong-women/2027-09-11/
CATEGORIES:Mosque Foundation Events
ATTACH;FMTTYPE=image/jpeg:https://mosquefoundation.org/wp-content/uploads/2025/09/MF_-Sat-Program-Women-SM-2025.jpg
END:VEVENT
END:VCALENDAR