BEGIN:VCALENDAR
VERSION:2.0
PRODID:-//Mosque Foundation | Bridgeview, Illinois - ECPv6.15.16//NONSGML v1.0//EN
CALSCALE:GREGORIAN
METHOD:PUBLISH
X-WR-CALNAME:Mosque Foundation | Bridgeview, Illinois
X-ORIGINAL-URL:https://mosquefoundation.org
X-WR-CALDESC:Events for Mosque Foundation | Bridgeview, Illinois
REFRESH-INTERVAL;VALUE=DURATION:PT1H
X-Robots-Tag:noindex
X-PUBLISHED-TTL:PT1H
BEGIN:VTIMEZONE
TZID:America/Chicago
BEGIN:DAYLIGHT
TZOFFSETFROM:-0600
TZOFFSETTO:-0500
TZNAME:CDT
DTSTART:20260308T080000
END:DAYLIGHT
BEGIN:STANDARD
TZOFFSETFROM:-0500
TZOFFSETTO:-0600
TZNAME:CST
DTSTART:20261101T070000
END:STANDARD
BEGIN:DAYLIGHT
TZOFFSETFROM:-0600
TZOFFSETTO:-0500
TZNAME:CDT
DTSTART:20270314T080000
END:DAYLIGHT
BEGIN:STANDARD
TZOFFSETFROM:-0500
TZOFFSETTO:-0600
TZNAME:CST
DTSTART:20271107T070000
END:STANDARD
BEGIN:DAYLIGHT
TZOFFSETFROM:-0600
TZOFFSETTO:-0500
TZNAME:CDT
DTSTART:20280312T080000
END:DAYLIGHT
BEGIN:STANDARD
TZOFFSETFROM:-0500
TZOFFSETTO:-0600
TZNAME:CST
DTSTART:20281105T070000
END:STANDARD
END:VTIMEZONE
BEGIN:VEVENT
DTSTART;TZID=America/Chicago:20270120T180000
DTEND;TZID=America/Chicago:20270120T190000
DTSTAMP:20260419T221010
CREATED:20251102T133710Z
LAST-MODIFIED:20260308T175756Z
UID:10046625-1800468000-1800471600@mosquefoundation.org
SUMMARY:Wednesday Class For Women
DESCRIPTION:
URL:https://mosquefoundation.org/event/wednesday-class-for-women-2-2/2027-01-20/
CATEGORIES:Mosque Foundation Events
ATTACH;FMTTYPE=image/jpeg:https://mosquefoundation.org/wp-content/uploads/2024/01/MF_-Women-2024-scaled.jpg
END:VEVENT
BEGIN:VEVENT
DTSTART;TZID=America/Chicago:20270120T214500
DTEND;TZID=America/Chicago:20270120T223000
DTSTAMP:20260419T221010
CREATED:20260330T183840Z
LAST-MODIFIED:20260419T053416Z
UID:10049622-1800481500-1800484200@mosquefoundation.org
SUMMARY:Wednesday Class
DESCRIPTION:
URL:https://mosquefoundation.org/event/wednsday-class/2027-01-20/
CATEGORIES:Mosque Foundation Events
ATTACH;FMTTYPE=image/jpeg:https://mosquefoundation.org/wp-content/uploads/2026/03/wedclass.jpg
END:VEVENT
BEGIN:VEVENT
DTSTART;TZID=America/Chicago:20270121T214500
DTEND;TZID=America/Chicago:20270121T223000
DTSTAMP:20260419T221010
CREATED:20260330T184243Z
LAST-MODIFIED:20260419T053313Z
UID:10049358-1800567900-1800570600@mosquefoundation.org
SUMMARY:Thursday Class
DESCRIPTION:
URL:https://mosquefoundation.org/event/thursday-class/2027-01-21/
CATEGORIES:Mosque Foundation Events
ATTACH;FMTTYPE=image/jpeg:https://mosquefoundation.org/wp-content/uploads/2026/03/thursdayclass.jpg
END:VEVENT
BEGIN:VEVENT
DTSTART;TZID=America/Chicago:20270123T090000
DTEND;TZID=America/Chicago:20270123T130000
DTSTAMP:20260419T221010
CREATED:20250904T001543Z
LAST-MODIFIED:20251102T133041Z
UID:10040534-1800694800-1800709200@mosquefoundation.org
SUMMARY:Saturday Program For Young Women
DESCRIPTION:
URL:https://mosquefoundation.org/event/saturday-program-for-yong-women/2027-01-23/
CATEGORIES:Mosque Foundation Events
ATTACH;FMTTYPE=image/jpeg:https://mosquefoundation.org/wp-content/uploads/2025/09/MF_-Sat-Program-Women-SM-2025.jpg
END:VEVENT
BEGIN:VEVENT
DTSTART;TZID=America/Chicago:20270124T120000
DTEND;TZID=America/Chicago:20270124T130000
DTSTAMP:20260419T221010
CREATED:20240311T190209Z
LAST-MODIFIED:20260419T054313Z
UID:10041222-1800792000-1800795600@mosquefoundation.org
SUMMARY:Spanish Class for Women
DESCRIPTION:
URL:https://mosquefoundation.org/event/spanish-class/2027-01-24/
CATEGORIES:Mosque Foundation Events
ATTACH;FMTTYPE=image/jpeg:https://mosquefoundation.org/wp-content/uploads/2024/03/MF-Spanish-Class-ES-2024-SM-scaled.jpg
END:VEVENT
BEGIN:VEVENT
DTSTART;TZID=America/Chicago:20270124T120000
DTEND;TZID=America/Chicago:20270124T140000
DTSTAMP:20260419T221010
CREATED:20260419T053917Z
LAST-MODIFIED:20260419T053944Z
UID:10050148-1800792000-1800799200@mosquefoundation.org
SUMMARY:English Class for Women
DESCRIPTION:
URL:https://mosquefoundation.org/event/english-class-for-women/2027-01-24/
CATEGORIES:Mosque Foundation Events
ATTACH;FMTTYPE=image/jpeg:https://mosquefoundation.org/wp-content/uploads/2026/04/PHOTO-2026-04-18-06-01-36.jpg
END:VEVENT
BEGIN:VEVENT
DTSTART;TZID=America/Chicago:20270124T211500
DTEND;TZID=America/Chicago:20270124T220000
DTSTAMP:20260419T221010
CREATED:20260409T185427Z
LAST-MODIFIED:20260409T185443Z
UID:10048833-1800825300-1800828000@mosquefoundation.org
SUMMARY:Sunday Class
DESCRIPTION:
URL:https://mosquefoundation.org/event/sunday-class-2/2027-01-24/
CATEGORIES:Mosque Foundation Events
ATTACH;FMTTYPE=image/jpeg:https://mosquefoundation.org/wp-content/uploads/2026/03/MF_-Sh-Jafar-En-2026.jpg
END:VEVENT
BEGIN:VEVENT
DTSTART;TZID=America/Chicago:20270125T214500
DTEND;TZID=America/Chicago:20270125T223000
DTSTAMP:20260419T221010
CREATED:20260330T183316Z
LAST-MODIFIED:20260419T053209Z
UID:10049095-1800913500-1800916200@mosquefoundation.org
SUMMARY:Monday Class
DESCRIPTION:
URL:https://mosquefoundation.org/event/monday-class/2027-01-25/
CATEGORIES:Mosque Foundation Events
ATTACH;FMTTYPE=image/jpeg:https://mosquefoundation.org/wp-content/uploads/2026/03/mondayclass.jpg
END:VEVENT
BEGIN:VEVENT
DTSTART;TZID=America/Chicago:20270126T130000
DTEND;TZID=America/Chicago:20270126T140000
DTSTAMP:20260419T221010
CREATED:20240802T032249Z
LAST-MODIFIED:20260308T174747Z
UID:10046347-1800968400-1800972000@mosquefoundation.org
SUMMARY:Tuesday Class for Sisters
DESCRIPTION:
URL:https://mosquefoundation.org/event/tuesday-class-for-sisters/2027-01-26/
CATEGORIES:Mosque Foundation Events
ATTACH;FMTTYPE=image/jpeg:https://mosquefoundation.org/wp-content/uploads/2023/06/MF_-Tue-Women-2024.jpg
END:VEVENT
BEGIN:VEVENT
DTSTART;TZID=America/Chicago:20270126T214500
DTEND;TZID=America/Chicago:20270126T223000
DTSTAMP:20260419T221010
CREATED:20260330T183652Z
LAST-MODIFIED:20260419T053510Z
UID:10049887-1800999900-1801002600@mosquefoundation.org
SUMMARY:Tuesday Class
DESCRIPTION:
URL:https://mosquefoundation.org/event/tuesday-class/2027-01-26/
CATEGORIES:Mosque Foundation Events
ATTACH;FMTTYPE=image/jpeg:https://mosquefoundation.org/wp-content/uploads/2026/03/tueclass.jpg
END:VEVENT
BEGIN:VEVENT
DTSTART;TZID=America/Chicago:20270127T180000
DTEND;TZID=America/Chicago:20270127T190000
DTSTAMP:20260419T221010
CREATED:20251102T133710Z
LAST-MODIFIED:20260308T175756Z
UID:10046626-1801072800-1801076400@mosquefoundation.org
SUMMARY:Wednesday Class For Women
DESCRIPTION:
URL:https://mosquefoundation.org/event/wednesday-class-for-women-2-2/2027-01-27/
CATEGORIES:Mosque Foundation Events
ATTACH;FMTTYPE=image/jpeg:https://mosquefoundation.org/wp-content/uploads/2024/01/MF_-Women-2024-scaled.jpg
END:VEVENT
BEGIN:VEVENT
DTSTART;TZID=America/Chicago:20270127T214500
DTEND;TZID=America/Chicago:20270127T223000
DTSTAMP:20260419T221010
CREATED:20260330T183840Z
LAST-MODIFIED:20260419T053416Z
UID:10049623-1801086300-1801089000@mosquefoundation.org
SUMMARY:Wednesday Class
DESCRIPTION:
URL:https://mosquefoundation.org/event/wednsday-class/2027-01-27/
CATEGORIES:Mosque Foundation Events
ATTACH;FMTTYPE=image/jpeg:https://mosquefoundation.org/wp-content/uploads/2026/03/wedclass.jpg
END:VEVENT
BEGIN:VEVENT
DTSTART;TZID=America/Chicago:20270128T214500
DTEND;TZID=America/Chicago:20270128T223000
DTSTAMP:20260419T221010
CREATED:20260330T184243Z
LAST-MODIFIED:20260419T053313Z
UID:10049359-1801172700-1801175400@mosquefoundation.org
SUMMARY:Thursday Class
DESCRIPTION:
URL:https://mosquefoundation.org/event/thursday-class/2027-01-28/
CATEGORIES:Mosque Foundation Events
ATTACH;FMTTYPE=image/jpeg:https://mosquefoundation.org/wp-content/uploads/2026/03/thursdayclass.jpg
END:VEVENT
BEGIN:VEVENT
DTSTART;TZID=America/Chicago:20270130T090000
DTEND;TZID=America/Chicago:20270130T130000
DTSTAMP:20260419T221010
CREATED:20250904T001543Z
LAST-MODIFIED:20251102T133041Z
UID:10040535-1801299600-1801314000@mosquefoundation.org
SUMMARY:Saturday Program For Young Women
DESCRIPTION:
URL:https://mosquefoundation.org/event/saturday-program-for-yong-women/2027-01-30/
CATEGORIES:Mosque Foundation Events
ATTACH;FMTTYPE=image/jpeg:https://mosquefoundation.org/wp-content/uploads/2025/09/MF_-Sat-Program-Women-SM-2025.jpg
END:VEVENT
BEGIN:VEVENT
DTSTART;TZID=America/Chicago:20270131T120000
DTEND;TZID=America/Chicago:20270131T130000
DTSTAMP:20260419T221010
CREATED:20240311T190209Z
LAST-MODIFIED:20260419T054313Z
UID:10041223-1801396800-1801400400@mosquefoundation.org
SUMMARY:Spanish Class for Women
DESCRIPTION:
URL:https://mosquefoundation.org/event/spanish-class/2027-01-31/
CATEGORIES:Mosque Foundation Events
ATTACH;FMTTYPE=image/jpeg:https://mosquefoundation.org/wp-content/uploads/2024/03/MF-Spanish-Class-ES-2024-SM-scaled.jpg
END:VEVENT
BEGIN:VEVENT
DTSTART;TZID=America/Chicago:20270131T120000
DTEND;TZID=America/Chicago:20270131T140000
DTSTAMP:20260419T221010
CREATED:20260419T053917Z
LAST-MODIFIED:20260419T053944Z
UID:10050149-1801396800-1801404000@mosquefoundation.org
SUMMARY:English Class for Women
DESCRIPTION:
URL:https://mosquefoundation.org/event/english-class-for-women/2027-01-31/
CATEGORIES:Mosque Foundation Events
ATTACH;FMTTYPE=image/jpeg:https://mosquefoundation.org/wp-content/uploads/2026/04/PHOTO-2026-04-18-06-01-36.jpg
END:VEVENT
BEGIN:VEVENT
DTSTART;TZID=America/Chicago:20270131T211500
DTEND;TZID=America/Chicago:20270131T220000
DTSTAMP:20260419T221010
CREATED:20260409T185427Z
LAST-MODIFIED:20260409T185443Z
UID:10048834-1801430100-1801432800@mosquefoundation.org
SUMMARY:Sunday Class
DESCRIPTION:
URL:https://mosquefoundation.org/event/sunday-class-2/2027-01-31/
CATEGORIES:Mosque Foundation Events
ATTACH;FMTTYPE=image/jpeg:https://mosquefoundation.org/wp-content/uploads/2026/03/MF_-Sh-Jafar-En-2026.jpg
END:VEVENT
BEGIN:VEVENT
DTSTART;TZID=America/Chicago:20270201T214500
DTEND;TZID=America/Chicago:20270201T223000
DTSTAMP:20260419T221010
CREATED:20260330T183316Z
LAST-MODIFIED:20260419T053209Z
UID:10049096-1801518300-1801521000@mosquefoundation.org
SUMMARY:Monday Class
DESCRIPTION:
URL:https://mosquefoundation.org/event/monday-class/2027-02-01/
CATEGORIES:Mosque Foundation Events
ATTACH;FMTTYPE=image/jpeg:https://mosquefoundation.org/wp-content/uploads/2026/03/mondayclass.jpg
END:VEVENT
BEGIN:VEVENT
DTSTART;TZID=America/Chicago:20270202T130000
DTEND;TZID=America/Chicago:20270202T140000
DTSTAMP:20260419T221010
CREATED:20240802T032249Z
LAST-MODIFIED:20260308T174747Z
UID:10046348-1801573200-1801576800@mosquefoundation.org
SUMMARY:Tuesday Class for Sisters
DESCRIPTION:
URL:https://mosquefoundation.org/event/tuesday-class-for-sisters/2027-02-02/
CATEGORIES:Mosque Foundation Events
ATTACH;FMTTYPE=image/jpeg:https://mosquefoundation.org/wp-content/uploads/2023/06/MF_-Tue-Women-2024.jpg
END:VEVENT
BEGIN:VEVENT
DTSTART;TZID=America/Chicago:20270202T214500
DTEND;TZID=America/Chicago:20270202T223000
DTSTAMP:20260419T221010
CREATED:20260330T183652Z
LAST-MODIFIED:20260419T053510Z
UID:10049888-1801604700-1801607400@mosquefoundation.org
SUMMARY:Tuesday Class
DESCRIPTION:
URL:https://mosquefoundation.org/event/tuesday-class/2027-02-02/
CATEGORIES:Mosque Foundation Events
ATTACH;FMTTYPE=image/jpeg:https://mosquefoundation.org/wp-content/uploads/2026/03/tueclass.jpg
END:VEVENT
BEGIN:VEVENT
DTSTART;TZID=America/Chicago:20270203T180000
DTEND;TZID=America/Chicago:20270203T190000
DTSTAMP:20260419T221010
CREATED:20251102T133710Z
LAST-MODIFIED:20260308T175756Z
UID:10046627-1801677600-1801681200@mosquefoundation.org
SUMMARY:Wednesday Class For Women
DESCRIPTION:
URL:https://mosquefoundation.org/event/wednesday-class-for-women-2-2/2027-02-03/
CATEGORIES:Mosque Foundation Events
ATTACH;FMTTYPE=image/jpeg:https://mosquefoundation.org/wp-content/uploads/2024/01/MF_-Women-2024-scaled.jpg
END:VEVENT
BEGIN:VEVENT
DTSTART;TZID=America/Chicago:20270203T214500
DTEND;TZID=America/Chicago:20270203T223000
DTSTAMP:20260419T221010
CREATED:20260330T183840Z
LAST-MODIFIED:20260419T053416Z
UID:10049624-1801691100-1801693800@mosquefoundation.org
SUMMARY:Wednesday Class
DESCRIPTION:
URL:https://mosquefoundation.org/event/wednsday-class/2027-02-03/
CATEGORIES:Mosque Foundation Events
ATTACH;FMTTYPE=image/jpeg:https://mosquefoundation.org/wp-content/uploads/2026/03/wedclass.jpg
END:VEVENT
BEGIN:VEVENT
DTSTART;TZID=America/Chicago:20270204T214500
DTEND;TZID=America/Chicago:20270204T223000
DTSTAMP:20260419T221010
CREATED:20260330T184243Z
LAST-MODIFIED:20260419T053313Z
UID:10049360-1801777500-1801780200@mosquefoundation.org
SUMMARY:Thursday Class
DESCRIPTION:
URL:https://mosquefoundation.org/event/thursday-class/2027-02-04/
CATEGORIES:Mosque Foundation Events
ATTACH;FMTTYPE=image/jpeg:https://mosquefoundation.org/wp-content/uploads/2026/03/thursdayclass.jpg
END:VEVENT
BEGIN:VEVENT
DTSTART;TZID=America/Chicago:20270206T090000
DTEND;TZID=America/Chicago:20270206T130000
DTSTAMP:20260419T221010
CREATED:20250904T001543Z
LAST-MODIFIED:20251102T133041Z
UID:10040536-1801904400-1801918800@mosquefoundation.org
SUMMARY:Saturday Program For Young Women
DESCRIPTION:
URL:https://mosquefoundation.org/event/saturday-program-for-yong-women/2027-02-06/
CATEGORIES:Mosque Foundation Events
ATTACH;FMTTYPE=image/jpeg:https://mosquefoundation.org/wp-content/uploads/2025/09/MF_-Sat-Program-Women-SM-2025.jpg
END:VEVENT
BEGIN:VEVENT
DTSTART;TZID=America/Chicago:20270207T120000
DTEND;TZID=America/Chicago:20270207T130000
DTSTAMP:20260419T221010
CREATED:20240311T190209Z
LAST-MODIFIED:20260419T054313Z
UID:10041224-1802001600-1802005200@mosquefoundation.org
SUMMARY:Spanish Class for Women
DESCRIPTION:
URL:https://mosquefoundation.org/event/spanish-class/2027-02-07/
CATEGORIES:Mosque Foundation Events
ATTACH;FMTTYPE=image/jpeg:https://mosquefoundation.org/wp-content/uploads/2024/03/MF-Spanish-Class-ES-2024-SM-scaled.jpg
END:VEVENT
BEGIN:VEVENT
DTSTART;TZID=America/Chicago:20270207T120000
DTEND;TZID=America/Chicago:20270207T140000
DTSTAMP:20260419T221010
CREATED:20260419T053917Z
LAST-MODIFIED:20260419T053944Z
UID:10050150-1802001600-1802008800@mosquefoundation.org
SUMMARY:English Class for Women
DESCRIPTION:
URL:https://mosquefoundation.org/event/english-class-for-women/2027-02-07/
CATEGORIES:Mosque Foundation Events
ATTACH;FMTTYPE=image/jpeg:https://mosquefoundation.org/wp-content/uploads/2026/04/PHOTO-2026-04-18-06-01-36.jpg
END:VEVENT
BEGIN:VEVENT
DTSTART;TZID=America/Chicago:20270207T211500
DTEND;TZID=America/Chicago:20270207T220000
DTSTAMP:20260419T221010
CREATED:20260409T185427Z
LAST-MODIFIED:20260409T185443Z
UID:10048835-1802034900-1802037600@mosquefoundation.org
SUMMARY:Sunday Class
DESCRIPTION:
URL:https://mosquefoundation.org/event/sunday-class-2/2027-02-07/
CATEGORIES:Mosque Foundation Events
ATTACH;FMTTYPE=image/jpeg:https://mosquefoundation.org/wp-content/uploads/2026/03/MF_-Sh-Jafar-En-2026.jpg
END:VEVENT
BEGIN:VEVENT
DTSTART;TZID=America/Chicago:20270208T214500
DTEND;TZID=America/Chicago:20270208T223000
DTSTAMP:20260419T221010
CREATED:20260330T183316Z
LAST-MODIFIED:20260419T053209Z
UID:10049097-1802123100-1802125800@mosquefoundation.org
SUMMARY:Monday Class
DESCRIPTION:
URL:https://mosquefoundation.org/event/monday-class/2027-02-08/
CATEGORIES:Mosque Foundation Events
ATTACH;FMTTYPE=image/jpeg:https://mosquefoundation.org/wp-content/uploads/2026/03/mondayclass.jpg
END:VEVENT
BEGIN:VEVENT
DTSTART;TZID=America/Chicago:20270209T130000
DTEND;TZID=America/Chicago:20270209T140000
DTSTAMP:20260419T221010
CREATED:20240802T032249Z
LAST-MODIFIED:20260308T174747Z
UID:10046349-1802178000-1802181600@mosquefoundation.org
SUMMARY:Tuesday Class for Sisters
DESCRIPTION:
URL:https://mosquefoundation.org/event/tuesday-class-for-sisters/2027-02-09/
CATEGORIES:Mosque Foundation Events
ATTACH;FMTTYPE=image/jpeg:https://mosquefoundation.org/wp-content/uploads/2023/06/MF_-Tue-Women-2024.jpg
END:VEVENT
BEGIN:VEVENT
DTSTART;TZID=America/Chicago:20270209T214500
DTEND;TZID=America/Chicago:20270209T223000
DTSTAMP:20260419T221010
CREATED:20260330T183652Z
LAST-MODIFIED:20260419T053510Z
UID:10049889-1802209500-1802212200@mosquefoundation.org
SUMMARY:Tuesday Class
DESCRIPTION:
URL:https://mosquefoundation.org/event/tuesday-class/2027-02-09/
CATEGORIES:Mosque Foundation Events
ATTACH;FMTTYPE=image/jpeg:https://mosquefoundation.org/wp-content/uploads/2026/03/tueclass.jpg
END:VEVENT
END:VCALENDAR