BEGIN:VCALENDAR
VERSION:2.0
PRODID:-//Mosque Foundation | Bridgeview, Illinois - ECPv6.15.16//NONSGML v1.0//EN
CALSCALE:GREGORIAN
METHOD:PUBLISH
X-WR-CALNAME:Mosque Foundation | Bridgeview, Illinois
X-ORIGINAL-URL:https://mosquefoundation.org
X-WR-CALDESC:Events for Mosque Foundation | Bridgeview, Illinois
REFRESH-INTERVAL;VALUE=DURATION:PT1H
X-Robots-Tag:noindex
X-PUBLISHED-TTL:PT1H
BEGIN:VTIMEZONE
TZID:America/Chicago
BEGIN:DAYLIGHT
TZOFFSETFROM:-0600
TZOFFSETTO:-0500
TZNAME:CDT
DTSTART:20280312T080000
END:DAYLIGHT
BEGIN:STANDARD
TZOFFSETFROM:-0500
TZOFFSETTO:-0600
TZNAME:CST
DTSTART:20281105T070000
END:STANDARD
BEGIN:DAYLIGHT
TZOFFSETFROM:-0600
TZOFFSETTO:-0500
TZNAME:CDT
DTSTART:20290311T080000
END:DAYLIGHT
BEGIN:STANDARD
TZOFFSETFROM:-0500
TZOFFSETTO:-0600
TZNAME:CST
DTSTART:20291104T070000
END:STANDARD
BEGIN:DAYLIGHT
TZOFFSETFROM:-0600
TZOFFSETTO:-0500
TZNAME:CDT
DTSTART:20300310T080000
END:DAYLIGHT
BEGIN:STANDARD
TZOFFSETFROM:-0500
TZOFFSETTO:-0600
TZNAME:CST
DTSTART:20301103T070000
END:STANDARD
END:VTIMEZONE
BEGIN:VEVENT
DTSTART;TZID=America/Chicago:20290902T201500
DTEND;TZID=America/Chicago:20290902T210000
DTSTAMP:20260421T102856
CREATED:20260409T185427Z
LAST-MODIFIED:20260409T185443Z
UID:10048969-1883074500-1883077200@mosquefoundation.org
SUMMARY:Sunday Class
DESCRIPTION:
URL:https://mosquefoundation.org/event/sunday-class-2/2029-09-02/
CATEGORIES:Mosque Foundation Events
ATTACH;FMTTYPE=image/jpeg:https://mosquefoundation.org/wp-content/uploads/2026/03/MF_-Sh-Jafar-En-2026.jpg
END:VEVENT
BEGIN:VEVENT
DTSTART;TZID=America/Chicago:20290903T204500
DTEND;TZID=America/Chicago:20290903T213000
DTSTAMP:20260421T102856
CREATED:20260330T183316Z
LAST-MODIFIED:20260419T053209Z
UID:10049231-1883162700-1883165400@mosquefoundation.org
SUMMARY:Monday Class
DESCRIPTION:
URL:https://mosquefoundation.org/event/monday-class/2029-09-03/
CATEGORIES:Mosque Foundation Events
ATTACH;FMTTYPE=image/jpeg:https://mosquefoundation.org/wp-content/uploads/2026/03/mondayclass.jpg
END:VEVENT
BEGIN:VEVENT
DTSTART;TZID=America/Chicago:20290904T120000
DTEND;TZID=America/Chicago:20290904T130000
DTSTAMP:20260421T102856
CREATED:20240802T032249Z
LAST-MODIFIED:20260308T174747Z
UID:10046483-1883217600-1883221200@mosquefoundation.org
SUMMARY:Tuesday Class for Sisters
DESCRIPTION:
URL:https://mosquefoundation.org/event/tuesday-class-for-sisters/2029-09-04/
CATEGORIES:Mosque Foundation Events
ATTACH;FMTTYPE=image/jpeg:https://mosquefoundation.org/wp-content/uploads/2023/06/MF_-Tue-Women-2024.jpg
END:VEVENT
BEGIN:VEVENT
DTSTART;TZID=America/Chicago:20290904T204500
DTEND;TZID=America/Chicago:20290904T213000
DTSTAMP:20260421T102856
CREATED:20260330T183652Z
LAST-MODIFIED:20260419T053510Z
UID:10050023-1883249100-1883251800@mosquefoundation.org
SUMMARY:Tuesday Class
DESCRIPTION:
URL:https://mosquefoundation.org/event/tuesday-class/2029-09-04/
CATEGORIES:Mosque Foundation Events
ATTACH;FMTTYPE=image/jpeg:https://mosquefoundation.org/wp-content/uploads/2026/03/tueclass.jpg
END:VEVENT
BEGIN:VEVENT
DTSTART;TZID=America/Chicago:20290905T170000
DTEND;TZID=America/Chicago:20290905T180000
DTSTAMP:20260421T102856
CREATED:20251102T133710Z
LAST-MODIFIED:20260308T175756Z
UID:10046762-1883322000-1883325600@mosquefoundation.org
SUMMARY:Wednesday Class For Women
DESCRIPTION:
URL:https://mosquefoundation.org/event/wednesday-class-for-women-2-2/2029-09-05/
CATEGORIES:Mosque Foundation Events
ATTACH;FMTTYPE=image/jpeg:https://mosquefoundation.org/wp-content/uploads/2024/01/MF_-Women-2024-scaled.jpg
END:VEVENT
BEGIN:VEVENT
DTSTART;TZID=America/Chicago:20290905T204500
DTEND;TZID=America/Chicago:20290905T213000
DTSTAMP:20260421T102856
CREATED:20260330T183840Z
LAST-MODIFIED:20260419T053416Z
UID:10049759-1883335500-1883338200@mosquefoundation.org
SUMMARY:Wednesday Class
DESCRIPTION:
URL:https://mosquefoundation.org/event/wednsday-class/2029-09-05/
CATEGORIES:Mosque Foundation Events
ATTACH;FMTTYPE=image/jpeg:https://mosquefoundation.org/wp-content/uploads/2026/03/wedclass.jpg
END:VEVENT
BEGIN:VEVENT
DTSTART;TZID=America/Chicago:20290906T204500
DTEND;TZID=America/Chicago:20290906T213000
DTSTAMP:20260421T102856
CREATED:20260330T184243Z
LAST-MODIFIED:20260419T053313Z
UID:10049495-1883421900-1883424600@mosquefoundation.org
SUMMARY:Thursday Class
DESCRIPTION:
URL:https://mosquefoundation.org/event/thursday-class/2029-09-06/
CATEGORIES:Mosque Foundation Events
ATTACH;FMTTYPE=image/jpeg:https://mosquefoundation.org/wp-content/uploads/2026/03/thursdayclass.jpg
END:VEVENT
BEGIN:VEVENT
DTSTART;TZID=America/Chicago:20290908T080000
DTEND;TZID=America/Chicago:20290908T120000
DTSTAMP:20260421T102856
CREATED:20250904T001543Z
LAST-MODIFIED:20251102T133041Z
UID:10040671-1883548800-1883563200@mosquefoundation.org
SUMMARY:Saturday Program For Young Women
DESCRIPTION:
URL:https://mosquefoundation.org/event/saturday-program-for-yong-women/2029-09-08/
CATEGORIES:Mosque Foundation Events
ATTACH;FMTTYPE=image/jpeg:https://mosquefoundation.org/wp-content/uploads/2025/09/MF_-Sat-Program-Women-SM-2025.jpg
END:VEVENT
BEGIN:VEVENT
DTSTART;TZID=America/Chicago:20290909T110000
DTEND;TZID=America/Chicago:20290909T120000
DTSTAMP:20260421T102856
CREATED:20240311T190209Z
LAST-MODIFIED:20260419T054313Z
UID:10041359-1883646000-1883649600@mosquefoundation.org
SUMMARY:Spanish Class for Women
DESCRIPTION:
URL:https://mosquefoundation.org/event/spanish-class/2029-09-09/
CATEGORIES:Mosque Foundation Events
ATTACH;FMTTYPE=image/jpeg:https://mosquefoundation.org/wp-content/uploads/2024/03/MF-Spanish-Class-ES-2024-SM-scaled.jpg
END:VEVENT
BEGIN:VEVENT
DTSTART;TZID=America/Chicago:20290909T110000
DTEND;TZID=America/Chicago:20290909T130000
DTSTAMP:20260421T102856
CREATED:20260419T053917Z
LAST-MODIFIED:20260419T053944Z
UID:10050285-1883646000-1883653200@mosquefoundation.org
SUMMARY:English Class for Women
DESCRIPTION:
URL:https://mosquefoundation.org/event/english-class-for-women/2029-09-09/
CATEGORIES:Mosque Foundation Events
ATTACH;FMTTYPE=image/jpeg:https://mosquefoundation.org/wp-content/uploads/2026/04/PHOTO-2026-04-18-06-01-36.jpg
END:VEVENT
BEGIN:VEVENT
DTSTART;TZID=America/Chicago:20290909T201500
DTEND;TZID=America/Chicago:20290909T210000
DTSTAMP:20260421T102856
CREATED:20260409T185427Z
LAST-MODIFIED:20260409T185443Z
UID:10048970-1883679300-1883682000@mosquefoundation.org
SUMMARY:Sunday Class
DESCRIPTION:
URL:https://mosquefoundation.org/event/sunday-class-2/2029-09-09/
CATEGORIES:Mosque Foundation Events
ATTACH;FMTTYPE=image/jpeg:https://mosquefoundation.org/wp-content/uploads/2026/03/MF_-Sh-Jafar-En-2026.jpg
END:VEVENT
BEGIN:VEVENT
DTSTART;TZID=America/Chicago:20290910T204500
DTEND;TZID=America/Chicago:20290910T213000
DTSTAMP:20260421T102856
CREATED:20260330T183316Z
LAST-MODIFIED:20260419T053209Z
UID:10049232-1883767500-1883770200@mosquefoundation.org
SUMMARY:Monday Class
DESCRIPTION:
URL:https://mosquefoundation.org/event/monday-class/2029-09-10/
CATEGORIES:Mosque Foundation Events
ATTACH;FMTTYPE=image/jpeg:https://mosquefoundation.org/wp-content/uploads/2026/03/mondayclass.jpg
END:VEVENT
BEGIN:VEVENT
DTSTART;TZID=America/Chicago:20290911T120000
DTEND;TZID=America/Chicago:20290911T130000
DTSTAMP:20260421T102856
CREATED:20240802T032249Z
LAST-MODIFIED:20260308T174747Z
UID:10046484-1883822400-1883826000@mosquefoundation.org
SUMMARY:Tuesday Class for Sisters
DESCRIPTION:
URL:https://mosquefoundation.org/event/tuesday-class-for-sisters/2029-09-11/
CATEGORIES:Mosque Foundation Events
ATTACH;FMTTYPE=image/jpeg:https://mosquefoundation.org/wp-content/uploads/2023/06/MF_-Tue-Women-2024.jpg
END:VEVENT
BEGIN:VEVENT
DTSTART;TZID=America/Chicago:20290911T204500
DTEND;TZID=America/Chicago:20290911T213000
DTSTAMP:20260421T102856
CREATED:20260330T183652Z
LAST-MODIFIED:20260419T053510Z
UID:10050024-1883853900-1883856600@mosquefoundation.org
SUMMARY:Tuesday Class
DESCRIPTION:
URL:https://mosquefoundation.org/event/tuesday-class/2029-09-11/
CATEGORIES:Mosque Foundation Events
ATTACH;FMTTYPE=image/jpeg:https://mosquefoundation.org/wp-content/uploads/2026/03/tueclass.jpg
END:VEVENT
BEGIN:VEVENT
DTSTART;TZID=America/Chicago:20290912T170000
DTEND;TZID=America/Chicago:20290912T180000
DTSTAMP:20260421T102856
CREATED:20251102T133710Z
LAST-MODIFIED:20260308T175756Z
UID:10046763-1883926800-1883930400@mosquefoundation.org
SUMMARY:Wednesday Class For Women
DESCRIPTION:
URL:https://mosquefoundation.org/event/wednesday-class-for-women-2-2/2029-09-12/
CATEGORIES:Mosque Foundation Events
ATTACH;FMTTYPE=image/jpeg:https://mosquefoundation.org/wp-content/uploads/2024/01/MF_-Women-2024-scaled.jpg
END:VEVENT
BEGIN:VEVENT
DTSTART;TZID=America/Chicago:20290912T204500
DTEND;TZID=America/Chicago:20290912T213000
DTSTAMP:20260421T102856
CREATED:20260330T183840Z
LAST-MODIFIED:20260419T053416Z
UID:10049760-1883940300-1883943000@mosquefoundation.org
SUMMARY:Wednesday Class
DESCRIPTION:
URL:https://mosquefoundation.org/event/wednsday-class/2029-09-12/
CATEGORIES:Mosque Foundation Events
ATTACH;FMTTYPE=image/jpeg:https://mosquefoundation.org/wp-content/uploads/2026/03/wedclass.jpg
END:VEVENT
BEGIN:VEVENT
DTSTART;TZID=America/Chicago:20290913T204500
DTEND;TZID=America/Chicago:20290913T213000
DTSTAMP:20260421T102856
CREATED:20260330T184243Z
LAST-MODIFIED:20260419T053313Z
UID:10049496-1884026700-1884029400@mosquefoundation.org
SUMMARY:Thursday Class
DESCRIPTION:
URL:https://mosquefoundation.org/event/thursday-class/2029-09-13/
CATEGORIES:Mosque Foundation Events
ATTACH;FMTTYPE=image/jpeg:https://mosquefoundation.org/wp-content/uploads/2026/03/thursdayclass.jpg
END:VEVENT
BEGIN:VEVENT
DTSTART;TZID=America/Chicago:20290915T080000
DTEND;TZID=America/Chicago:20290915T120000
DTSTAMP:20260421T102856
CREATED:20250904T001543Z
LAST-MODIFIED:20251102T133041Z
UID:10040672-1884153600-1884168000@mosquefoundation.org
SUMMARY:Saturday Program For Young Women
DESCRIPTION:
URL:https://mosquefoundation.org/event/saturday-program-for-yong-women/2029-09-15/
CATEGORIES:Mosque Foundation Events
ATTACH;FMTTYPE=image/jpeg:https://mosquefoundation.org/wp-content/uploads/2025/09/MF_-Sat-Program-Women-SM-2025.jpg
END:VEVENT
BEGIN:VEVENT
DTSTART;TZID=America/Chicago:20290916T110000
DTEND;TZID=America/Chicago:20290916T120000
DTSTAMP:20260421T102856
CREATED:20240311T190209Z
LAST-MODIFIED:20260419T054313Z
UID:10041360-1884250800-1884254400@mosquefoundation.org
SUMMARY:Spanish Class for Women
DESCRIPTION:
URL:https://mosquefoundation.org/event/spanish-class/2029-09-16/
CATEGORIES:Mosque Foundation Events
ATTACH;FMTTYPE=image/jpeg:https://mosquefoundation.org/wp-content/uploads/2024/03/MF-Spanish-Class-ES-2024-SM-scaled.jpg
END:VEVENT
BEGIN:VEVENT
DTSTART;TZID=America/Chicago:20290916T110000
DTEND;TZID=America/Chicago:20290916T130000
DTSTAMP:20260421T102856
CREATED:20260419T053917Z
LAST-MODIFIED:20260419T053944Z
UID:10050286-1884250800-1884258000@mosquefoundation.org
SUMMARY:English Class for Women
DESCRIPTION:
URL:https://mosquefoundation.org/event/english-class-for-women/2029-09-16/
CATEGORIES:Mosque Foundation Events
ATTACH;FMTTYPE=image/jpeg:https://mosquefoundation.org/wp-content/uploads/2026/04/PHOTO-2026-04-18-06-01-36.jpg
END:VEVENT
BEGIN:VEVENT
DTSTART;TZID=America/Chicago:20290916T201500
DTEND;TZID=America/Chicago:20290916T210000
DTSTAMP:20260421T102856
CREATED:20260409T185427Z
LAST-MODIFIED:20260409T185443Z
UID:10048971-1884284100-1884286800@mosquefoundation.org
SUMMARY:Sunday Class
DESCRIPTION:
URL:https://mosquefoundation.org/event/sunday-class-2/2029-09-16/
CATEGORIES:Mosque Foundation Events
ATTACH;FMTTYPE=image/jpeg:https://mosquefoundation.org/wp-content/uploads/2026/03/MF_-Sh-Jafar-En-2026.jpg
END:VEVENT
BEGIN:VEVENT
DTSTART;TZID=America/Chicago:20290917T204500
DTEND;TZID=America/Chicago:20290917T213000
DTSTAMP:20260421T102856
CREATED:20260330T183316Z
LAST-MODIFIED:20260419T053209Z
UID:10049233-1884372300-1884375000@mosquefoundation.org
SUMMARY:Monday Class
DESCRIPTION:
URL:https://mosquefoundation.org/event/monday-class/2029-09-17/
CATEGORIES:Mosque Foundation Events
ATTACH;FMTTYPE=image/jpeg:https://mosquefoundation.org/wp-content/uploads/2026/03/mondayclass.jpg
END:VEVENT
BEGIN:VEVENT
DTSTART;TZID=America/Chicago:20290918T120000
DTEND;TZID=America/Chicago:20290918T130000
DTSTAMP:20260421T102856
CREATED:20240802T032249Z
LAST-MODIFIED:20260308T174747Z
UID:10046485-1884427200-1884430800@mosquefoundation.org
SUMMARY:Tuesday Class for Sisters
DESCRIPTION:
URL:https://mosquefoundation.org/event/tuesday-class-for-sisters/2029-09-18/
CATEGORIES:Mosque Foundation Events
ATTACH;FMTTYPE=image/jpeg:https://mosquefoundation.org/wp-content/uploads/2023/06/MF_-Tue-Women-2024.jpg
END:VEVENT
BEGIN:VEVENT
DTSTART;TZID=America/Chicago:20290918T204500
DTEND;TZID=America/Chicago:20290918T213000
DTSTAMP:20260421T102856
CREATED:20260330T183652Z
LAST-MODIFIED:20260419T053510Z
UID:10050025-1884458700-1884461400@mosquefoundation.org
SUMMARY:Tuesday Class
DESCRIPTION:
URL:https://mosquefoundation.org/event/tuesday-class/2029-09-18/
CATEGORIES:Mosque Foundation Events
ATTACH;FMTTYPE=image/jpeg:https://mosquefoundation.org/wp-content/uploads/2026/03/tueclass.jpg
END:VEVENT
BEGIN:VEVENT
DTSTART;TZID=America/Chicago:20290919T170000
DTEND;TZID=America/Chicago:20290919T180000
DTSTAMP:20260421T102856
CREATED:20251102T133710Z
LAST-MODIFIED:20260308T175756Z
UID:10046764-1884531600-1884535200@mosquefoundation.org
SUMMARY:Wednesday Class For Women
DESCRIPTION:
URL:https://mosquefoundation.org/event/wednesday-class-for-women-2-2/2029-09-19/
CATEGORIES:Mosque Foundation Events
ATTACH;FMTTYPE=image/jpeg:https://mosquefoundation.org/wp-content/uploads/2024/01/MF_-Women-2024-scaled.jpg
END:VEVENT
BEGIN:VEVENT
DTSTART;TZID=America/Chicago:20290919T204500
DTEND;TZID=America/Chicago:20290919T213000
DTSTAMP:20260421T102856
CREATED:20260330T183840Z
LAST-MODIFIED:20260419T053416Z
UID:10049761-1884545100-1884547800@mosquefoundation.org
SUMMARY:Wednesday Class
DESCRIPTION:
URL:https://mosquefoundation.org/event/wednsday-class/2029-09-19/
CATEGORIES:Mosque Foundation Events
ATTACH;FMTTYPE=image/jpeg:https://mosquefoundation.org/wp-content/uploads/2026/03/wedclass.jpg
END:VEVENT
BEGIN:VEVENT
DTSTART;TZID=America/Chicago:20290920T204500
DTEND;TZID=America/Chicago:20290920T213000
DTSTAMP:20260421T102856
CREATED:20260330T184243Z
LAST-MODIFIED:20260419T053313Z
UID:10049497-1884631500-1884634200@mosquefoundation.org
SUMMARY:Thursday Class
DESCRIPTION:
URL:https://mosquefoundation.org/event/thursday-class/2029-09-20/
CATEGORIES:Mosque Foundation Events
ATTACH;FMTTYPE=image/jpeg:https://mosquefoundation.org/wp-content/uploads/2026/03/thursdayclass.jpg
END:VEVENT
BEGIN:VEVENT
DTSTART;TZID=America/Chicago:20290922T080000
DTEND;TZID=America/Chicago:20290922T120000
DTSTAMP:20260421T102856
CREATED:20250904T001543Z
LAST-MODIFIED:20251102T133041Z
UID:10040673-1884758400-1884772800@mosquefoundation.org
SUMMARY:Saturday Program For Young Women
DESCRIPTION:
URL:https://mosquefoundation.org/event/saturday-program-for-yong-women/2029-09-22/
CATEGORIES:Mosque Foundation Events
ATTACH;FMTTYPE=image/jpeg:https://mosquefoundation.org/wp-content/uploads/2025/09/MF_-Sat-Program-Women-SM-2025.jpg
END:VEVENT
BEGIN:VEVENT
DTSTART;TZID=America/Chicago:20290923T110000
DTEND;TZID=America/Chicago:20290923T120000
DTSTAMP:20260421T102856
CREATED:20240311T190209Z
LAST-MODIFIED:20260419T054313Z
UID:10041361-1884855600-1884859200@mosquefoundation.org
SUMMARY:Spanish Class for Women
DESCRIPTION:
URL:https://mosquefoundation.org/event/spanish-class/2029-09-23/
CATEGORIES:Mosque Foundation Events
ATTACH;FMTTYPE=image/jpeg:https://mosquefoundation.org/wp-content/uploads/2024/03/MF-Spanish-Class-ES-2024-SM-scaled.jpg
END:VEVENT
BEGIN:VEVENT
DTSTART;TZID=America/Chicago:20290923T110000
DTEND;TZID=America/Chicago:20290923T130000
DTSTAMP:20260421T102856
CREATED:20260419T053917Z
LAST-MODIFIED:20260419T053944Z
UID:10050287-1884855600-1884862800@mosquefoundation.org
SUMMARY:English Class for Women
DESCRIPTION:
URL:https://mosquefoundation.org/event/english-class-for-women/2029-09-23/
CATEGORIES:Mosque Foundation Events
ATTACH;FMTTYPE=image/jpeg:https://mosquefoundation.org/wp-content/uploads/2026/04/PHOTO-2026-04-18-06-01-36.jpg
END:VEVENT
END:VCALENDAR