BEGIN:VCALENDAR
VERSION:2.0
PRODID:-//Mosque Foundation | Bridgeview, Illinois - ECPv6.15.16//NONSGML v1.0//EN
CALSCALE:GREGORIAN
METHOD:PUBLISH
X-ORIGINAL-URL:https://mosquefoundation.org
X-WR-CALDESC:Events for Mosque Foundation | Bridgeview, Illinois
REFRESH-INTERVAL;VALUE=DURATION:PT1H
X-Robots-Tag:noindex
X-PUBLISHED-TTL:PT1H
BEGIN:VTIMEZONE
TZID:America/Chicago
BEGIN:DAYLIGHT
TZOFFSETFROM:-0600
TZOFFSETTO:-0500
TZNAME:CDT
DTSTART:20280312T080000
END:DAYLIGHT
BEGIN:STANDARD
TZOFFSETFROM:-0500
TZOFFSETTO:-0600
TZNAME:CST
DTSTART:20281105T070000
END:STANDARD
BEGIN:DAYLIGHT
TZOFFSETFROM:-0600
TZOFFSETTO:-0500
TZNAME:CDT
DTSTART:20290311T080000
END:DAYLIGHT
BEGIN:STANDARD
TZOFFSETFROM:-0500
TZOFFSETTO:-0600
TZNAME:CST
DTSTART:20291104T070000
END:STANDARD
BEGIN:DAYLIGHT
TZOFFSETFROM:-0600
TZOFFSETTO:-0500
TZNAME:CDT
DTSTART:20300310T080000
END:DAYLIGHT
BEGIN:STANDARD
TZOFFSETFROM:-0500
TZOFFSETTO:-0600
TZNAME:CST
DTSTART:20301103T070000
END:STANDARD
END:VTIMEZONE
BEGIN:VEVENT
DTSTART;TZID=America/Chicago:20290217T090000
DTEND;TZID=America/Chicago:20290217T130000
DTSTAMP:20260424T130014
CREATED:20250904T001543Z
LAST-MODIFIED:20251102T133041Z
UID:10040642-1866013200-1866027600@mosquefoundation.org
SUMMARY:Saturday Program For Young Women
DESCRIPTION:
URL:https://mosquefoundation.org/event/saturday-program-for-yong-women/2029-02-17/
CATEGORIES:Mosque Foundation Events
ATTACH;FMTTYPE=image/jpeg:https://mosquefoundation.org/wp-content/uploads/2025/09/MF_-Sat-Program-Women-SM-2025.jpg
END:VEVENT
BEGIN:VEVENT
DTSTART;TZID=America/Chicago:20290218T120000
DTEND;TZID=America/Chicago:20290218T130000
DTSTAMP:20260424T130014
CREATED:20240311T190209Z
LAST-MODIFIED:20260419T054313Z
UID:10041330-1866110400-1866114000@mosquefoundation.org
SUMMARY:Spanish Class for Women
DESCRIPTION:
URL:https://mosquefoundation.org/event/spanish-class/2029-02-18/
CATEGORIES:Mosque Foundation Events
ATTACH;FMTTYPE=image/jpeg:https://mosquefoundation.org/wp-content/uploads/2024/03/MF-Spanish-Class-ES-2024-SM-scaled.jpg
END:VEVENT
BEGIN:VEVENT
DTSTART;TZID=America/Chicago:20290218T120000
DTEND;TZID=America/Chicago:20290218T140000
DTSTAMP:20260424T130014
CREATED:20260419T053917Z
LAST-MODIFIED:20260419T053944Z
UID:10050256-1866110400-1866117600@mosquefoundation.org
SUMMARY:English Class for Women
DESCRIPTION:
URL:https://mosquefoundation.org/event/english-class-for-women/2029-02-18/
CATEGORIES:Mosque Foundation Events
ATTACH;FMTTYPE=image/jpeg:https://mosquefoundation.org/wp-content/uploads/2026/04/PHOTO-2026-04-18-06-01-36.jpg
END:VEVENT
BEGIN:VEVENT
DTSTART;TZID=America/Chicago:20290218T214500
DTEND;TZID=America/Chicago:20290218T223000
DTSTAMP:20260424T130014
CREATED:20260421T234641Z
LAST-MODIFIED:20260421T234642Z
UID:10050539-1866145500-1866148200@mosquefoundation.org
SUMMARY:Sunday Class
DESCRIPTION:
URL:https://mosquefoundation.org/event/sunday-class-2-2/2029-02-18/
CATEGORIES:Mosque Foundation Events
ATTACH;FMTTYPE=image/jpeg:https://mosquefoundation.org/wp-content/uploads/2026/03/MF_-Sh-Jafar-En-2026.jpg
END:VEVENT
BEGIN:VEVENT
DTSTART;TZID=America/Chicago:20290219T214500
DTEND;TZID=America/Chicago:20290219T223000
DTSTAMP:20260424T130014
CREATED:20260330T183316Z
LAST-MODIFIED:20260419T053209Z
UID:10049203-1866231900-1866234600@mosquefoundation.org
SUMMARY:Monday Class
DESCRIPTION:
URL:https://mosquefoundation.org/event/monday-class/2029-02-19/
CATEGORIES:Mosque Foundation Events
ATTACH;FMTTYPE=image/jpeg:https://mosquefoundation.org/wp-content/uploads/2026/03/mondayclass.jpg
END:VEVENT
BEGIN:VEVENT
DTSTART;TZID=America/Chicago:20290220T130000
DTEND;TZID=America/Chicago:20290220T140000
DTSTAMP:20260424T130014
CREATED:20240802T032249Z
LAST-MODIFIED:20260308T174747Z
UID:10046455-1866286800-1866290400@mosquefoundation.org
SUMMARY:Tuesday Class for Sisters
DESCRIPTION:
URL:https://mosquefoundation.org/event/tuesday-class-for-sisters/2029-02-20/
CATEGORIES:Mosque Foundation Events
ATTACH;FMTTYPE=image/jpeg:https://mosquefoundation.org/wp-content/uploads/2023/06/MF_-Tue-Women-2024.jpg
END:VEVENT
BEGIN:VEVENT
DTSTART;TZID=America/Chicago:20290220T221500
DTEND;TZID=America/Chicago:20290220T230000
DTSTAMP:20260424T130014
CREATED:20260421T233925Z
LAST-MODIFIED:20260421T234838Z
UID:10050795-1866320100-1866322800@mosquefoundation.org
SUMMARY:Tuesday Class
DESCRIPTION:
URL:https://mosquefoundation.org/event/tuesday-class-2/2029-02-20/
CATEGORIES:Mosque Foundation Events
ATTACH;FMTTYPE=image/jpeg:https://mosquefoundation.org/wp-content/uploads/2026/03/tueclass.jpg
END:VEVENT
BEGIN:VEVENT
DTSTART;TZID=America/Chicago:20290220T221500
DTEND;TZID=America/Chicago:20290220T230000
DTSTAMP:20260424T130014
CREATED:20260421T234944Z
LAST-MODIFIED:20260421T235057Z
UID:10051049-1866320100-1866322800@mosquefoundation.org
SUMMARY:Tuesday Class
DESCRIPTION:
URL:https://mosquefoundation.org/event/tuesday-class-2-2/2029-02-20/
ATTACH;FMTTYPE=image/jpeg:https://mosquefoundation.org/wp-content/uploads/2026/03/tueclass.jpg
END:VEVENT
BEGIN:VEVENT
DTSTART;TZID=America/Chicago:20290221T180000
DTEND;TZID=America/Chicago:20290221T190000
DTSTAMP:20260424T130014
CREATED:20251102T133710Z
LAST-MODIFIED:20260308T175756Z
UID:10046734-1866391200-1866394800@mosquefoundation.org
SUMMARY:Wednesday Class For Women
DESCRIPTION:
URL:https://mosquefoundation.org/event/wednesday-class-for-women-2-2/2029-02-21/
CATEGORIES:Mosque Foundation Events
ATTACH;FMTTYPE=image/jpeg:https://mosquefoundation.org/wp-content/uploads/2024/01/MF_-Women-2024-scaled.jpg
END:VEVENT
BEGIN:VEVENT
DTSTART;TZID=America/Chicago:20290221T214500
DTEND;TZID=America/Chicago:20290221T223000
DTSTAMP:20260424T130014
CREATED:20260330T183840Z
LAST-MODIFIED:20260419T053416Z
UID:10049731-1866404700-1866407400@mosquefoundation.org
SUMMARY:Wednesday Class
DESCRIPTION:
URL:https://mosquefoundation.org/event/wednsday-class/2029-02-21/
CATEGORIES:Mosque Foundation Events
ATTACH;FMTTYPE=image/jpeg:https://mosquefoundation.org/wp-content/uploads/2026/03/wedclass.jpg
END:VEVENT
BEGIN:VEVENT
DTSTART;TZID=America/Chicago:20290222T214500
DTEND;TZID=America/Chicago:20290222T223000
DTSTAMP:20260424T130014
CREATED:20260330T184243Z
LAST-MODIFIED:20260419T053313Z
UID:10049467-1866491100-1866493800@mosquefoundation.org
SUMMARY:Thursday Class
DESCRIPTION:
URL:https://mosquefoundation.org/event/thursday-class/2029-02-22/
CATEGORIES:Mosque Foundation Events
ATTACH;FMTTYPE=image/jpeg:https://mosquefoundation.org/wp-content/uploads/2026/03/thursdayclass.jpg
END:VEVENT
BEGIN:VEVENT
DTSTART;TZID=America/Chicago:20290224T090000
DTEND;TZID=America/Chicago:20290224T130000
DTSTAMP:20260424T130014
CREATED:20250904T001543Z
LAST-MODIFIED:20251102T133041Z
UID:10040643-1866618000-1866632400@mosquefoundation.org
SUMMARY:Saturday Program For Young Women
DESCRIPTION:
URL:https://mosquefoundation.org/event/saturday-program-for-yong-women/2029-02-24/
CATEGORIES:Mosque Foundation Events
ATTACH;FMTTYPE=image/jpeg:https://mosquefoundation.org/wp-content/uploads/2025/09/MF_-Sat-Program-Women-SM-2025.jpg
END:VEVENT
BEGIN:VEVENT
DTSTART;TZID=America/Chicago:20290225T120000
DTEND;TZID=America/Chicago:20290225T130000
DTSTAMP:20260424T130014
CREATED:20240311T190209Z
LAST-MODIFIED:20260419T054313Z
UID:10041331-1866715200-1866718800@mosquefoundation.org
SUMMARY:Spanish Class for Women
DESCRIPTION:
URL:https://mosquefoundation.org/event/spanish-class/2029-02-25/
CATEGORIES:Mosque Foundation Events
ATTACH;FMTTYPE=image/jpeg:https://mosquefoundation.org/wp-content/uploads/2024/03/MF-Spanish-Class-ES-2024-SM-scaled.jpg
END:VEVENT
BEGIN:VEVENT
DTSTART;TZID=America/Chicago:20290225T120000
DTEND;TZID=America/Chicago:20290225T140000
DTSTAMP:20260424T130014
CREATED:20260419T053917Z
LAST-MODIFIED:20260419T053944Z
UID:10050257-1866715200-1866722400@mosquefoundation.org
SUMMARY:English Class for Women
DESCRIPTION:
URL:https://mosquefoundation.org/event/english-class-for-women/2029-02-25/
CATEGORIES:Mosque Foundation Events
ATTACH;FMTTYPE=image/jpeg:https://mosquefoundation.org/wp-content/uploads/2026/04/PHOTO-2026-04-18-06-01-36.jpg
END:VEVENT
BEGIN:VEVENT
DTSTART;TZID=America/Chicago:20290225T214500
DTEND;TZID=America/Chicago:20290225T223000
DTSTAMP:20260424T130014
CREATED:20260421T234641Z
LAST-MODIFIED:20260421T234642Z
UID:10050540-1866750300-1866753000@mosquefoundation.org
SUMMARY:Sunday Class
DESCRIPTION:
URL:https://mosquefoundation.org/event/sunday-class-2-2/2029-02-25/
CATEGORIES:Mosque Foundation Events
ATTACH;FMTTYPE=image/jpeg:https://mosquefoundation.org/wp-content/uploads/2026/03/MF_-Sh-Jafar-En-2026.jpg
END:VEVENT
BEGIN:VEVENT
DTSTART;TZID=America/Chicago:20290226T214500
DTEND;TZID=America/Chicago:20290226T223000
DTSTAMP:20260424T130014
CREATED:20260330T183316Z
LAST-MODIFIED:20260419T053209Z
UID:10049204-1866836700-1866839400@mosquefoundation.org
SUMMARY:Monday Class
DESCRIPTION:
URL:https://mosquefoundation.org/event/monday-class/2029-02-26/
CATEGORIES:Mosque Foundation Events
ATTACH;FMTTYPE=image/jpeg:https://mosquefoundation.org/wp-content/uploads/2026/03/mondayclass.jpg
END:VEVENT
BEGIN:VEVENT
DTSTART;TZID=America/Chicago:20290227T130000
DTEND;TZID=America/Chicago:20290227T140000
DTSTAMP:20260424T130014
CREATED:20240802T032249Z
LAST-MODIFIED:20260308T174747Z
UID:10046456-1866891600-1866895200@mosquefoundation.org
SUMMARY:Tuesday Class for Sisters
DESCRIPTION:
URL:https://mosquefoundation.org/event/tuesday-class-for-sisters/2029-02-27/
CATEGORIES:Mosque Foundation Events
ATTACH;FMTTYPE=image/jpeg:https://mosquefoundation.org/wp-content/uploads/2023/06/MF_-Tue-Women-2024.jpg
END:VEVENT
BEGIN:VEVENT
DTSTART;TZID=America/Chicago:20290227T221500
DTEND;TZID=America/Chicago:20290227T230000
DTSTAMP:20260424T130014
CREATED:20260421T233925Z
LAST-MODIFIED:20260421T234838Z
UID:10050796-1866924900-1866927600@mosquefoundation.org
SUMMARY:Tuesday Class
DESCRIPTION:
URL:https://mosquefoundation.org/event/tuesday-class-2/2029-02-27/
CATEGORIES:Mosque Foundation Events
ATTACH;FMTTYPE=image/jpeg:https://mosquefoundation.org/wp-content/uploads/2026/03/tueclass.jpg
END:VEVENT
BEGIN:VEVENT
DTSTART;TZID=America/Chicago:20290227T221500
DTEND;TZID=America/Chicago:20290227T230000
DTSTAMP:20260424T130014
CREATED:20260421T234944Z
LAST-MODIFIED:20260421T235057Z
UID:10051050-1866924900-1866927600@mosquefoundation.org
SUMMARY:Tuesday Class
DESCRIPTION:
URL:https://mosquefoundation.org/event/tuesday-class-2-2/2029-02-27/
ATTACH;FMTTYPE=image/jpeg:https://mosquefoundation.org/wp-content/uploads/2026/03/tueclass.jpg
END:VEVENT
BEGIN:VEVENT
DTSTART;TZID=America/Chicago:20290228T180000
DTEND;TZID=America/Chicago:20290228T190000
DTSTAMP:20260424T130014
CREATED:20251102T133710Z
LAST-MODIFIED:20260308T175756Z
UID:10046735-1866996000-1866999600@mosquefoundation.org
SUMMARY:Wednesday Class For Women
DESCRIPTION:
URL:https://mosquefoundation.org/event/wednesday-class-for-women-2-2/2029-02-28/
CATEGORIES:Mosque Foundation Events
ATTACH;FMTTYPE=image/jpeg:https://mosquefoundation.org/wp-content/uploads/2024/01/MF_-Women-2024-scaled.jpg
END:VEVENT
BEGIN:VEVENT
DTSTART;TZID=America/Chicago:20290228T214500
DTEND;TZID=America/Chicago:20290228T223000
DTSTAMP:20260424T130014
CREATED:20260330T183840Z
LAST-MODIFIED:20260419T053416Z
UID:10049732-1867009500-1867012200@mosquefoundation.org
SUMMARY:Wednesday Class
DESCRIPTION:
URL:https://mosquefoundation.org/event/wednsday-class/2029-02-28/
CATEGORIES:Mosque Foundation Events
ATTACH;FMTTYPE=image/jpeg:https://mosquefoundation.org/wp-content/uploads/2026/03/wedclass.jpg
END:VEVENT
BEGIN:VEVENT
DTSTART;TZID=America/Chicago:20290301T214500
DTEND;TZID=America/Chicago:20290301T223000
DTSTAMP:20260424T130014
CREATED:20260330T184243Z
LAST-MODIFIED:20260419T053313Z
UID:10049468-1867095900-1867098600@mosquefoundation.org
SUMMARY:Thursday Class
DESCRIPTION:
URL:https://mosquefoundation.org/event/thursday-class/2029-03-01/
CATEGORIES:Mosque Foundation Events
ATTACH;FMTTYPE=image/jpeg:https://mosquefoundation.org/wp-content/uploads/2026/03/thursdayclass.jpg
END:VEVENT
BEGIN:VEVENT
DTSTART;TZID=America/Chicago:20290303T090000
DTEND;TZID=America/Chicago:20290303T130000
DTSTAMP:20260424T130014
CREATED:20250904T001543Z
LAST-MODIFIED:20251102T133041Z
UID:10040644-1867222800-1867237200@mosquefoundation.org
SUMMARY:Saturday Program For Young Women
DESCRIPTION:
URL:https://mosquefoundation.org/event/saturday-program-for-yong-women/2029-03-03/
CATEGORIES:Mosque Foundation Events
ATTACH;FMTTYPE=image/jpeg:https://mosquefoundation.org/wp-content/uploads/2025/09/MF_-Sat-Program-Women-SM-2025.jpg
END:VEVENT
BEGIN:VEVENT
DTSTART;TZID=America/Chicago:20290304T120000
DTEND;TZID=America/Chicago:20290304T130000
DTSTAMP:20260424T130014
CREATED:20240311T190209Z
LAST-MODIFIED:20260419T054313Z
UID:10041332-1867320000-1867323600@mosquefoundation.org
SUMMARY:Spanish Class for Women
DESCRIPTION:
URL:https://mosquefoundation.org/event/spanish-class/2029-03-04/
CATEGORIES:Mosque Foundation Events
ATTACH;FMTTYPE=image/jpeg:https://mosquefoundation.org/wp-content/uploads/2024/03/MF-Spanish-Class-ES-2024-SM-scaled.jpg
END:VEVENT
BEGIN:VEVENT
DTSTART;TZID=America/Chicago:20290304T120000
DTEND;TZID=America/Chicago:20290304T140000
DTSTAMP:20260424T130014
CREATED:20260419T053917Z
LAST-MODIFIED:20260419T053944Z
UID:10050258-1867320000-1867327200@mosquefoundation.org
SUMMARY:English Class for Women
DESCRIPTION:
URL:https://mosquefoundation.org/event/english-class-for-women/2029-03-04/
CATEGORIES:Mosque Foundation Events
ATTACH;FMTTYPE=image/jpeg:https://mosquefoundation.org/wp-content/uploads/2026/04/PHOTO-2026-04-18-06-01-36.jpg
END:VEVENT
BEGIN:VEVENT
DTSTART;TZID=America/Chicago:20290304T214500
DTEND;TZID=America/Chicago:20290304T223000
DTSTAMP:20260424T130014
CREATED:20260421T234641Z
LAST-MODIFIED:20260421T234642Z
UID:10050541-1867355100-1867357800@mosquefoundation.org
SUMMARY:Sunday Class
DESCRIPTION:
URL:https://mosquefoundation.org/event/sunday-class-2-2/2029-03-04/
CATEGORIES:Mosque Foundation Events
ATTACH;FMTTYPE=image/jpeg:https://mosquefoundation.org/wp-content/uploads/2026/03/MF_-Sh-Jafar-En-2026.jpg
END:VEVENT
BEGIN:VEVENT
DTSTART;TZID=America/Chicago:20290305T214500
DTEND;TZID=America/Chicago:20290305T223000
DTSTAMP:20260424T130014
CREATED:20260330T183316Z
LAST-MODIFIED:20260419T053209Z
UID:10049205-1867441500-1867444200@mosquefoundation.org
SUMMARY:Monday Class
DESCRIPTION:
URL:https://mosquefoundation.org/event/monday-class/2029-03-05/
CATEGORIES:Mosque Foundation Events
ATTACH;FMTTYPE=image/jpeg:https://mosquefoundation.org/wp-content/uploads/2026/03/mondayclass.jpg
END:VEVENT
BEGIN:VEVENT
DTSTART;TZID=America/Chicago:20290306T130000
DTEND;TZID=America/Chicago:20290306T140000
DTSTAMP:20260424T130014
CREATED:20240802T032249Z
LAST-MODIFIED:20260308T174747Z
UID:10046457-1867496400-1867500000@mosquefoundation.org
SUMMARY:Tuesday Class for Sisters
DESCRIPTION:
URL:https://mosquefoundation.org/event/tuesday-class-for-sisters/2029-03-06/
CATEGORIES:Mosque Foundation Events
ATTACH;FMTTYPE=image/jpeg:https://mosquefoundation.org/wp-content/uploads/2023/06/MF_-Tue-Women-2024.jpg
END:VEVENT
BEGIN:VEVENT
DTSTART;TZID=America/Chicago:20290306T221500
DTEND;TZID=America/Chicago:20290306T230000
DTSTAMP:20260424T130014
CREATED:20260421T233925Z
LAST-MODIFIED:20260421T234838Z
UID:10050797-1867529700-1867532400@mosquefoundation.org
SUMMARY:Tuesday Class
DESCRIPTION:
URL:https://mosquefoundation.org/event/tuesday-class-2/2029-03-06/
CATEGORIES:Mosque Foundation Events
ATTACH;FMTTYPE=image/jpeg:https://mosquefoundation.org/wp-content/uploads/2026/03/tueclass.jpg
END:VEVENT
BEGIN:VEVENT
DTSTART;TZID=America/Chicago:20290306T221500
DTEND;TZID=America/Chicago:20290306T230000
DTSTAMP:20260424T130015
CREATED:20260421T234944Z
LAST-MODIFIED:20260421T235057Z
UID:10051051-1867529700-1867532400@mosquefoundation.org
SUMMARY:Tuesday Class
DESCRIPTION:
URL:https://mosquefoundation.org/event/tuesday-class-2-2/2029-03-06/
ATTACH;FMTTYPE=image/jpeg:https://mosquefoundation.org/wp-content/uploads/2026/03/tueclass.jpg
END:VEVENT
END:VCALENDAR