BEGIN:VCALENDAR
VERSION:2.0
PRODID:-//Mosque Foundation | Bridgeview, Illinois - ECPv6.15.16//NONSGML v1.0//EN
CALSCALE:GREGORIAN
METHOD:PUBLISH
X-ORIGINAL-URL:https://mosquefoundation.org
X-WR-CALDESC:Events for Mosque Foundation | Bridgeview, Illinois
REFRESH-INTERVAL;VALUE=DURATION:PT1H
X-Robots-Tag:noindex
X-PUBLISHED-TTL:PT1H
BEGIN:VTIMEZONE
TZID:America/Chicago
BEGIN:DAYLIGHT
TZOFFSETFROM:-0600
TZOFFSETTO:-0500
TZNAME:CDT
DTSTART:20270314T080000
END:DAYLIGHT
BEGIN:STANDARD
TZOFFSETFROM:-0500
TZOFFSETTO:-0600
TZNAME:CST
DTSTART:20271107T070000
END:STANDARD
BEGIN:DAYLIGHT
TZOFFSETFROM:-0600
TZOFFSETTO:-0500
TZNAME:CDT
DTSTART:20280312T080000
END:DAYLIGHT
BEGIN:STANDARD
TZOFFSETFROM:-0500
TZOFFSETTO:-0600
TZNAME:CST
DTSTART:20281105T070000
END:STANDARD
BEGIN:DAYLIGHT
TZOFFSETFROM:-0600
TZOFFSETTO:-0500
TZNAME:CDT
DTSTART:20290311T080000
END:DAYLIGHT
BEGIN:STANDARD
TZOFFSETFROM:-0500
TZOFFSETTO:-0600
TZNAME:CST
DTSTART:20291104T070000
END:STANDARD
END:VTIMEZONE
BEGIN:VEVENT
DTSTART;TZID=America/Chicago:20280611T110000
DTEND;TZID=America/Chicago:20280611T120000
DTSTAMP:20260420T053034
CREATED:20240311T190209Z
LAST-MODIFIED:20260419T054313Z
UID:10041294-1844334000-1844337600@mosquefoundation.org
SUMMARY:Spanish Class for Women
DESCRIPTION:
URL:https://mosquefoundation.org/event/spanish-class/2028-06-11/
CATEGORIES:Mosque Foundation Events
ATTACH;FMTTYPE=image/jpeg:https://mosquefoundation.org/wp-content/uploads/2024/03/MF-Spanish-Class-ES-2024-SM-scaled.jpg
END:VEVENT
BEGIN:VEVENT
DTSTART;TZID=America/Chicago:20280611T110000
DTEND;TZID=America/Chicago:20280611T130000
DTSTAMP:20260420T053034
CREATED:20260419T053917Z
LAST-MODIFIED:20260419T053944Z
UID:10050220-1844334000-1844341200@mosquefoundation.org
SUMMARY:English Class for Women
DESCRIPTION:
URL:https://mosquefoundation.org/event/english-class-for-women/2028-06-11/
CATEGORIES:Mosque Foundation Events
ATTACH;FMTTYPE=image/jpeg:https://mosquefoundation.org/wp-content/uploads/2026/04/PHOTO-2026-04-18-06-01-36.jpg
END:VEVENT
BEGIN:VEVENT
DTSTART;TZID=America/Chicago:20280611T201500
DTEND;TZID=America/Chicago:20280611T210000
DTSTAMP:20260420T053034
CREATED:20260409T185427Z
LAST-MODIFIED:20260409T185443Z
UID:10048905-1844367300-1844370000@mosquefoundation.org
SUMMARY:Sunday Class
DESCRIPTION:
URL:https://mosquefoundation.org/event/sunday-class-2/2028-06-11/
CATEGORIES:Mosque Foundation Events
ATTACH;FMTTYPE=image/jpeg:https://mosquefoundation.org/wp-content/uploads/2026/03/MF_-Sh-Jafar-En-2026.jpg
END:VEVENT
BEGIN:VEVENT
DTSTART;TZID=America/Chicago:20280612T204500
DTEND;TZID=America/Chicago:20280612T213000
DTSTAMP:20260420T053034
CREATED:20260330T183316Z
LAST-MODIFIED:20260419T053209Z
UID:10049167-1844455500-1844458200@mosquefoundation.org
SUMMARY:Monday Class
DESCRIPTION:
URL:https://mosquefoundation.org/event/monday-class/2028-06-12/
CATEGORIES:Mosque Foundation Events
ATTACH;FMTTYPE=image/jpeg:https://mosquefoundation.org/wp-content/uploads/2026/03/mondayclass.jpg
END:VEVENT
BEGIN:VEVENT
DTSTART;TZID=America/Chicago:20280613T120000
DTEND;TZID=America/Chicago:20280613T130000
DTSTAMP:20260420T053034
CREATED:20240802T032249Z
LAST-MODIFIED:20260308T174747Z
UID:10046419-1844510400-1844514000@mosquefoundation.org
SUMMARY:Tuesday Class for Sisters
DESCRIPTION:
URL:https://mosquefoundation.org/event/tuesday-class-for-sisters/2028-06-13/
CATEGORIES:Mosque Foundation Events
ATTACH;FMTTYPE=image/jpeg:https://mosquefoundation.org/wp-content/uploads/2023/06/MF_-Tue-Women-2024.jpg
END:VEVENT
BEGIN:VEVENT
DTSTART;TZID=America/Chicago:20280613T204500
DTEND;TZID=America/Chicago:20280613T213000
DTSTAMP:20260420T053034
CREATED:20260330T183652Z
LAST-MODIFIED:20260419T053510Z
UID:10049959-1844541900-1844544600@mosquefoundation.org
SUMMARY:Tuesday Class
DESCRIPTION:
URL:https://mosquefoundation.org/event/tuesday-class/2028-06-13/
CATEGORIES:Mosque Foundation Events
ATTACH;FMTTYPE=image/jpeg:https://mosquefoundation.org/wp-content/uploads/2026/03/tueclass.jpg
END:VEVENT
BEGIN:VEVENT
DTSTART;TZID=America/Chicago:20280614T170000
DTEND;TZID=America/Chicago:20280614T180000
DTSTAMP:20260420T053034
CREATED:20251102T133710Z
LAST-MODIFIED:20260308T175756Z
UID:10046698-1844614800-1844618400@mosquefoundation.org
SUMMARY:Wednesday Class For Women
DESCRIPTION:
URL:https://mosquefoundation.org/event/wednesday-class-for-women-2-2/2028-06-14/
CATEGORIES:Mosque Foundation Events
ATTACH;FMTTYPE=image/jpeg:https://mosquefoundation.org/wp-content/uploads/2024/01/MF_-Women-2024-scaled.jpg
END:VEVENT
BEGIN:VEVENT
DTSTART;TZID=America/Chicago:20280614T204500
DTEND;TZID=America/Chicago:20280614T213000
DTSTAMP:20260420T053034
CREATED:20260330T183840Z
LAST-MODIFIED:20260419T053416Z
UID:10049695-1844628300-1844631000@mosquefoundation.org
SUMMARY:Wednesday Class
DESCRIPTION:
URL:https://mosquefoundation.org/event/wednsday-class/2028-06-14/
CATEGORIES:Mosque Foundation Events
ATTACH;FMTTYPE=image/jpeg:https://mosquefoundation.org/wp-content/uploads/2026/03/wedclass.jpg
END:VEVENT
BEGIN:VEVENT
DTSTART;TZID=America/Chicago:20280615T204500
DTEND;TZID=America/Chicago:20280615T213000
DTSTAMP:20260420T053034
CREATED:20260330T184243Z
LAST-MODIFIED:20260419T053313Z
UID:10049431-1844714700-1844717400@mosquefoundation.org
SUMMARY:Thursday Class
DESCRIPTION:
URL:https://mosquefoundation.org/event/thursday-class/2028-06-15/
CATEGORIES:Mosque Foundation Events
ATTACH;FMTTYPE=image/jpeg:https://mosquefoundation.org/wp-content/uploads/2026/03/thursdayclass.jpg
END:VEVENT
BEGIN:VEVENT
DTSTART;TZID=America/Chicago:20280617T080000
DTEND;TZID=America/Chicago:20280617T120000
DTSTAMP:20260420T053034
CREATED:20250904T001543Z
LAST-MODIFIED:20251102T133041Z
UID:10040607-1844841600-1844856000@mosquefoundation.org
SUMMARY:Saturday Program For Young Women
DESCRIPTION:
URL:https://mosquefoundation.org/event/saturday-program-for-yong-women/2028-06-17/
CATEGORIES:Mosque Foundation Events
ATTACH;FMTTYPE=image/jpeg:https://mosquefoundation.org/wp-content/uploads/2025/09/MF_-Sat-Program-Women-SM-2025.jpg
END:VEVENT
BEGIN:VEVENT
DTSTART;TZID=America/Chicago:20280618T110000
DTEND;TZID=America/Chicago:20280618T120000
DTSTAMP:20260420T053034
CREATED:20240311T190209Z
LAST-MODIFIED:20260419T054313Z
UID:10041295-1844938800-1844942400@mosquefoundation.org
SUMMARY:Spanish Class for Women
DESCRIPTION:
URL:https://mosquefoundation.org/event/spanish-class/2028-06-18/
CATEGORIES:Mosque Foundation Events
ATTACH;FMTTYPE=image/jpeg:https://mosquefoundation.org/wp-content/uploads/2024/03/MF-Spanish-Class-ES-2024-SM-scaled.jpg
END:VEVENT
BEGIN:VEVENT
DTSTART;TZID=America/Chicago:20280618T110000
DTEND;TZID=America/Chicago:20280618T130000
DTSTAMP:20260420T053034
CREATED:20260419T053917Z
LAST-MODIFIED:20260419T053944Z
UID:10050221-1844938800-1844946000@mosquefoundation.org
SUMMARY:English Class for Women
DESCRIPTION:
URL:https://mosquefoundation.org/event/english-class-for-women/2028-06-18/
CATEGORIES:Mosque Foundation Events
ATTACH;FMTTYPE=image/jpeg:https://mosquefoundation.org/wp-content/uploads/2026/04/PHOTO-2026-04-18-06-01-36.jpg
END:VEVENT
BEGIN:VEVENT
DTSTART;TZID=America/Chicago:20280618T201500
DTEND;TZID=America/Chicago:20280618T210000
DTSTAMP:20260420T053034
CREATED:20260409T185427Z
LAST-MODIFIED:20260409T185443Z
UID:10048906-1844972100-1844974800@mosquefoundation.org
SUMMARY:Sunday Class
DESCRIPTION:
URL:https://mosquefoundation.org/event/sunday-class-2/2028-06-18/
CATEGORIES:Mosque Foundation Events
ATTACH;FMTTYPE=image/jpeg:https://mosquefoundation.org/wp-content/uploads/2026/03/MF_-Sh-Jafar-En-2026.jpg
END:VEVENT
BEGIN:VEVENT
DTSTART;TZID=America/Chicago:20280619T204500
DTEND;TZID=America/Chicago:20280619T213000
DTSTAMP:20260420T053034
CREATED:20260330T183316Z
LAST-MODIFIED:20260419T053209Z
UID:10049168-1845060300-1845063000@mosquefoundation.org
SUMMARY:Monday Class
DESCRIPTION:
URL:https://mosquefoundation.org/event/monday-class/2028-06-19/
CATEGORIES:Mosque Foundation Events
ATTACH;FMTTYPE=image/jpeg:https://mosquefoundation.org/wp-content/uploads/2026/03/mondayclass.jpg
END:VEVENT
BEGIN:VEVENT
DTSTART;TZID=America/Chicago:20280620T120000
DTEND;TZID=America/Chicago:20280620T130000
DTSTAMP:20260420T053034
CREATED:20240802T032249Z
LAST-MODIFIED:20260308T174747Z
UID:10046420-1845115200-1845118800@mosquefoundation.org
SUMMARY:Tuesday Class for Sisters
DESCRIPTION:
URL:https://mosquefoundation.org/event/tuesday-class-for-sisters/2028-06-20/
CATEGORIES:Mosque Foundation Events
ATTACH;FMTTYPE=image/jpeg:https://mosquefoundation.org/wp-content/uploads/2023/06/MF_-Tue-Women-2024.jpg
END:VEVENT
BEGIN:VEVENT
DTSTART;TZID=America/Chicago:20280620T204500
DTEND;TZID=America/Chicago:20280620T213000
DTSTAMP:20260420T053034
CREATED:20260330T183652Z
LAST-MODIFIED:20260419T053510Z
UID:10049960-1845146700-1845149400@mosquefoundation.org
SUMMARY:Tuesday Class
DESCRIPTION:
URL:https://mosquefoundation.org/event/tuesday-class/2028-06-20/
CATEGORIES:Mosque Foundation Events
ATTACH;FMTTYPE=image/jpeg:https://mosquefoundation.org/wp-content/uploads/2026/03/tueclass.jpg
END:VEVENT
BEGIN:VEVENT
DTSTART;TZID=America/Chicago:20280621T170000
DTEND;TZID=America/Chicago:20280621T180000
DTSTAMP:20260420T053034
CREATED:20251102T133710Z
LAST-MODIFIED:20260308T175756Z
UID:10046699-1845219600-1845223200@mosquefoundation.org
SUMMARY:Wednesday Class For Women
DESCRIPTION:
URL:https://mosquefoundation.org/event/wednesday-class-for-women-2-2/2028-06-21/
CATEGORIES:Mosque Foundation Events
ATTACH;FMTTYPE=image/jpeg:https://mosquefoundation.org/wp-content/uploads/2024/01/MF_-Women-2024-scaled.jpg
END:VEVENT
BEGIN:VEVENT
DTSTART;TZID=America/Chicago:20280621T204500
DTEND;TZID=America/Chicago:20280621T213000
DTSTAMP:20260420T053034
CREATED:20260330T183840Z
LAST-MODIFIED:20260419T053416Z
UID:10049696-1845233100-1845235800@mosquefoundation.org
SUMMARY:Wednesday Class
DESCRIPTION:
URL:https://mosquefoundation.org/event/wednsday-class/2028-06-21/
CATEGORIES:Mosque Foundation Events
ATTACH;FMTTYPE=image/jpeg:https://mosquefoundation.org/wp-content/uploads/2026/03/wedclass.jpg
END:VEVENT
BEGIN:VEVENT
DTSTART;TZID=America/Chicago:20280622T204500
DTEND;TZID=America/Chicago:20280622T213000
DTSTAMP:20260420T053034
CREATED:20260330T184243Z
LAST-MODIFIED:20260419T053313Z
UID:10049432-1845319500-1845322200@mosquefoundation.org
SUMMARY:Thursday Class
DESCRIPTION:
URL:https://mosquefoundation.org/event/thursday-class/2028-06-22/
CATEGORIES:Mosque Foundation Events
ATTACH;FMTTYPE=image/jpeg:https://mosquefoundation.org/wp-content/uploads/2026/03/thursdayclass.jpg
END:VEVENT
BEGIN:VEVENT
DTSTART;TZID=America/Chicago:20280624T080000
DTEND;TZID=America/Chicago:20280624T120000
DTSTAMP:20260420T053034
CREATED:20250904T001543Z
LAST-MODIFIED:20251102T133041Z
UID:10040608-1845446400-1845460800@mosquefoundation.org
SUMMARY:Saturday Program For Young Women
DESCRIPTION:
URL:https://mosquefoundation.org/event/saturday-program-for-yong-women/2028-06-24/
CATEGORIES:Mosque Foundation Events
ATTACH;FMTTYPE=image/jpeg:https://mosquefoundation.org/wp-content/uploads/2025/09/MF_-Sat-Program-Women-SM-2025.jpg
END:VEVENT
BEGIN:VEVENT
DTSTART;TZID=America/Chicago:20280625T110000
DTEND;TZID=America/Chicago:20280625T120000
DTSTAMP:20260420T053034
CREATED:20240311T190209Z
LAST-MODIFIED:20260419T054313Z
UID:10041296-1845543600-1845547200@mosquefoundation.org
SUMMARY:Spanish Class for Women
DESCRIPTION:
URL:https://mosquefoundation.org/event/spanish-class/2028-06-25/
CATEGORIES:Mosque Foundation Events
ATTACH;FMTTYPE=image/jpeg:https://mosquefoundation.org/wp-content/uploads/2024/03/MF-Spanish-Class-ES-2024-SM-scaled.jpg
END:VEVENT
BEGIN:VEVENT
DTSTART;TZID=America/Chicago:20280625T110000
DTEND;TZID=America/Chicago:20280625T130000
DTSTAMP:20260420T053034
CREATED:20260419T053917Z
LAST-MODIFIED:20260419T053944Z
UID:10050222-1845543600-1845550800@mosquefoundation.org
SUMMARY:English Class for Women
DESCRIPTION:
URL:https://mosquefoundation.org/event/english-class-for-women/2028-06-25/
CATEGORIES:Mosque Foundation Events
ATTACH;FMTTYPE=image/jpeg:https://mosquefoundation.org/wp-content/uploads/2026/04/PHOTO-2026-04-18-06-01-36.jpg
END:VEVENT
BEGIN:VEVENT
DTSTART;TZID=America/Chicago:20280625T201500
DTEND;TZID=America/Chicago:20280625T210000
DTSTAMP:20260420T053034
CREATED:20260409T185427Z
LAST-MODIFIED:20260409T185443Z
UID:10048907-1845576900-1845579600@mosquefoundation.org
SUMMARY:Sunday Class
DESCRIPTION:
URL:https://mosquefoundation.org/event/sunday-class-2/2028-06-25/
CATEGORIES:Mosque Foundation Events
ATTACH;FMTTYPE=image/jpeg:https://mosquefoundation.org/wp-content/uploads/2026/03/MF_-Sh-Jafar-En-2026.jpg
END:VEVENT
BEGIN:VEVENT
DTSTART;TZID=America/Chicago:20280626T204500
DTEND;TZID=America/Chicago:20280626T213000
DTSTAMP:20260420T053034
CREATED:20260330T183316Z
LAST-MODIFIED:20260419T053209Z
UID:10049169-1845665100-1845667800@mosquefoundation.org
SUMMARY:Monday Class
DESCRIPTION:
URL:https://mosquefoundation.org/event/monday-class/2028-06-26/
CATEGORIES:Mosque Foundation Events
ATTACH;FMTTYPE=image/jpeg:https://mosquefoundation.org/wp-content/uploads/2026/03/mondayclass.jpg
END:VEVENT
BEGIN:VEVENT
DTSTART;TZID=America/Chicago:20280627T120000
DTEND;TZID=America/Chicago:20280627T130000
DTSTAMP:20260420T053034
CREATED:20240802T032249Z
LAST-MODIFIED:20260308T174747Z
UID:10046421-1845720000-1845723600@mosquefoundation.org
SUMMARY:Tuesday Class for Sisters
DESCRIPTION:
URL:https://mosquefoundation.org/event/tuesday-class-for-sisters/2028-06-27/
CATEGORIES:Mosque Foundation Events
ATTACH;FMTTYPE=image/jpeg:https://mosquefoundation.org/wp-content/uploads/2023/06/MF_-Tue-Women-2024.jpg
END:VEVENT
BEGIN:VEVENT
DTSTART;TZID=America/Chicago:20280627T204500
DTEND;TZID=America/Chicago:20280627T213000
DTSTAMP:20260420T053034
CREATED:20260330T183652Z
LAST-MODIFIED:20260419T053510Z
UID:10049961-1845751500-1845754200@mosquefoundation.org
SUMMARY:Tuesday Class
DESCRIPTION:
URL:https://mosquefoundation.org/event/tuesday-class/2028-06-27/
CATEGORIES:Mosque Foundation Events
ATTACH;FMTTYPE=image/jpeg:https://mosquefoundation.org/wp-content/uploads/2026/03/tueclass.jpg
END:VEVENT
BEGIN:VEVENT
DTSTART;TZID=America/Chicago:20280628T170000
DTEND;TZID=America/Chicago:20280628T180000
DTSTAMP:20260420T053034
CREATED:20251102T133710Z
LAST-MODIFIED:20260308T175756Z
UID:10046700-1845824400-1845828000@mosquefoundation.org
SUMMARY:Wednesday Class For Women
DESCRIPTION:
URL:https://mosquefoundation.org/event/wednesday-class-for-women-2-2/2028-06-28/
CATEGORIES:Mosque Foundation Events
ATTACH;FMTTYPE=image/jpeg:https://mosquefoundation.org/wp-content/uploads/2024/01/MF_-Women-2024-scaled.jpg
END:VEVENT
BEGIN:VEVENT
DTSTART;TZID=America/Chicago:20280628T204500
DTEND;TZID=America/Chicago:20280628T213000
DTSTAMP:20260420T053034
CREATED:20260330T183840Z
LAST-MODIFIED:20260419T053416Z
UID:10049697-1845837900-1845840600@mosquefoundation.org
SUMMARY:Wednesday Class
DESCRIPTION:
URL:https://mosquefoundation.org/event/wednsday-class/2028-06-28/
CATEGORIES:Mosque Foundation Events
ATTACH;FMTTYPE=image/jpeg:https://mosquefoundation.org/wp-content/uploads/2026/03/wedclass.jpg
END:VEVENT
BEGIN:VEVENT
DTSTART;TZID=America/Chicago:20280629T204500
DTEND;TZID=America/Chicago:20280629T213000
DTSTAMP:20260420T053034
CREATED:20260330T184243Z
LAST-MODIFIED:20260419T053313Z
UID:10049433-1845924300-1845927000@mosquefoundation.org
SUMMARY:Thursday Class
DESCRIPTION:
URL:https://mosquefoundation.org/event/thursday-class/2028-06-29/
CATEGORIES:Mosque Foundation Events
ATTACH;FMTTYPE=image/jpeg:https://mosquefoundation.org/wp-content/uploads/2026/03/thursdayclass.jpg
END:VEVENT
BEGIN:VEVENT
DTSTART;TZID=America/Chicago:20280701T080000
DTEND;TZID=America/Chicago:20280701T120000
DTSTAMP:20260420T053034
CREATED:20250904T001543Z
LAST-MODIFIED:20251102T133041Z
UID:10040609-1846051200-1846065600@mosquefoundation.org
SUMMARY:Saturday Program For Young Women
DESCRIPTION:
URL:https://mosquefoundation.org/event/saturday-program-for-yong-women/2028-07-01/
CATEGORIES:Mosque Foundation Events
ATTACH;FMTTYPE=image/jpeg:https://mosquefoundation.org/wp-content/uploads/2025/09/MF_-Sat-Program-Women-SM-2025.jpg
END:VEVENT
END:VCALENDAR