BEGIN:VCALENDAR
VERSION:2.0
PRODID:-//Mosque Foundation | Bridgeview, Illinois - ECPv6.15.16//NONSGML v1.0//EN
CALSCALE:GREGORIAN
METHOD:PUBLISH
X-WR-CALNAME:Mosque Foundation | Bridgeview, Illinois
X-ORIGINAL-URL:https://mosquefoundation.org
X-WR-CALDESC:Events for Mosque Foundation | Bridgeview, Illinois
REFRESH-INTERVAL;VALUE=DURATION:PT1H
X-Robots-Tag:noindex
X-PUBLISHED-TTL:PT1H
BEGIN:VTIMEZONE
TZID:America/Chicago
BEGIN:DAYLIGHT
TZOFFSETFROM:-0600
TZOFFSETTO:-0500
TZNAME:CDT
DTSTART:20280312T080000
END:DAYLIGHT
BEGIN:STANDARD
TZOFFSETFROM:-0500
TZOFFSETTO:-0600
TZNAME:CST
DTSTART:20281105T070000
END:STANDARD
BEGIN:DAYLIGHT
TZOFFSETFROM:-0600
TZOFFSETTO:-0500
TZNAME:CDT
DTSTART:20290311T080000
END:DAYLIGHT
BEGIN:STANDARD
TZOFFSETFROM:-0500
TZOFFSETTO:-0600
TZNAME:CST
DTSTART:20291104T070000
END:STANDARD
BEGIN:DAYLIGHT
TZOFFSETFROM:-0600
TZOFFSETTO:-0500
TZNAME:CDT
DTSTART:20300310T080000
END:DAYLIGHT
BEGIN:STANDARD
TZOFFSETFROM:-0500
TZOFFSETTO:-0600
TZNAME:CST
DTSTART:20301103T070000
END:STANDARD
END:VTIMEZONE
BEGIN:VEVENT
DTSTART;TZID=America/Chicago:20291027T080000
DTEND;TZID=America/Chicago:20291027T120000
DTSTAMP:20260420T112900
CREATED:20250904T001543Z
LAST-MODIFIED:20251102T133041Z
UID:10040678-1887782400-1887796800@mosquefoundation.org
SUMMARY:Saturday Program For Young Women
DESCRIPTION:
URL:https://mosquefoundation.org/event/saturday-program-for-yong-women/2029-10-27/
CATEGORIES:Mosque Foundation Events
ATTACH;FMTTYPE=image/jpeg:https://mosquefoundation.org/wp-content/uploads/2025/09/MF_-Sat-Program-Women-SM-2025.jpg
END:VEVENT
BEGIN:VEVENT
DTSTART;TZID=America/Chicago:20291028T110000
DTEND;TZID=America/Chicago:20291028T120000
DTSTAMP:20260420T112900
CREATED:20240311T190209Z
LAST-MODIFIED:20260419T054313Z
UID:10041366-1887879600-1887883200@mosquefoundation.org
SUMMARY:Spanish Class for Women
DESCRIPTION:
URL:https://mosquefoundation.org/event/spanish-class/2029-10-28/
CATEGORIES:Mosque Foundation Events
ATTACH;FMTTYPE=image/jpeg:https://mosquefoundation.org/wp-content/uploads/2024/03/MF-Spanish-Class-ES-2024-SM-scaled.jpg
END:VEVENT
BEGIN:VEVENT
DTSTART;TZID=America/Chicago:20291028T110000
DTEND;TZID=America/Chicago:20291028T130000
DTSTAMP:20260420T112900
CREATED:20260419T053917Z
LAST-MODIFIED:20260419T053944Z
UID:10050292-1887879600-1887886800@mosquefoundation.org
SUMMARY:English Class for Women
DESCRIPTION:
URL:https://mosquefoundation.org/event/english-class-for-women/2029-10-28/
CATEGORIES:Mosque Foundation Events
ATTACH;FMTTYPE=image/jpeg:https://mosquefoundation.org/wp-content/uploads/2026/04/PHOTO-2026-04-18-06-01-36.jpg
END:VEVENT
BEGIN:VEVENT
DTSTART;TZID=America/Chicago:20291028T201500
DTEND;TZID=America/Chicago:20291028T210000
DTSTAMP:20260420T112900
CREATED:20260409T185427Z
LAST-MODIFIED:20260409T185443Z
UID:10048977-1887912900-1887915600@mosquefoundation.org
SUMMARY:Sunday Class
DESCRIPTION:
URL:https://mosquefoundation.org/event/sunday-class-2/2029-10-28/
CATEGORIES:Mosque Foundation Events
ATTACH;FMTTYPE=image/jpeg:https://mosquefoundation.org/wp-content/uploads/2026/03/MF_-Sh-Jafar-En-2026.jpg
END:VEVENT
BEGIN:VEVENT
DTSTART;TZID=America/Chicago:20291029T204500
DTEND;TZID=America/Chicago:20291029T213000
DTSTAMP:20260420T112900
CREATED:20260330T183316Z
LAST-MODIFIED:20260419T053209Z
UID:10049239-1888001100-1888003800@mosquefoundation.org
SUMMARY:Monday Class
DESCRIPTION:
URL:https://mosquefoundation.org/event/monday-class/2029-10-29/
CATEGORIES:Mosque Foundation Events
ATTACH;FMTTYPE=image/jpeg:https://mosquefoundation.org/wp-content/uploads/2026/03/mondayclass.jpg
END:VEVENT
BEGIN:VEVENT
DTSTART;TZID=America/Chicago:20291030T120000
DTEND;TZID=America/Chicago:20291030T130000
DTSTAMP:20260420T112900
CREATED:20240802T032249Z
LAST-MODIFIED:20260308T174747Z
UID:10046491-1888056000-1888059600@mosquefoundation.org
SUMMARY:Tuesday Class for Sisters
DESCRIPTION:
URL:https://mosquefoundation.org/event/tuesday-class-for-sisters/2029-10-30/
CATEGORIES:Mosque Foundation Events
ATTACH;FMTTYPE=image/jpeg:https://mosquefoundation.org/wp-content/uploads/2023/06/MF_-Tue-Women-2024.jpg
END:VEVENT
BEGIN:VEVENT
DTSTART;TZID=America/Chicago:20291030T204500
DTEND;TZID=America/Chicago:20291030T213000
DTSTAMP:20260420T112900
CREATED:20260330T183652Z
LAST-MODIFIED:20260419T053510Z
UID:10050031-1888087500-1888090200@mosquefoundation.org
SUMMARY:Tuesday Class
DESCRIPTION:
URL:https://mosquefoundation.org/event/tuesday-class/2029-10-30/
CATEGORIES:Mosque Foundation Events
ATTACH;FMTTYPE=image/jpeg:https://mosquefoundation.org/wp-content/uploads/2026/03/tueclass.jpg
END:VEVENT
BEGIN:VEVENT
DTSTART;TZID=America/Chicago:20291031T170000
DTEND;TZID=America/Chicago:20291031T180000
DTSTAMP:20260420T112900
CREATED:20251102T133710Z
LAST-MODIFIED:20260308T175756Z
UID:10046770-1888160400-1888164000@mosquefoundation.org
SUMMARY:Wednesday Class For Women
DESCRIPTION:
URL:https://mosquefoundation.org/event/wednesday-class-for-women-2-2/2029-10-31/
CATEGORIES:Mosque Foundation Events
ATTACH;FMTTYPE=image/jpeg:https://mosquefoundation.org/wp-content/uploads/2024/01/MF_-Women-2024-scaled.jpg
END:VEVENT
BEGIN:VEVENT
DTSTART;TZID=America/Chicago:20291031T204500
DTEND;TZID=America/Chicago:20291031T213000
DTSTAMP:20260420T112900
CREATED:20260330T183840Z
LAST-MODIFIED:20260419T053416Z
UID:10049767-1888173900-1888176600@mosquefoundation.org
SUMMARY:Wednesday Class
DESCRIPTION:
URL:https://mosquefoundation.org/event/wednsday-class/2029-10-31/
CATEGORIES:Mosque Foundation Events
ATTACH;FMTTYPE=image/jpeg:https://mosquefoundation.org/wp-content/uploads/2026/03/wedclass.jpg
END:VEVENT
BEGIN:VEVENT
DTSTART;TZID=America/Chicago:20291101T204500
DTEND;TZID=America/Chicago:20291101T213000
DTSTAMP:20260420T112900
CREATED:20260330T184243Z
LAST-MODIFIED:20260419T053313Z
UID:10049503-1888260300-1888263000@mosquefoundation.org
SUMMARY:Thursday Class
DESCRIPTION:
URL:https://mosquefoundation.org/event/thursday-class/2029-11-01/
CATEGORIES:Mosque Foundation Events
ATTACH;FMTTYPE=image/jpeg:https://mosquefoundation.org/wp-content/uploads/2026/03/thursdayclass.jpg
END:VEVENT
BEGIN:VEVENT
DTSTART;TZID=America/Chicago:20291103T080000
DTEND;TZID=America/Chicago:20291103T120000
DTSTAMP:20260420T112900
CREATED:20250904T001543Z
LAST-MODIFIED:20251102T133041Z
UID:10040679-1888387200-1888401600@mosquefoundation.org
SUMMARY:Saturday Program For Young Women
DESCRIPTION:
URL:https://mosquefoundation.org/event/saturday-program-for-yong-women/2029-11-03/
CATEGORIES:Mosque Foundation Events
ATTACH;FMTTYPE=image/jpeg:https://mosquefoundation.org/wp-content/uploads/2025/09/MF_-Sat-Program-Women-SM-2025.jpg
END:VEVENT
BEGIN:VEVENT
DTSTART;TZID=America/Chicago:20291104T120000
DTEND;TZID=America/Chicago:20291104T130000
DTSTAMP:20260420T112900
CREATED:20240311T190209Z
LAST-MODIFIED:20260419T054313Z
UID:10041367-1888488000-1888491600@mosquefoundation.org
SUMMARY:Spanish Class for Women
DESCRIPTION:
URL:https://mosquefoundation.org/event/spanish-class/2029-11-04/
CATEGORIES:Mosque Foundation Events
ATTACH;FMTTYPE=image/jpeg:https://mosquefoundation.org/wp-content/uploads/2024/03/MF-Spanish-Class-ES-2024-SM-scaled.jpg
END:VEVENT
BEGIN:VEVENT
DTSTART;TZID=America/Chicago:20291104T120000
DTEND;TZID=America/Chicago:20291104T140000
DTSTAMP:20260420T112900
CREATED:20260419T053917Z
LAST-MODIFIED:20260419T053944Z
UID:10050293-1888488000-1888495200@mosquefoundation.org
SUMMARY:English Class for Women
DESCRIPTION:
URL:https://mosquefoundation.org/event/english-class-for-women/2029-11-04/
CATEGORIES:Mosque Foundation Events
ATTACH;FMTTYPE=image/jpeg:https://mosquefoundation.org/wp-content/uploads/2026/04/PHOTO-2026-04-18-06-01-36.jpg
END:VEVENT
BEGIN:VEVENT
DTSTART;TZID=America/Chicago:20291104T211500
DTEND;TZID=America/Chicago:20291104T220000
DTSTAMP:20260420T112900
CREATED:20260409T185427Z
LAST-MODIFIED:20260409T185443Z
UID:10048978-1888521300-1888524000@mosquefoundation.org
SUMMARY:Sunday Class
DESCRIPTION:
URL:https://mosquefoundation.org/event/sunday-class-2/2029-11-04/
CATEGORIES:Mosque Foundation Events
ATTACH;FMTTYPE=image/jpeg:https://mosquefoundation.org/wp-content/uploads/2026/03/MF_-Sh-Jafar-En-2026.jpg
END:VEVENT
BEGIN:VEVENT
DTSTART;TZID=America/Chicago:20291105T214500
DTEND;TZID=America/Chicago:20291105T223000
DTSTAMP:20260420T112900
CREATED:20260330T183316Z
LAST-MODIFIED:20260419T053209Z
UID:10049240-1888609500-1888612200@mosquefoundation.org
SUMMARY:Monday Class
DESCRIPTION:
URL:https://mosquefoundation.org/event/monday-class/2029-11-05/
CATEGORIES:Mosque Foundation Events
ATTACH;FMTTYPE=image/jpeg:https://mosquefoundation.org/wp-content/uploads/2026/03/mondayclass.jpg
END:VEVENT
BEGIN:VEVENT
DTSTART;TZID=America/Chicago:20291106T130000
DTEND;TZID=America/Chicago:20291106T140000
DTSTAMP:20260420T112900
CREATED:20240802T032249Z
LAST-MODIFIED:20260308T174747Z
UID:10046492-1888664400-1888668000@mosquefoundation.org
SUMMARY:Tuesday Class for Sisters
DESCRIPTION:
URL:https://mosquefoundation.org/event/tuesday-class-for-sisters/2029-11-06/
CATEGORIES:Mosque Foundation Events
ATTACH;FMTTYPE=image/jpeg:https://mosquefoundation.org/wp-content/uploads/2023/06/MF_-Tue-Women-2024.jpg
END:VEVENT
BEGIN:VEVENT
DTSTART;TZID=America/Chicago:20291106T214500
DTEND;TZID=America/Chicago:20291106T223000
DTSTAMP:20260420T112900
CREATED:20260330T183652Z
LAST-MODIFIED:20260419T053510Z
UID:10050032-1888695900-1888698600@mosquefoundation.org
SUMMARY:Tuesday Class
DESCRIPTION:
URL:https://mosquefoundation.org/event/tuesday-class/2029-11-06/
CATEGORIES:Mosque Foundation Events
ATTACH;FMTTYPE=image/jpeg:https://mosquefoundation.org/wp-content/uploads/2026/03/tueclass.jpg
END:VEVENT
BEGIN:VEVENT
DTSTART;TZID=America/Chicago:20291107T180000
DTEND;TZID=America/Chicago:20291107T190000
DTSTAMP:20260420T112900
CREATED:20251102T133710Z
LAST-MODIFIED:20260308T175756Z
UID:10046771-1888768800-1888772400@mosquefoundation.org
SUMMARY:Wednesday Class For Women
DESCRIPTION:
URL:https://mosquefoundation.org/event/wednesday-class-for-women-2-2/2029-11-07/
CATEGORIES:Mosque Foundation Events
ATTACH;FMTTYPE=image/jpeg:https://mosquefoundation.org/wp-content/uploads/2024/01/MF_-Women-2024-scaled.jpg
END:VEVENT
BEGIN:VEVENT
DTSTART;TZID=America/Chicago:20291107T214500
DTEND;TZID=America/Chicago:20291107T223000
DTSTAMP:20260420T112900
CREATED:20260330T183840Z
LAST-MODIFIED:20260419T053416Z
UID:10049768-1888782300-1888785000@mosquefoundation.org
SUMMARY:Wednesday Class
DESCRIPTION:
URL:https://mosquefoundation.org/event/wednsday-class/2029-11-07/
CATEGORIES:Mosque Foundation Events
ATTACH;FMTTYPE=image/jpeg:https://mosquefoundation.org/wp-content/uploads/2026/03/wedclass.jpg
END:VEVENT
BEGIN:VEVENT
DTSTART;TZID=America/Chicago:20291108T214500
DTEND;TZID=America/Chicago:20291108T223000
DTSTAMP:20260420T112900
CREATED:20260330T184243Z
LAST-MODIFIED:20260419T053313Z
UID:10049504-1888868700-1888871400@mosquefoundation.org
SUMMARY:Thursday Class
DESCRIPTION:
URL:https://mosquefoundation.org/event/thursday-class/2029-11-08/
CATEGORIES:Mosque Foundation Events
ATTACH;FMTTYPE=image/jpeg:https://mosquefoundation.org/wp-content/uploads/2026/03/thursdayclass.jpg
END:VEVENT
BEGIN:VEVENT
DTSTART;TZID=America/Chicago:20291110T090000
DTEND;TZID=America/Chicago:20291110T130000
DTSTAMP:20260420T112900
CREATED:20250904T001543Z
LAST-MODIFIED:20251102T133041Z
UID:10040680-1888995600-1889010000@mosquefoundation.org
SUMMARY:Saturday Program For Young Women
DESCRIPTION:
URL:https://mosquefoundation.org/event/saturday-program-for-yong-women/2029-11-10/
CATEGORIES:Mosque Foundation Events
ATTACH;FMTTYPE=image/jpeg:https://mosquefoundation.org/wp-content/uploads/2025/09/MF_-Sat-Program-Women-SM-2025.jpg
END:VEVENT
BEGIN:VEVENT
DTSTART;TZID=America/Chicago:20291111T120000
DTEND;TZID=America/Chicago:20291111T130000
DTSTAMP:20260420T112900
CREATED:20240311T190209Z
LAST-MODIFIED:20260419T054313Z
UID:10041368-1889092800-1889096400@mosquefoundation.org
SUMMARY:Spanish Class for Women
DESCRIPTION:
URL:https://mosquefoundation.org/event/spanish-class/2029-11-11/
CATEGORIES:Mosque Foundation Events
ATTACH;FMTTYPE=image/jpeg:https://mosquefoundation.org/wp-content/uploads/2024/03/MF-Spanish-Class-ES-2024-SM-scaled.jpg
END:VEVENT
BEGIN:VEVENT
DTSTART;TZID=America/Chicago:20291111T120000
DTEND;TZID=America/Chicago:20291111T140000
DTSTAMP:20260420T112900
CREATED:20260419T053917Z
LAST-MODIFIED:20260419T053944Z
UID:10050294-1889092800-1889100000@mosquefoundation.org
SUMMARY:English Class for Women
DESCRIPTION:
URL:https://mosquefoundation.org/event/english-class-for-women/2029-11-11/
CATEGORIES:Mosque Foundation Events
ATTACH;FMTTYPE=image/jpeg:https://mosquefoundation.org/wp-content/uploads/2026/04/PHOTO-2026-04-18-06-01-36.jpg
END:VEVENT
BEGIN:VEVENT
DTSTART;TZID=America/Chicago:20291111T211500
DTEND;TZID=America/Chicago:20291111T220000
DTSTAMP:20260420T112900
CREATED:20260409T185427Z
LAST-MODIFIED:20260409T185443Z
UID:10048979-1889126100-1889128800@mosquefoundation.org
SUMMARY:Sunday Class
DESCRIPTION:
URL:https://mosquefoundation.org/event/sunday-class-2/2029-11-11/
CATEGORIES:Mosque Foundation Events
ATTACH;FMTTYPE=image/jpeg:https://mosquefoundation.org/wp-content/uploads/2026/03/MF_-Sh-Jafar-En-2026.jpg
END:VEVENT
BEGIN:VEVENT
DTSTART;TZID=America/Chicago:20291112T214500
DTEND;TZID=America/Chicago:20291112T223000
DTSTAMP:20260420T112900
CREATED:20260330T183316Z
LAST-MODIFIED:20260419T053209Z
UID:10049241-1889214300-1889217000@mosquefoundation.org
SUMMARY:Monday Class
DESCRIPTION:
URL:https://mosquefoundation.org/event/monday-class/2029-11-12/
CATEGORIES:Mosque Foundation Events
ATTACH;FMTTYPE=image/jpeg:https://mosquefoundation.org/wp-content/uploads/2026/03/mondayclass.jpg
END:VEVENT
BEGIN:VEVENT
DTSTART;TZID=America/Chicago:20291113T130000
DTEND;TZID=America/Chicago:20291113T140000
DTSTAMP:20260420T112900
CREATED:20240802T032249Z
LAST-MODIFIED:20260308T174747Z
UID:10046493-1889269200-1889272800@mosquefoundation.org
SUMMARY:Tuesday Class for Sisters
DESCRIPTION:
URL:https://mosquefoundation.org/event/tuesday-class-for-sisters/2029-11-13/
CATEGORIES:Mosque Foundation Events
ATTACH;FMTTYPE=image/jpeg:https://mosquefoundation.org/wp-content/uploads/2023/06/MF_-Tue-Women-2024.jpg
END:VEVENT
BEGIN:VEVENT
DTSTART;TZID=America/Chicago:20291113T214500
DTEND;TZID=America/Chicago:20291113T223000
DTSTAMP:20260420T112900
CREATED:20260330T183652Z
LAST-MODIFIED:20260419T053510Z
UID:10050033-1889300700-1889303400@mosquefoundation.org
SUMMARY:Tuesday Class
DESCRIPTION:
URL:https://mosquefoundation.org/event/tuesday-class/2029-11-13/
CATEGORIES:Mosque Foundation Events
ATTACH;FMTTYPE=image/jpeg:https://mosquefoundation.org/wp-content/uploads/2026/03/tueclass.jpg
END:VEVENT
BEGIN:VEVENT
DTSTART;TZID=America/Chicago:20291114T180000
DTEND;TZID=America/Chicago:20291114T190000
DTSTAMP:20260420T112900
CREATED:20251102T133710Z
LAST-MODIFIED:20260308T175756Z
UID:10046772-1889373600-1889377200@mosquefoundation.org
SUMMARY:Wednesday Class For Women
DESCRIPTION:
URL:https://mosquefoundation.org/event/wednesday-class-for-women-2-2/2029-11-14/
CATEGORIES:Mosque Foundation Events
ATTACH;FMTTYPE=image/jpeg:https://mosquefoundation.org/wp-content/uploads/2024/01/MF_-Women-2024-scaled.jpg
END:VEVENT
BEGIN:VEVENT
DTSTART;TZID=America/Chicago:20291114T214500
DTEND;TZID=America/Chicago:20291114T223000
DTSTAMP:20260420T112900
CREATED:20260330T183840Z
LAST-MODIFIED:20260419T053416Z
UID:10049769-1889387100-1889389800@mosquefoundation.org
SUMMARY:Wednesday Class
DESCRIPTION:
URL:https://mosquefoundation.org/event/wednsday-class/2029-11-14/
CATEGORIES:Mosque Foundation Events
ATTACH;FMTTYPE=image/jpeg:https://mosquefoundation.org/wp-content/uploads/2026/03/wedclass.jpg
END:VEVENT
BEGIN:VEVENT
DTSTART;TZID=America/Chicago:20291115T214500
DTEND;TZID=America/Chicago:20291115T223000
DTSTAMP:20260420T112900
CREATED:20260330T184243Z
LAST-MODIFIED:20260419T053313Z
UID:10049505-1889473500-1889476200@mosquefoundation.org
SUMMARY:Thursday Class
DESCRIPTION:
URL:https://mosquefoundation.org/event/thursday-class/2029-11-15/
CATEGORIES:Mosque Foundation Events
ATTACH;FMTTYPE=image/jpeg:https://mosquefoundation.org/wp-content/uploads/2026/03/thursdayclass.jpg
END:VEVENT
END:VCALENDAR