BEGIN:VCALENDAR
VERSION:2.0
PRODID:-//Mosque Foundation | Bridgeview, Illinois - ECPv6.15.16//NONSGML v1.0//EN
CALSCALE:GREGORIAN
METHOD:PUBLISH
X-WR-CALNAME:Mosque Foundation | Bridgeview, Illinois
X-ORIGINAL-URL:https://mosquefoundation.org
X-WR-CALDESC:Events for Mosque Foundation | Bridgeview, Illinois
REFRESH-INTERVAL;VALUE=DURATION:PT1H
X-Robots-Tag:noindex
X-PUBLISHED-TTL:PT1H
BEGIN:VTIMEZONE
TZID:America/Chicago
BEGIN:DAYLIGHT
TZOFFSETFROM:-0600
TZOFFSETTO:-0500
TZNAME:CDT
DTSTART:20270314T080000
END:DAYLIGHT
BEGIN:STANDARD
TZOFFSETFROM:-0500
TZOFFSETTO:-0600
TZNAME:CST
DTSTART:20271107T070000
END:STANDARD
BEGIN:DAYLIGHT
TZOFFSETFROM:-0600
TZOFFSETTO:-0500
TZNAME:CDT
DTSTART:20280312T080000
END:DAYLIGHT
BEGIN:STANDARD
TZOFFSETFROM:-0500
TZOFFSETTO:-0600
TZNAME:CST
DTSTART:20281105T070000
END:STANDARD
BEGIN:DAYLIGHT
TZOFFSETFROM:-0600
TZOFFSETTO:-0500
TZNAME:CDT
DTSTART:20290311T080000
END:DAYLIGHT
BEGIN:STANDARD
TZOFFSETFROM:-0500
TZOFFSETTO:-0600
TZNAME:CST
DTSTART:20291104T070000
END:STANDARD
BEGIN:DAYLIGHT
TZOFFSETFROM:-0600
TZOFFSETTO:-0500
TZNAME:CDT
DTSTART:20300310T080000
END:DAYLIGHT
BEGIN:STANDARD
TZOFFSETFROM:-0500
TZOFFSETTO:-0600
TZNAME:CST
DTSTART:20301103T070000
END:STANDARD
END:VTIMEZONE
BEGIN:VEVENT
DTSTART;TZID=America/Chicago:20281223T090000
DTEND;TZID=America/Chicago:20281223T130000
DTSTAMP:20260420T022523
CREATED:20250904T001543Z
LAST-MODIFIED:20251102T133041Z
UID:10040634-1861174800-1861189200@mosquefoundation.org
SUMMARY:Saturday Program For Young Women
DESCRIPTION:
URL:https://mosquefoundation.org/event/saturday-program-for-yong-women/2028-12-23/
CATEGORIES:Mosque Foundation Events
ATTACH;FMTTYPE=image/jpeg:https://mosquefoundation.org/wp-content/uploads/2025/09/MF_-Sat-Program-Women-SM-2025.jpg
END:VEVENT
BEGIN:VEVENT
DTSTART;TZID=America/Chicago:20281224T120000
DTEND;TZID=America/Chicago:20281224T130000
DTSTAMP:20260420T022523
CREATED:20240311T190209Z
LAST-MODIFIED:20260419T054313Z
UID:10041322-1861272000-1861275600@mosquefoundation.org
SUMMARY:Spanish Class for Women
DESCRIPTION:
URL:https://mosquefoundation.org/event/spanish-class/2028-12-24/
CATEGORIES:Mosque Foundation Events
ATTACH;FMTTYPE=image/jpeg:https://mosquefoundation.org/wp-content/uploads/2024/03/MF-Spanish-Class-ES-2024-SM-scaled.jpg
END:VEVENT
BEGIN:VEVENT
DTSTART;TZID=America/Chicago:20281224T120000
DTEND;TZID=America/Chicago:20281224T140000
DTSTAMP:20260420T022523
CREATED:20260419T053917Z
LAST-MODIFIED:20260419T053944Z
UID:10050248-1861272000-1861279200@mosquefoundation.org
SUMMARY:English Class for Women
DESCRIPTION:
URL:https://mosquefoundation.org/event/english-class-for-women/2028-12-24/
CATEGORIES:Mosque Foundation Events
ATTACH;FMTTYPE=image/jpeg:https://mosquefoundation.org/wp-content/uploads/2026/04/PHOTO-2026-04-18-06-01-36.jpg
END:VEVENT
BEGIN:VEVENT
DTSTART;TZID=America/Chicago:20281224T211500
DTEND;TZID=America/Chicago:20281224T220000
DTSTAMP:20260420T022523
CREATED:20260409T185427Z
LAST-MODIFIED:20260409T185443Z
UID:10048933-1861305300-1861308000@mosquefoundation.org
SUMMARY:Sunday Class
DESCRIPTION:
URL:https://mosquefoundation.org/event/sunday-class-2/2028-12-24/
CATEGORIES:Mosque Foundation Events
ATTACH;FMTTYPE=image/jpeg:https://mosquefoundation.org/wp-content/uploads/2026/03/MF_-Sh-Jafar-En-2026.jpg
END:VEVENT
BEGIN:VEVENT
DTSTART;TZID=America/Chicago:20281225T214500
DTEND;TZID=America/Chicago:20281225T223000
DTSTAMP:20260420T022523
CREATED:20260330T183316Z
LAST-MODIFIED:20260419T053209Z
UID:10049195-1861393500-1861396200@mosquefoundation.org
SUMMARY:Monday Class
DESCRIPTION:
URL:https://mosquefoundation.org/event/monday-class/2028-12-25/
CATEGORIES:Mosque Foundation Events
ATTACH;FMTTYPE=image/jpeg:https://mosquefoundation.org/wp-content/uploads/2026/03/mondayclass.jpg
END:VEVENT
BEGIN:VEVENT
DTSTART;TZID=America/Chicago:20281226T130000
DTEND;TZID=America/Chicago:20281226T140000
DTSTAMP:20260420T022523
CREATED:20240802T032249Z
LAST-MODIFIED:20260308T174747Z
UID:10046447-1861448400-1861452000@mosquefoundation.org
SUMMARY:Tuesday Class for Sisters
DESCRIPTION:
URL:https://mosquefoundation.org/event/tuesday-class-for-sisters/2028-12-26/
CATEGORIES:Mosque Foundation Events
ATTACH;FMTTYPE=image/jpeg:https://mosquefoundation.org/wp-content/uploads/2023/06/MF_-Tue-Women-2024.jpg
END:VEVENT
BEGIN:VEVENT
DTSTART;TZID=America/Chicago:20281226T214500
DTEND;TZID=America/Chicago:20281226T223000
DTSTAMP:20260420T022523
CREATED:20260330T183652Z
LAST-MODIFIED:20260419T053510Z
UID:10049987-1861479900-1861482600@mosquefoundation.org
SUMMARY:Tuesday Class
DESCRIPTION:
URL:https://mosquefoundation.org/event/tuesday-class/2028-12-26/
CATEGORIES:Mosque Foundation Events
ATTACH;FMTTYPE=image/jpeg:https://mosquefoundation.org/wp-content/uploads/2026/03/tueclass.jpg
END:VEVENT
BEGIN:VEVENT
DTSTART;TZID=America/Chicago:20281227T180000
DTEND;TZID=America/Chicago:20281227T190000
DTSTAMP:20260420T022523
CREATED:20251102T133710Z
LAST-MODIFIED:20260308T175756Z
UID:10046726-1861552800-1861556400@mosquefoundation.org
SUMMARY:Wednesday Class For Women
DESCRIPTION:
URL:https://mosquefoundation.org/event/wednesday-class-for-women-2-2/2028-12-27/
CATEGORIES:Mosque Foundation Events
ATTACH;FMTTYPE=image/jpeg:https://mosquefoundation.org/wp-content/uploads/2024/01/MF_-Women-2024-scaled.jpg
END:VEVENT
BEGIN:VEVENT
DTSTART;TZID=America/Chicago:20281227T214500
DTEND;TZID=America/Chicago:20281227T223000
DTSTAMP:20260420T022523
CREATED:20260330T183840Z
LAST-MODIFIED:20260419T053416Z
UID:10049723-1861566300-1861569000@mosquefoundation.org
SUMMARY:Wednesday Class
DESCRIPTION:
URL:https://mosquefoundation.org/event/wednsday-class/2028-12-27/
CATEGORIES:Mosque Foundation Events
ATTACH;FMTTYPE=image/jpeg:https://mosquefoundation.org/wp-content/uploads/2026/03/wedclass.jpg
END:VEVENT
BEGIN:VEVENT
DTSTART;TZID=America/Chicago:20281228T214500
DTEND;TZID=America/Chicago:20281228T223000
DTSTAMP:20260420T022523
CREATED:20260330T184243Z
LAST-MODIFIED:20260419T053313Z
UID:10049459-1861652700-1861655400@mosquefoundation.org
SUMMARY:Thursday Class
DESCRIPTION:
URL:https://mosquefoundation.org/event/thursday-class/2028-12-28/
CATEGORIES:Mosque Foundation Events
ATTACH;FMTTYPE=image/jpeg:https://mosquefoundation.org/wp-content/uploads/2026/03/thursdayclass.jpg
END:VEVENT
BEGIN:VEVENT
DTSTART;TZID=America/Chicago:20281230T090000
DTEND;TZID=America/Chicago:20281230T130000
DTSTAMP:20260420T022523
CREATED:20250904T001543Z
LAST-MODIFIED:20251102T133041Z
UID:10040635-1861779600-1861794000@mosquefoundation.org
SUMMARY:Saturday Program For Young Women
DESCRIPTION:
URL:https://mosquefoundation.org/event/saturday-program-for-yong-women/2028-12-30/
CATEGORIES:Mosque Foundation Events
ATTACH;FMTTYPE=image/jpeg:https://mosquefoundation.org/wp-content/uploads/2025/09/MF_-Sat-Program-Women-SM-2025.jpg
END:VEVENT
BEGIN:VEVENT
DTSTART;TZID=America/Chicago:20281231T120000
DTEND;TZID=America/Chicago:20281231T130000
DTSTAMP:20260420T022523
CREATED:20240311T190209Z
LAST-MODIFIED:20260419T054313Z
UID:10041323-1861876800-1861880400@mosquefoundation.org
SUMMARY:Spanish Class for Women
DESCRIPTION:
URL:https://mosquefoundation.org/event/spanish-class/2028-12-31/
CATEGORIES:Mosque Foundation Events
ATTACH;FMTTYPE=image/jpeg:https://mosquefoundation.org/wp-content/uploads/2024/03/MF-Spanish-Class-ES-2024-SM-scaled.jpg
END:VEVENT
BEGIN:VEVENT
DTSTART;TZID=America/Chicago:20281231T120000
DTEND;TZID=America/Chicago:20281231T140000
DTSTAMP:20260420T022523
CREATED:20260419T053917Z
LAST-MODIFIED:20260419T053944Z
UID:10050249-1861876800-1861884000@mosquefoundation.org
SUMMARY:English Class for Women
DESCRIPTION:
URL:https://mosquefoundation.org/event/english-class-for-women/2028-12-31/
CATEGORIES:Mosque Foundation Events
ATTACH;FMTTYPE=image/jpeg:https://mosquefoundation.org/wp-content/uploads/2026/04/PHOTO-2026-04-18-06-01-36.jpg
END:VEVENT
BEGIN:VEVENT
DTSTART;TZID=America/Chicago:20281231T211500
DTEND;TZID=America/Chicago:20281231T220000
DTSTAMP:20260420T022523
CREATED:20260409T185427Z
LAST-MODIFIED:20260409T185443Z
UID:10048934-1861910100-1861912800@mosquefoundation.org
SUMMARY:Sunday Class
DESCRIPTION:
URL:https://mosquefoundation.org/event/sunday-class-2/2028-12-31/
CATEGORIES:Mosque Foundation Events
ATTACH;FMTTYPE=image/jpeg:https://mosquefoundation.org/wp-content/uploads/2026/03/MF_-Sh-Jafar-En-2026.jpg
END:VEVENT
BEGIN:VEVENT
DTSTART;TZID=America/Chicago:20290101T214500
DTEND;TZID=America/Chicago:20290101T223000
DTSTAMP:20260420T022523
CREATED:20260330T183316Z
LAST-MODIFIED:20260419T053209Z
UID:10049196-1861998300-1862001000@mosquefoundation.org
SUMMARY:Monday Class
DESCRIPTION:
URL:https://mosquefoundation.org/event/monday-class/2029-01-01/
CATEGORIES:Mosque Foundation Events
ATTACH;FMTTYPE=image/jpeg:https://mosquefoundation.org/wp-content/uploads/2026/03/mondayclass.jpg
END:VEVENT
BEGIN:VEVENT
DTSTART;TZID=America/Chicago:20290102T130000
DTEND;TZID=America/Chicago:20290102T140000
DTSTAMP:20260420T022523
CREATED:20240802T032249Z
LAST-MODIFIED:20260308T174747Z
UID:10046448-1862053200-1862056800@mosquefoundation.org
SUMMARY:Tuesday Class for Sisters
DESCRIPTION:
URL:https://mosquefoundation.org/event/tuesday-class-for-sisters/2029-01-02/
CATEGORIES:Mosque Foundation Events
ATTACH;FMTTYPE=image/jpeg:https://mosquefoundation.org/wp-content/uploads/2023/06/MF_-Tue-Women-2024.jpg
END:VEVENT
BEGIN:VEVENT
DTSTART;TZID=America/Chicago:20290102T214500
DTEND;TZID=America/Chicago:20290102T223000
DTSTAMP:20260420T022523
CREATED:20260330T183652Z
LAST-MODIFIED:20260419T053510Z
UID:10049988-1862084700-1862087400@mosquefoundation.org
SUMMARY:Tuesday Class
DESCRIPTION:
URL:https://mosquefoundation.org/event/tuesday-class/2029-01-02/
CATEGORIES:Mosque Foundation Events
ATTACH;FMTTYPE=image/jpeg:https://mosquefoundation.org/wp-content/uploads/2026/03/tueclass.jpg
END:VEVENT
BEGIN:VEVENT
DTSTART;TZID=America/Chicago:20290103T180000
DTEND;TZID=America/Chicago:20290103T190000
DTSTAMP:20260420T022523
CREATED:20251102T133710Z
LAST-MODIFIED:20260308T175756Z
UID:10046727-1862157600-1862161200@mosquefoundation.org
SUMMARY:Wednesday Class For Women
DESCRIPTION:
URL:https://mosquefoundation.org/event/wednesday-class-for-women-2-2/2029-01-03/
CATEGORIES:Mosque Foundation Events
ATTACH;FMTTYPE=image/jpeg:https://mosquefoundation.org/wp-content/uploads/2024/01/MF_-Women-2024-scaled.jpg
END:VEVENT
BEGIN:VEVENT
DTSTART;TZID=America/Chicago:20290103T214500
DTEND;TZID=America/Chicago:20290103T223000
DTSTAMP:20260420T022523
CREATED:20260330T183840Z
LAST-MODIFIED:20260419T053416Z
UID:10049724-1862171100-1862173800@mosquefoundation.org
SUMMARY:Wednesday Class
DESCRIPTION:
URL:https://mosquefoundation.org/event/wednsday-class/2029-01-03/
CATEGORIES:Mosque Foundation Events
ATTACH;FMTTYPE=image/jpeg:https://mosquefoundation.org/wp-content/uploads/2026/03/wedclass.jpg
END:VEVENT
BEGIN:VEVENT
DTSTART;TZID=America/Chicago:20290104T214500
DTEND;TZID=America/Chicago:20290104T223000
DTSTAMP:20260420T022523
CREATED:20260330T184243Z
LAST-MODIFIED:20260419T053313Z
UID:10049460-1862257500-1862260200@mosquefoundation.org
SUMMARY:Thursday Class
DESCRIPTION:
URL:https://mosquefoundation.org/event/thursday-class/2029-01-04/
CATEGORIES:Mosque Foundation Events
ATTACH;FMTTYPE=image/jpeg:https://mosquefoundation.org/wp-content/uploads/2026/03/thursdayclass.jpg
END:VEVENT
BEGIN:VEVENT
DTSTART;TZID=America/Chicago:20290106T090000
DTEND;TZID=America/Chicago:20290106T130000
DTSTAMP:20260420T022523
CREATED:20250904T001543Z
LAST-MODIFIED:20251102T133041Z
UID:10040636-1862384400-1862398800@mosquefoundation.org
SUMMARY:Saturday Program For Young Women
DESCRIPTION:
URL:https://mosquefoundation.org/event/saturday-program-for-yong-women/2029-01-06/
CATEGORIES:Mosque Foundation Events
ATTACH;FMTTYPE=image/jpeg:https://mosquefoundation.org/wp-content/uploads/2025/09/MF_-Sat-Program-Women-SM-2025.jpg
END:VEVENT
BEGIN:VEVENT
DTSTART;TZID=America/Chicago:20290107T120000
DTEND;TZID=America/Chicago:20290107T130000
DTSTAMP:20260420T022523
CREATED:20240311T190209Z
LAST-MODIFIED:20260419T054313Z
UID:10041324-1862481600-1862485200@mosquefoundation.org
SUMMARY:Spanish Class for Women
DESCRIPTION:
URL:https://mosquefoundation.org/event/spanish-class/2029-01-07/
CATEGORIES:Mosque Foundation Events
ATTACH;FMTTYPE=image/jpeg:https://mosquefoundation.org/wp-content/uploads/2024/03/MF-Spanish-Class-ES-2024-SM-scaled.jpg
END:VEVENT
BEGIN:VEVENT
DTSTART;TZID=America/Chicago:20290107T120000
DTEND;TZID=America/Chicago:20290107T140000
DTSTAMP:20260420T022523
CREATED:20260419T053917Z
LAST-MODIFIED:20260419T053944Z
UID:10050250-1862481600-1862488800@mosquefoundation.org
SUMMARY:English Class for Women
DESCRIPTION:
URL:https://mosquefoundation.org/event/english-class-for-women/2029-01-07/
CATEGORIES:Mosque Foundation Events
ATTACH;FMTTYPE=image/jpeg:https://mosquefoundation.org/wp-content/uploads/2026/04/PHOTO-2026-04-18-06-01-36.jpg
END:VEVENT
BEGIN:VEVENT
DTSTART;TZID=America/Chicago:20290107T211500
DTEND;TZID=America/Chicago:20290107T220000
DTSTAMP:20260420T022523
CREATED:20260409T185427Z
LAST-MODIFIED:20260409T185443Z
UID:10048935-1862514900-1862517600@mosquefoundation.org
SUMMARY:Sunday Class
DESCRIPTION:
URL:https://mosquefoundation.org/event/sunday-class-2/2029-01-07/
CATEGORIES:Mosque Foundation Events
ATTACH;FMTTYPE=image/jpeg:https://mosquefoundation.org/wp-content/uploads/2026/03/MF_-Sh-Jafar-En-2026.jpg
END:VEVENT
BEGIN:VEVENT
DTSTART;TZID=America/Chicago:20290108T214500
DTEND;TZID=America/Chicago:20290108T223000
DTSTAMP:20260420T022523
CREATED:20260330T183316Z
LAST-MODIFIED:20260419T053209Z
UID:10049197-1862603100-1862605800@mosquefoundation.org
SUMMARY:Monday Class
DESCRIPTION:
URL:https://mosquefoundation.org/event/monday-class/2029-01-08/
CATEGORIES:Mosque Foundation Events
ATTACH;FMTTYPE=image/jpeg:https://mosquefoundation.org/wp-content/uploads/2026/03/mondayclass.jpg
END:VEVENT
BEGIN:VEVENT
DTSTART;TZID=America/Chicago:20290109T130000
DTEND;TZID=America/Chicago:20290109T140000
DTSTAMP:20260420T022523
CREATED:20240802T032249Z
LAST-MODIFIED:20260308T174747Z
UID:10046449-1862658000-1862661600@mosquefoundation.org
SUMMARY:Tuesday Class for Sisters
DESCRIPTION:
URL:https://mosquefoundation.org/event/tuesday-class-for-sisters/2029-01-09/
CATEGORIES:Mosque Foundation Events
ATTACH;FMTTYPE=image/jpeg:https://mosquefoundation.org/wp-content/uploads/2023/06/MF_-Tue-Women-2024.jpg
END:VEVENT
BEGIN:VEVENT
DTSTART;TZID=America/Chicago:20290109T214500
DTEND;TZID=America/Chicago:20290109T223000
DTSTAMP:20260420T022523
CREATED:20260330T183652Z
LAST-MODIFIED:20260419T053510Z
UID:10049989-1862689500-1862692200@mosquefoundation.org
SUMMARY:Tuesday Class
DESCRIPTION:
URL:https://mosquefoundation.org/event/tuesday-class/2029-01-09/
CATEGORIES:Mosque Foundation Events
ATTACH;FMTTYPE=image/jpeg:https://mosquefoundation.org/wp-content/uploads/2026/03/tueclass.jpg
END:VEVENT
BEGIN:VEVENT
DTSTART;TZID=America/Chicago:20290110T180000
DTEND;TZID=America/Chicago:20290110T190000
DTSTAMP:20260420T022523
CREATED:20251102T133710Z
LAST-MODIFIED:20260308T175756Z
UID:10046728-1862762400-1862766000@mosquefoundation.org
SUMMARY:Wednesday Class For Women
DESCRIPTION:
URL:https://mosquefoundation.org/event/wednesday-class-for-women-2-2/2029-01-10/
CATEGORIES:Mosque Foundation Events
ATTACH;FMTTYPE=image/jpeg:https://mosquefoundation.org/wp-content/uploads/2024/01/MF_-Women-2024-scaled.jpg
END:VEVENT
BEGIN:VEVENT
DTSTART;TZID=America/Chicago:20290110T214500
DTEND;TZID=America/Chicago:20290110T223000
DTSTAMP:20260420T022523
CREATED:20260330T183840Z
LAST-MODIFIED:20260419T053416Z
UID:10049725-1862775900-1862778600@mosquefoundation.org
SUMMARY:Wednesday Class
DESCRIPTION:
URL:https://mosquefoundation.org/event/wednsday-class/2029-01-10/
CATEGORIES:Mosque Foundation Events
ATTACH;FMTTYPE=image/jpeg:https://mosquefoundation.org/wp-content/uploads/2026/03/wedclass.jpg
END:VEVENT
BEGIN:VEVENT
DTSTART;TZID=America/Chicago:20290111T214500
DTEND;TZID=America/Chicago:20290111T223000
DTSTAMP:20260420T022523
CREATED:20260330T184243Z
LAST-MODIFIED:20260419T053313Z
UID:10049461-1862862300-1862865000@mosquefoundation.org
SUMMARY:Thursday Class
DESCRIPTION:
URL:https://mosquefoundation.org/event/thursday-class/2029-01-11/
CATEGORIES:Mosque Foundation Events
ATTACH;FMTTYPE=image/jpeg:https://mosquefoundation.org/wp-content/uploads/2026/03/thursdayclass.jpg
END:VEVENT
END:VCALENDAR