BEGIN:VCALENDAR
VERSION:2.0
PRODID:-//Mosque Foundation | Bridgeview, Illinois - ECPv6.15.16//NONSGML v1.0//EN
CALSCALE:GREGORIAN
METHOD:PUBLISH
X-WR-CALNAME:Mosque Foundation | Bridgeview, Illinois
X-ORIGINAL-URL:https://mosquefoundation.org
X-WR-CALDESC:Events for Mosque Foundation | Bridgeview, Illinois
REFRESH-INTERVAL;VALUE=DURATION:PT1H
X-Robots-Tag:noindex
X-PUBLISHED-TTL:PT1H
BEGIN:VTIMEZONE
TZID:America/Chicago
BEGIN:DAYLIGHT
TZOFFSETFROM:-0600
TZOFFSETTO:-0500
TZNAME:CDT
DTSTART:20270314T080000
END:DAYLIGHT
BEGIN:STANDARD
TZOFFSETFROM:-0500
TZOFFSETTO:-0600
TZNAME:CST
DTSTART:20271107T070000
END:STANDARD
BEGIN:DAYLIGHT
TZOFFSETFROM:-0600
TZOFFSETTO:-0500
TZNAME:CDT
DTSTART:20280312T080000
END:DAYLIGHT
BEGIN:STANDARD
TZOFFSETFROM:-0500
TZOFFSETTO:-0600
TZNAME:CST
DTSTART:20281105T070000
END:STANDARD
BEGIN:DAYLIGHT
TZOFFSETFROM:-0600
TZOFFSETTO:-0500
TZNAME:CDT
DTSTART:20290311T080000
END:DAYLIGHT
BEGIN:STANDARD
TZOFFSETFROM:-0500
TZOFFSETTO:-0600
TZNAME:CST
DTSTART:20291104T070000
END:STANDARD
END:VTIMEZONE
BEGIN:VEVENT
DTSTART;TZID=America/Chicago:20280319T110000
DTEND;TZID=America/Chicago:20280319T120000
DTSTAMP:20260419T100118
CREATED:20240311T190209Z
LAST-MODIFIED:20260419T054313Z
UID:10041282-1837076400-1837080000@mosquefoundation.org
SUMMARY:Spanish Class for Women
DESCRIPTION:
URL:https://mosquefoundation.org/event/spanish-class/2028-03-19/
CATEGORIES:Mosque Foundation Events
ATTACH;FMTTYPE=image/jpeg:https://mosquefoundation.org/wp-content/uploads/2024/03/MF-Spanish-Class-ES-2024-SM-scaled.jpg
END:VEVENT
BEGIN:VEVENT
DTSTART;TZID=America/Chicago:20280319T110000
DTEND;TZID=America/Chicago:20280319T130000
DTSTAMP:20260419T100119
CREATED:20260419T053917Z
LAST-MODIFIED:20260419T053944Z
UID:10050208-1837076400-1837083600@mosquefoundation.org
SUMMARY:English Class for Women
DESCRIPTION:
URL:https://mosquefoundation.org/event/english-class-for-women/2028-03-19/
CATEGORIES:Mosque Foundation Events
ATTACH;FMTTYPE=image/jpeg:https://mosquefoundation.org/wp-content/uploads/2026/04/PHOTO-2026-04-18-06-01-36.jpg
END:VEVENT
BEGIN:VEVENT
DTSTART;TZID=America/Chicago:20280319T201500
DTEND;TZID=America/Chicago:20280319T210000
DTSTAMP:20260419T100119
CREATED:20260409T185427Z
LAST-MODIFIED:20260409T185443Z
UID:10048893-1837109700-1837112400@mosquefoundation.org
SUMMARY:Sunday Class
DESCRIPTION:
URL:https://mosquefoundation.org/event/sunday-class-2/2028-03-19/
CATEGORIES:Mosque Foundation Events
ATTACH;FMTTYPE=image/jpeg:https://mosquefoundation.org/wp-content/uploads/2026/03/MF_-Sh-Jafar-En-2026.jpg
END:VEVENT
BEGIN:VEVENT
DTSTART;TZID=America/Chicago:20280320T204500
DTEND;TZID=America/Chicago:20280320T213000
DTSTAMP:20260419T100119
CREATED:20260330T183316Z
LAST-MODIFIED:20260419T053209Z
UID:10049155-1837197900-1837200600@mosquefoundation.org
SUMMARY:Monday Class
DESCRIPTION:
URL:https://mosquefoundation.org/event/monday-class/2028-03-20/
CATEGORIES:Mosque Foundation Events
ATTACH;FMTTYPE=image/jpeg:https://mosquefoundation.org/wp-content/uploads/2026/03/mondayclass.jpg
END:VEVENT
BEGIN:VEVENT
DTSTART;TZID=America/Chicago:20280321T120000
DTEND;TZID=America/Chicago:20280321T130000
DTSTAMP:20260419T100119
CREATED:20240802T032249Z
LAST-MODIFIED:20260308T174747Z
UID:10046407-1837252800-1837256400@mosquefoundation.org
SUMMARY:Tuesday Class for Sisters
DESCRIPTION:
URL:https://mosquefoundation.org/event/tuesday-class-for-sisters/2028-03-21/
CATEGORIES:Mosque Foundation Events
ATTACH;FMTTYPE=image/jpeg:https://mosquefoundation.org/wp-content/uploads/2023/06/MF_-Tue-Women-2024.jpg
END:VEVENT
BEGIN:VEVENT
DTSTART;TZID=America/Chicago:20280321T204500
DTEND;TZID=America/Chicago:20280321T213000
DTSTAMP:20260419T100119
CREATED:20260330T183652Z
LAST-MODIFIED:20260419T053510Z
UID:10049947-1837284300-1837287000@mosquefoundation.org
SUMMARY:Tuesday Class
DESCRIPTION:
URL:https://mosquefoundation.org/event/tuesday-class/2028-03-21/
CATEGORIES:Mosque Foundation Events
ATTACH;FMTTYPE=image/jpeg:https://mosquefoundation.org/wp-content/uploads/2026/03/tueclass.jpg
END:VEVENT
BEGIN:VEVENT
DTSTART;TZID=America/Chicago:20280322T170000
DTEND;TZID=America/Chicago:20280322T180000
DTSTAMP:20260419T100119
CREATED:20251102T133710Z
LAST-MODIFIED:20260308T175756Z
UID:10046686-1837357200-1837360800@mosquefoundation.org
SUMMARY:Wednesday Class For Women
DESCRIPTION:
URL:https://mosquefoundation.org/event/wednesday-class-for-women-2-2/2028-03-22/
CATEGORIES:Mosque Foundation Events
ATTACH;FMTTYPE=image/jpeg:https://mosquefoundation.org/wp-content/uploads/2024/01/MF_-Women-2024-scaled.jpg
END:VEVENT
BEGIN:VEVENT
DTSTART;TZID=America/Chicago:20280322T204500
DTEND;TZID=America/Chicago:20280322T213000
DTSTAMP:20260419T100119
CREATED:20260330T183840Z
LAST-MODIFIED:20260419T053416Z
UID:10049683-1837370700-1837373400@mosquefoundation.org
SUMMARY:Wednesday Class
DESCRIPTION:
URL:https://mosquefoundation.org/event/wednsday-class/2028-03-22/
CATEGORIES:Mosque Foundation Events
ATTACH;FMTTYPE=image/jpeg:https://mosquefoundation.org/wp-content/uploads/2026/03/wedclass.jpg
END:VEVENT
BEGIN:VEVENT
DTSTART;TZID=America/Chicago:20280323T204500
DTEND;TZID=America/Chicago:20280323T213000
DTSTAMP:20260419T100119
CREATED:20260330T184243Z
LAST-MODIFIED:20260419T053313Z
UID:10049419-1837457100-1837459800@mosquefoundation.org
SUMMARY:Thursday Class
DESCRIPTION:
URL:https://mosquefoundation.org/event/thursday-class/2028-03-23/
CATEGORIES:Mosque Foundation Events
ATTACH;FMTTYPE=image/jpeg:https://mosquefoundation.org/wp-content/uploads/2026/03/thursdayclass.jpg
END:VEVENT
BEGIN:VEVENT
DTSTART;TZID=America/Chicago:20280325T080000
DTEND;TZID=America/Chicago:20280325T120000
DTSTAMP:20260419T100119
CREATED:20250904T001543Z
LAST-MODIFIED:20251102T133041Z
UID:10040595-1837584000-1837598400@mosquefoundation.org
SUMMARY:Saturday Program For Young Women
DESCRIPTION:
URL:https://mosquefoundation.org/event/saturday-program-for-yong-women/2028-03-25/
CATEGORIES:Mosque Foundation Events
ATTACH;FMTTYPE=image/jpeg:https://mosquefoundation.org/wp-content/uploads/2025/09/MF_-Sat-Program-Women-SM-2025.jpg
END:VEVENT
BEGIN:VEVENT
DTSTART;TZID=America/Chicago:20280326T110000
DTEND;TZID=America/Chicago:20280326T120000
DTSTAMP:20260419T100119
CREATED:20240311T190209Z
LAST-MODIFIED:20260419T054313Z
UID:10041283-1837681200-1837684800@mosquefoundation.org
SUMMARY:Spanish Class for Women
DESCRIPTION:
URL:https://mosquefoundation.org/event/spanish-class/2028-03-26/
CATEGORIES:Mosque Foundation Events
ATTACH;FMTTYPE=image/jpeg:https://mosquefoundation.org/wp-content/uploads/2024/03/MF-Spanish-Class-ES-2024-SM-scaled.jpg
END:VEVENT
BEGIN:VEVENT
DTSTART;TZID=America/Chicago:20280326T110000
DTEND;TZID=America/Chicago:20280326T130000
DTSTAMP:20260419T100119
CREATED:20260419T053917Z
LAST-MODIFIED:20260419T053944Z
UID:10050209-1837681200-1837688400@mosquefoundation.org
SUMMARY:English Class for Women
DESCRIPTION:
URL:https://mosquefoundation.org/event/english-class-for-women/2028-03-26/
CATEGORIES:Mosque Foundation Events
ATTACH;FMTTYPE=image/jpeg:https://mosquefoundation.org/wp-content/uploads/2026/04/PHOTO-2026-04-18-06-01-36.jpg
END:VEVENT
BEGIN:VEVENT
DTSTART;TZID=America/Chicago:20280326T201500
DTEND;TZID=America/Chicago:20280326T210000
DTSTAMP:20260419T100119
CREATED:20260409T185427Z
LAST-MODIFIED:20260409T185443Z
UID:10048894-1837714500-1837717200@mosquefoundation.org
SUMMARY:Sunday Class
DESCRIPTION:
URL:https://mosquefoundation.org/event/sunday-class-2/2028-03-26/
CATEGORIES:Mosque Foundation Events
ATTACH;FMTTYPE=image/jpeg:https://mosquefoundation.org/wp-content/uploads/2026/03/MF_-Sh-Jafar-En-2026.jpg
END:VEVENT
BEGIN:VEVENT
DTSTART;TZID=America/Chicago:20280327T204500
DTEND;TZID=America/Chicago:20280327T213000
DTSTAMP:20260419T100119
CREATED:20260330T183316Z
LAST-MODIFIED:20260419T053209Z
UID:10049156-1837802700-1837805400@mosquefoundation.org
SUMMARY:Monday Class
DESCRIPTION:
URL:https://mosquefoundation.org/event/monday-class/2028-03-27/
CATEGORIES:Mosque Foundation Events
ATTACH;FMTTYPE=image/jpeg:https://mosquefoundation.org/wp-content/uploads/2026/03/mondayclass.jpg
END:VEVENT
BEGIN:VEVENT
DTSTART;TZID=America/Chicago:20280328T120000
DTEND;TZID=America/Chicago:20280328T130000
DTSTAMP:20260419T100119
CREATED:20240802T032249Z
LAST-MODIFIED:20260308T174747Z
UID:10046408-1837857600-1837861200@mosquefoundation.org
SUMMARY:Tuesday Class for Sisters
DESCRIPTION:
URL:https://mosquefoundation.org/event/tuesday-class-for-sisters/2028-03-28/
CATEGORIES:Mosque Foundation Events
ATTACH;FMTTYPE=image/jpeg:https://mosquefoundation.org/wp-content/uploads/2023/06/MF_-Tue-Women-2024.jpg
END:VEVENT
BEGIN:VEVENT
DTSTART;TZID=America/Chicago:20280328T204500
DTEND;TZID=America/Chicago:20280328T213000
DTSTAMP:20260419T100119
CREATED:20260330T183652Z
LAST-MODIFIED:20260419T053510Z
UID:10049948-1837889100-1837891800@mosquefoundation.org
SUMMARY:Tuesday Class
DESCRIPTION:
URL:https://mosquefoundation.org/event/tuesday-class/2028-03-28/
CATEGORIES:Mosque Foundation Events
ATTACH;FMTTYPE=image/jpeg:https://mosquefoundation.org/wp-content/uploads/2026/03/tueclass.jpg
END:VEVENT
BEGIN:VEVENT
DTSTART;TZID=America/Chicago:20280329T170000
DTEND;TZID=America/Chicago:20280329T180000
DTSTAMP:20260419T100119
CREATED:20251102T133710Z
LAST-MODIFIED:20260308T175756Z
UID:10046687-1837962000-1837965600@mosquefoundation.org
SUMMARY:Wednesday Class For Women
DESCRIPTION:
URL:https://mosquefoundation.org/event/wednesday-class-for-women-2-2/2028-03-29/
CATEGORIES:Mosque Foundation Events
ATTACH;FMTTYPE=image/jpeg:https://mosquefoundation.org/wp-content/uploads/2024/01/MF_-Women-2024-scaled.jpg
END:VEVENT
BEGIN:VEVENT
DTSTART;TZID=America/Chicago:20280329T204500
DTEND;TZID=America/Chicago:20280329T213000
DTSTAMP:20260419T100119
CREATED:20260330T183840Z
LAST-MODIFIED:20260419T053416Z
UID:10049684-1837975500-1837978200@mosquefoundation.org
SUMMARY:Wednesday Class
DESCRIPTION:
URL:https://mosquefoundation.org/event/wednsday-class/2028-03-29/
CATEGORIES:Mosque Foundation Events
ATTACH;FMTTYPE=image/jpeg:https://mosquefoundation.org/wp-content/uploads/2026/03/wedclass.jpg
END:VEVENT
BEGIN:VEVENT
DTSTART;TZID=America/Chicago:20280330T204500
DTEND;TZID=America/Chicago:20280330T213000
DTSTAMP:20260419T100119
CREATED:20260330T184243Z
LAST-MODIFIED:20260419T053313Z
UID:10049420-1838061900-1838064600@mosquefoundation.org
SUMMARY:Thursday Class
DESCRIPTION:
URL:https://mosquefoundation.org/event/thursday-class/2028-03-30/
CATEGORIES:Mosque Foundation Events
ATTACH;FMTTYPE=image/jpeg:https://mosquefoundation.org/wp-content/uploads/2026/03/thursdayclass.jpg
END:VEVENT
BEGIN:VEVENT
DTSTART;TZID=America/Chicago:20280401T080000
DTEND;TZID=America/Chicago:20280401T120000
DTSTAMP:20260419T100119
CREATED:20250904T001543Z
LAST-MODIFIED:20251102T133041Z
UID:10040596-1838188800-1838203200@mosquefoundation.org
SUMMARY:Saturday Program For Young Women
DESCRIPTION:
URL:https://mosquefoundation.org/event/saturday-program-for-yong-women/2028-04-01/
CATEGORIES:Mosque Foundation Events
ATTACH;FMTTYPE=image/jpeg:https://mosquefoundation.org/wp-content/uploads/2025/09/MF_-Sat-Program-Women-SM-2025.jpg
END:VEVENT
BEGIN:VEVENT
DTSTART;TZID=America/Chicago:20280402T110000
DTEND;TZID=America/Chicago:20280402T120000
DTSTAMP:20260419T100119
CREATED:20240311T190209Z
LAST-MODIFIED:20260419T054313Z
UID:10041284-1838286000-1838289600@mosquefoundation.org
SUMMARY:Spanish Class for Women
DESCRIPTION:
URL:https://mosquefoundation.org/event/spanish-class/2028-04-02/
CATEGORIES:Mosque Foundation Events
ATTACH;FMTTYPE=image/jpeg:https://mosquefoundation.org/wp-content/uploads/2024/03/MF-Spanish-Class-ES-2024-SM-scaled.jpg
END:VEVENT
BEGIN:VEVENT
DTSTART;TZID=America/Chicago:20280402T110000
DTEND;TZID=America/Chicago:20280402T130000
DTSTAMP:20260419T100119
CREATED:20260419T053917Z
LAST-MODIFIED:20260419T053944Z
UID:10050210-1838286000-1838293200@mosquefoundation.org
SUMMARY:English Class for Women
DESCRIPTION:
URL:https://mosquefoundation.org/event/english-class-for-women/2028-04-02/
CATEGORIES:Mosque Foundation Events
ATTACH;FMTTYPE=image/jpeg:https://mosquefoundation.org/wp-content/uploads/2026/04/PHOTO-2026-04-18-06-01-36.jpg
END:VEVENT
BEGIN:VEVENT
DTSTART;TZID=America/Chicago:20280402T201500
DTEND;TZID=America/Chicago:20280402T210000
DTSTAMP:20260419T100119
CREATED:20260409T185427Z
LAST-MODIFIED:20260409T185443Z
UID:10048895-1838319300-1838322000@mosquefoundation.org
SUMMARY:Sunday Class
DESCRIPTION:
URL:https://mosquefoundation.org/event/sunday-class-2/2028-04-02/
CATEGORIES:Mosque Foundation Events
ATTACH;FMTTYPE=image/jpeg:https://mosquefoundation.org/wp-content/uploads/2026/03/MF_-Sh-Jafar-En-2026.jpg
END:VEVENT
BEGIN:VEVENT
DTSTART;TZID=America/Chicago:20280403T204500
DTEND;TZID=America/Chicago:20280403T213000
DTSTAMP:20260419T100119
CREATED:20260330T183316Z
LAST-MODIFIED:20260419T053209Z
UID:10049157-1838407500-1838410200@mosquefoundation.org
SUMMARY:Monday Class
DESCRIPTION:
URL:https://mosquefoundation.org/event/monday-class/2028-04-03/
CATEGORIES:Mosque Foundation Events
ATTACH;FMTTYPE=image/jpeg:https://mosquefoundation.org/wp-content/uploads/2026/03/mondayclass.jpg
END:VEVENT
BEGIN:VEVENT
DTSTART;TZID=America/Chicago:20280404T120000
DTEND;TZID=America/Chicago:20280404T130000
DTSTAMP:20260419T100119
CREATED:20240802T032249Z
LAST-MODIFIED:20260308T174747Z
UID:10046409-1838462400-1838466000@mosquefoundation.org
SUMMARY:Tuesday Class for Sisters
DESCRIPTION:
URL:https://mosquefoundation.org/event/tuesday-class-for-sisters/2028-04-04/
CATEGORIES:Mosque Foundation Events
ATTACH;FMTTYPE=image/jpeg:https://mosquefoundation.org/wp-content/uploads/2023/06/MF_-Tue-Women-2024.jpg
END:VEVENT
BEGIN:VEVENT
DTSTART;TZID=America/Chicago:20280404T204500
DTEND;TZID=America/Chicago:20280404T213000
DTSTAMP:20260419T100119
CREATED:20260330T183652Z
LAST-MODIFIED:20260419T053510Z
UID:10049949-1838493900-1838496600@mosquefoundation.org
SUMMARY:Tuesday Class
DESCRIPTION:
URL:https://mosquefoundation.org/event/tuesday-class/2028-04-04/
CATEGORIES:Mosque Foundation Events
ATTACH;FMTTYPE=image/jpeg:https://mosquefoundation.org/wp-content/uploads/2026/03/tueclass.jpg
END:VEVENT
BEGIN:VEVENT
DTSTART;TZID=America/Chicago:20280405T170000
DTEND;TZID=America/Chicago:20280405T180000
DTSTAMP:20260419T100119
CREATED:20251102T133710Z
LAST-MODIFIED:20260308T175756Z
UID:10046688-1838566800-1838570400@mosquefoundation.org
SUMMARY:Wednesday Class For Women
DESCRIPTION:
URL:https://mosquefoundation.org/event/wednesday-class-for-women-2-2/2028-04-05/
CATEGORIES:Mosque Foundation Events
ATTACH;FMTTYPE=image/jpeg:https://mosquefoundation.org/wp-content/uploads/2024/01/MF_-Women-2024-scaled.jpg
END:VEVENT
BEGIN:VEVENT
DTSTART;TZID=America/Chicago:20280405T204500
DTEND;TZID=America/Chicago:20280405T213000
DTSTAMP:20260419T100119
CREATED:20260330T183840Z
LAST-MODIFIED:20260419T053416Z
UID:10049685-1838580300-1838583000@mosquefoundation.org
SUMMARY:Wednesday Class
DESCRIPTION:
URL:https://mosquefoundation.org/event/wednsday-class/2028-04-05/
CATEGORIES:Mosque Foundation Events
ATTACH;FMTTYPE=image/jpeg:https://mosquefoundation.org/wp-content/uploads/2026/03/wedclass.jpg
END:VEVENT
BEGIN:VEVENT
DTSTART;TZID=America/Chicago:20280406T204500
DTEND;TZID=America/Chicago:20280406T213000
DTSTAMP:20260419T100119
CREATED:20260330T184243Z
LAST-MODIFIED:20260419T053313Z
UID:10049421-1838666700-1838669400@mosquefoundation.org
SUMMARY:Thursday Class
DESCRIPTION:
URL:https://mosquefoundation.org/event/thursday-class/2028-04-06/
CATEGORIES:Mosque Foundation Events
ATTACH;FMTTYPE=image/jpeg:https://mosquefoundation.org/wp-content/uploads/2026/03/thursdayclass.jpg
END:VEVENT
BEGIN:VEVENT
DTSTART;TZID=America/Chicago:20280408T080000
DTEND;TZID=America/Chicago:20280408T120000
DTSTAMP:20260419T100119
CREATED:20250904T001543Z
LAST-MODIFIED:20251102T133041Z
UID:10040597-1838793600-1838808000@mosquefoundation.org
SUMMARY:Saturday Program For Young Women
DESCRIPTION:
URL:https://mosquefoundation.org/event/saturday-program-for-yong-women/2028-04-08/
CATEGORIES:Mosque Foundation Events
ATTACH;FMTTYPE=image/jpeg:https://mosquefoundation.org/wp-content/uploads/2025/09/MF_-Sat-Program-Women-SM-2025.jpg
END:VEVENT
END:VCALENDAR