BEGIN:VCALENDAR
VERSION:2.0
PRODID:-//Mosque Foundation | Bridgeview, Illinois - ECPv6.15.16//NONSGML v1.0//EN
CALSCALE:GREGORIAN
METHOD:PUBLISH
X-WR-CALNAME:Mosque Foundation | Bridgeview, Illinois
X-ORIGINAL-URL:https://mosquefoundation.org
X-WR-CALDESC:Events for Mosque Foundation | Bridgeview, Illinois
REFRESH-INTERVAL;VALUE=DURATION:PT1H
X-Robots-Tag:noindex
X-PUBLISHED-TTL:PT1H
BEGIN:VTIMEZONE
TZID:America/Chicago
BEGIN:DAYLIGHT
TZOFFSETFROM:-0600
TZOFFSETTO:-0500
TZNAME:CDT
DTSTART:20280312T080000
END:DAYLIGHT
BEGIN:STANDARD
TZOFFSETFROM:-0500
TZOFFSETTO:-0600
TZNAME:CST
DTSTART:20281105T070000
END:STANDARD
BEGIN:DAYLIGHT
TZOFFSETFROM:-0600
TZOFFSETTO:-0500
TZNAME:CDT
DTSTART:20290311T080000
END:DAYLIGHT
BEGIN:STANDARD
TZOFFSETFROM:-0500
TZOFFSETTO:-0600
TZNAME:CST
DTSTART:20291104T070000
END:STANDARD
BEGIN:DAYLIGHT
TZOFFSETFROM:-0600
TZOFFSETTO:-0500
TZNAME:CDT
DTSTART:20300310T080000
END:DAYLIGHT
BEGIN:STANDARD
TZOFFSETFROM:-0500
TZOFFSETTO:-0600
TZNAME:CST
DTSTART:20301103T070000
END:STANDARD
END:VTIMEZONE
BEGIN:VEVENT
DTSTART;TZID=America/Chicago:20290317T080000
DTEND;TZID=America/Chicago:20290317T120000
DTSTAMP:20260420T232102
CREATED:20250904T001543Z
LAST-MODIFIED:20251102T133041Z
UID:10040646-1868428800-1868443200@mosquefoundation.org
SUMMARY:Saturday Program For Young Women
DESCRIPTION:
URL:https://mosquefoundation.org/event/saturday-program-for-yong-women/2029-03-17/
CATEGORIES:Mosque Foundation Events
ATTACH;FMTTYPE=image/jpeg:https://mosquefoundation.org/wp-content/uploads/2025/09/MF_-Sat-Program-Women-SM-2025.jpg
END:VEVENT
BEGIN:VEVENT
DTSTART;TZID=America/Chicago:20290318T110000
DTEND;TZID=America/Chicago:20290318T120000
DTSTAMP:20260420T232102
CREATED:20240311T190209Z
LAST-MODIFIED:20260419T054313Z
UID:10041334-1868526000-1868529600@mosquefoundation.org
SUMMARY:Spanish Class for Women
DESCRIPTION:
URL:https://mosquefoundation.org/event/spanish-class/2029-03-18/
CATEGORIES:Mosque Foundation Events
ATTACH;FMTTYPE=image/jpeg:https://mosquefoundation.org/wp-content/uploads/2024/03/MF-Spanish-Class-ES-2024-SM-scaled.jpg
END:VEVENT
BEGIN:VEVENT
DTSTART;TZID=America/Chicago:20290318T110000
DTEND;TZID=America/Chicago:20290318T130000
DTSTAMP:20260420T232102
CREATED:20260419T053917Z
LAST-MODIFIED:20260419T053944Z
UID:10050260-1868526000-1868533200@mosquefoundation.org
SUMMARY:English Class for Women
DESCRIPTION:
URL:https://mosquefoundation.org/event/english-class-for-women/2029-03-18/
CATEGORIES:Mosque Foundation Events
ATTACH;FMTTYPE=image/jpeg:https://mosquefoundation.org/wp-content/uploads/2026/04/PHOTO-2026-04-18-06-01-36.jpg
END:VEVENT
BEGIN:VEVENT
DTSTART;TZID=America/Chicago:20290318T201500
DTEND;TZID=America/Chicago:20290318T210000
DTSTAMP:20260420T232102
CREATED:20260409T185427Z
LAST-MODIFIED:20260409T185443Z
UID:10048945-1868559300-1868562000@mosquefoundation.org
SUMMARY:Sunday Class
DESCRIPTION:
URL:https://mosquefoundation.org/event/sunday-class-2/2029-03-18/
CATEGORIES:Mosque Foundation Events
ATTACH;FMTTYPE=image/jpeg:https://mosquefoundation.org/wp-content/uploads/2026/03/MF_-Sh-Jafar-En-2026.jpg
END:VEVENT
BEGIN:VEVENT
DTSTART;TZID=America/Chicago:20290319T204500
DTEND;TZID=America/Chicago:20290319T213000
DTSTAMP:20260420T232102
CREATED:20260330T183316Z
LAST-MODIFIED:20260419T053209Z
UID:10049207-1868647500-1868650200@mosquefoundation.org
SUMMARY:Monday Class
DESCRIPTION:
URL:https://mosquefoundation.org/event/monday-class/2029-03-19/
CATEGORIES:Mosque Foundation Events
ATTACH;FMTTYPE=image/jpeg:https://mosquefoundation.org/wp-content/uploads/2026/03/mondayclass.jpg
END:VEVENT
BEGIN:VEVENT
DTSTART;TZID=America/Chicago:20290320T120000
DTEND;TZID=America/Chicago:20290320T130000
DTSTAMP:20260420T232102
CREATED:20240802T032249Z
LAST-MODIFIED:20260308T174747Z
UID:10046459-1868702400-1868706000@mosquefoundation.org
SUMMARY:Tuesday Class for Sisters
DESCRIPTION:
URL:https://mosquefoundation.org/event/tuesday-class-for-sisters/2029-03-20/
CATEGORIES:Mosque Foundation Events
ATTACH;FMTTYPE=image/jpeg:https://mosquefoundation.org/wp-content/uploads/2023/06/MF_-Tue-Women-2024.jpg
END:VEVENT
BEGIN:VEVENT
DTSTART;TZID=America/Chicago:20290320T204500
DTEND;TZID=America/Chicago:20290320T213000
DTSTAMP:20260420T232102
CREATED:20260330T183652Z
LAST-MODIFIED:20260419T053510Z
UID:10049999-1868733900-1868736600@mosquefoundation.org
SUMMARY:Tuesday Class
DESCRIPTION:
URL:https://mosquefoundation.org/event/tuesday-class/2029-03-20/
CATEGORIES:Mosque Foundation Events
ATTACH;FMTTYPE=image/jpeg:https://mosquefoundation.org/wp-content/uploads/2026/03/tueclass.jpg
END:VEVENT
BEGIN:VEVENT
DTSTART;TZID=America/Chicago:20290321T170000
DTEND;TZID=America/Chicago:20290321T180000
DTSTAMP:20260420T232102
CREATED:20251102T133710Z
LAST-MODIFIED:20260308T175756Z
UID:10046738-1868806800-1868810400@mosquefoundation.org
SUMMARY:Wednesday Class For Women
DESCRIPTION:
URL:https://mosquefoundation.org/event/wednesday-class-for-women-2-2/2029-03-21/
CATEGORIES:Mosque Foundation Events
ATTACH;FMTTYPE=image/jpeg:https://mosquefoundation.org/wp-content/uploads/2024/01/MF_-Women-2024-scaled.jpg
END:VEVENT
BEGIN:VEVENT
DTSTART;TZID=America/Chicago:20290321T204500
DTEND;TZID=America/Chicago:20290321T213000
DTSTAMP:20260420T232102
CREATED:20260330T183840Z
LAST-MODIFIED:20260419T053416Z
UID:10049735-1868820300-1868823000@mosquefoundation.org
SUMMARY:Wednesday Class
DESCRIPTION:
URL:https://mosquefoundation.org/event/wednsday-class/2029-03-21/
CATEGORIES:Mosque Foundation Events
ATTACH;FMTTYPE=image/jpeg:https://mosquefoundation.org/wp-content/uploads/2026/03/wedclass.jpg
END:VEVENT
BEGIN:VEVENT
DTSTART;TZID=America/Chicago:20290322T204500
DTEND;TZID=America/Chicago:20290322T213000
DTSTAMP:20260420T232102
CREATED:20260330T184243Z
LAST-MODIFIED:20260419T053313Z
UID:10049471-1868906700-1868909400@mosquefoundation.org
SUMMARY:Thursday Class
DESCRIPTION:
URL:https://mosquefoundation.org/event/thursday-class/2029-03-22/
CATEGORIES:Mosque Foundation Events
ATTACH;FMTTYPE=image/jpeg:https://mosquefoundation.org/wp-content/uploads/2026/03/thursdayclass.jpg
END:VEVENT
BEGIN:VEVENT
DTSTART;TZID=America/Chicago:20290324T080000
DTEND;TZID=America/Chicago:20290324T120000
DTSTAMP:20260420T232102
CREATED:20250904T001543Z
LAST-MODIFIED:20251102T133041Z
UID:10040647-1869033600-1869048000@mosquefoundation.org
SUMMARY:Saturday Program For Young Women
DESCRIPTION:
URL:https://mosquefoundation.org/event/saturday-program-for-yong-women/2029-03-24/
CATEGORIES:Mosque Foundation Events
ATTACH;FMTTYPE=image/jpeg:https://mosquefoundation.org/wp-content/uploads/2025/09/MF_-Sat-Program-Women-SM-2025.jpg
END:VEVENT
BEGIN:VEVENT
DTSTART;TZID=America/Chicago:20290325T110000
DTEND;TZID=America/Chicago:20290325T120000
DTSTAMP:20260420T232102
CREATED:20240311T190209Z
LAST-MODIFIED:20260419T054313Z
UID:10041335-1869130800-1869134400@mosquefoundation.org
SUMMARY:Spanish Class for Women
DESCRIPTION:
URL:https://mosquefoundation.org/event/spanish-class/2029-03-25/
CATEGORIES:Mosque Foundation Events
ATTACH;FMTTYPE=image/jpeg:https://mosquefoundation.org/wp-content/uploads/2024/03/MF-Spanish-Class-ES-2024-SM-scaled.jpg
END:VEVENT
BEGIN:VEVENT
DTSTART;TZID=America/Chicago:20290325T110000
DTEND;TZID=America/Chicago:20290325T130000
DTSTAMP:20260420T232102
CREATED:20260419T053917Z
LAST-MODIFIED:20260419T053944Z
UID:10050261-1869130800-1869138000@mosquefoundation.org
SUMMARY:English Class for Women
DESCRIPTION:
URL:https://mosquefoundation.org/event/english-class-for-women/2029-03-25/
CATEGORIES:Mosque Foundation Events
ATTACH;FMTTYPE=image/jpeg:https://mosquefoundation.org/wp-content/uploads/2026/04/PHOTO-2026-04-18-06-01-36.jpg
END:VEVENT
BEGIN:VEVENT
DTSTART;TZID=America/Chicago:20290325T201500
DTEND;TZID=America/Chicago:20290325T210000
DTSTAMP:20260420T232102
CREATED:20260409T185427Z
LAST-MODIFIED:20260409T185443Z
UID:10048946-1869164100-1869166800@mosquefoundation.org
SUMMARY:Sunday Class
DESCRIPTION:
URL:https://mosquefoundation.org/event/sunday-class-2/2029-03-25/
CATEGORIES:Mosque Foundation Events
ATTACH;FMTTYPE=image/jpeg:https://mosquefoundation.org/wp-content/uploads/2026/03/MF_-Sh-Jafar-En-2026.jpg
END:VEVENT
BEGIN:VEVENT
DTSTART;TZID=America/Chicago:20290326T204500
DTEND;TZID=America/Chicago:20290326T213000
DTSTAMP:20260420T232102
CREATED:20260330T183316Z
LAST-MODIFIED:20260419T053209Z
UID:10049208-1869252300-1869255000@mosquefoundation.org
SUMMARY:Monday Class
DESCRIPTION:
URL:https://mosquefoundation.org/event/monday-class/2029-03-26/
CATEGORIES:Mosque Foundation Events
ATTACH;FMTTYPE=image/jpeg:https://mosquefoundation.org/wp-content/uploads/2026/03/mondayclass.jpg
END:VEVENT
BEGIN:VEVENT
DTSTART;TZID=America/Chicago:20290327T120000
DTEND;TZID=America/Chicago:20290327T130000
DTSTAMP:20260420T232102
CREATED:20240802T032249Z
LAST-MODIFIED:20260308T174747Z
UID:10046460-1869307200-1869310800@mosquefoundation.org
SUMMARY:Tuesday Class for Sisters
DESCRIPTION:
URL:https://mosquefoundation.org/event/tuesday-class-for-sisters/2029-03-27/
CATEGORIES:Mosque Foundation Events
ATTACH;FMTTYPE=image/jpeg:https://mosquefoundation.org/wp-content/uploads/2023/06/MF_-Tue-Women-2024.jpg
END:VEVENT
BEGIN:VEVENT
DTSTART;TZID=America/Chicago:20290327T204500
DTEND;TZID=America/Chicago:20290327T213000
DTSTAMP:20260420T232102
CREATED:20260330T183652Z
LAST-MODIFIED:20260419T053510Z
UID:10050000-1869338700-1869341400@mosquefoundation.org
SUMMARY:Tuesday Class
DESCRIPTION:
URL:https://mosquefoundation.org/event/tuesday-class/2029-03-27/
CATEGORIES:Mosque Foundation Events
ATTACH;FMTTYPE=image/jpeg:https://mosquefoundation.org/wp-content/uploads/2026/03/tueclass.jpg
END:VEVENT
BEGIN:VEVENT
DTSTART;TZID=America/Chicago:20290328T170000
DTEND;TZID=America/Chicago:20290328T180000
DTSTAMP:20260420T232102
CREATED:20251102T133710Z
LAST-MODIFIED:20260308T175756Z
UID:10046739-1869411600-1869415200@mosquefoundation.org
SUMMARY:Wednesday Class For Women
DESCRIPTION:
URL:https://mosquefoundation.org/event/wednesday-class-for-women-2-2/2029-03-28/
CATEGORIES:Mosque Foundation Events
ATTACH;FMTTYPE=image/jpeg:https://mosquefoundation.org/wp-content/uploads/2024/01/MF_-Women-2024-scaled.jpg
END:VEVENT
BEGIN:VEVENT
DTSTART;TZID=America/Chicago:20290328T204500
DTEND;TZID=America/Chicago:20290328T213000
DTSTAMP:20260420T232102
CREATED:20260330T183840Z
LAST-MODIFIED:20260419T053416Z
UID:10049736-1869425100-1869427800@mosquefoundation.org
SUMMARY:Wednesday Class
DESCRIPTION:
URL:https://mosquefoundation.org/event/wednsday-class/2029-03-28/
CATEGORIES:Mosque Foundation Events
ATTACH;FMTTYPE=image/jpeg:https://mosquefoundation.org/wp-content/uploads/2026/03/wedclass.jpg
END:VEVENT
BEGIN:VEVENT
DTSTART;TZID=America/Chicago:20290329T204500
DTEND;TZID=America/Chicago:20290329T213000
DTSTAMP:20260420T232102
CREATED:20260330T184243Z
LAST-MODIFIED:20260419T053313Z
UID:10049472-1869511500-1869514200@mosquefoundation.org
SUMMARY:Thursday Class
DESCRIPTION:
URL:https://mosquefoundation.org/event/thursday-class/2029-03-29/
CATEGORIES:Mosque Foundation Events
ATTACH;FMTTYPE=image/jpeg:https://mosquefoundation.org/wp-content/uploads/2026/03/thursdayclass.jpg
END:VEVENT
BEGIN:VEVENT
DTSTART;TZID=America/Chicago:20290331T080000
DTEND;TZID=America/Chicago:20290331T120000
DTSTAMP:20260420T232102
CREATED:20250904T001543Z
LAST-MODIFIED:20251102T133041Z
UID:10040648-1869638400-1869652800@mosquefoundation.org
SUMMARY:Saturday Program For Young Women
DESCRIPTION:
URL:https://mosquefoundation.org/event/saturday-program-for-yong-women/2029-03-31/
CATEGORIES:Mosque Foundation Events
ATTACH;FMTTYPE=image/jpeg:https://mosquefoundation.org/wp-content/uploads/2025/09/MF_-Sat-Program-Women-SM-2025.jpg
END:VEVENT
BEGIN:VEVENT
DTSTART;TZID=America/Chicago:20290401T110000
DTEND;TZID=America/Chicago:20290401T120000
DTSTAMP:20260420T232102
CREATED:20240311T190209Z
LAST-MODIFIED:20260419T054313Z
UID:10041336-1869735600-1869739200@mosquefoundation.org
SUMMARY:Spanish Class for Women
DESCRIPTION:
URL:https://mosquefoundation.org/event/spanish-class/2029-04-01/
CATEGORIES:Mosque Foundation Events
ATTACH;FMTTYPE=image/jpeg:https://mosquefoundation.org/wp-content/uploads/2024/03/MF-Spanish-Class-ES-2024-SM-scaled.jpg
END:VEVENT
BEGIN:VEVENT
DTSTART;TZID=America/Chicago:20290401T110000
DTEND;TZID=America/Chicago:20290401T130000
DTSTAMP:20260420T232102
CREATED:20260419T053917Z
LAST-MODIFIED:20260419T053944Z
UID:10050262-1869735600-1869742800@mosquefoundation.org
SUMMARY:English Class for Women
DESCRIPTION:
URL:https://mosquefoundation.org/event/english-class-for-women/2029-04-01/
CATEGORIES:Mosque Foundation Events
ATTACH;FMTTYPE=image/jpeg:https://mosquefoundation.org/wp-content/uploads/2026/04/PHOTO-2026-04-18-06-01-36.jpg
END:VEVENT
BEGIN:VEVENT
DTSTART;TZID=America/Chicago:20290401T201500
DTEND;TZID=America/Chicago:20290401T210000
DTSTAMP:20260420T232102
CREATED:20260409T185427Z
LAST-MODIFIED:20260409T185443Z
UID:10048947-1869768900-1869771600@mosquefoundation.org
SUMMARY:Sunday Class
DESCRIPTION:
URL:https://mosquefoundation.org/event/sunday-class-2/2029-04-01/
CATEGORIES:Mosque Foundation Events
ATTACH;FMTTYPE=image/jpeg:https://mosquefoundation.org/wp-content/uploads/2026/03/MF_-Sh-Jafar-En-2026.jpg
END:VEVENT
BEGIN:VEVENT
DTSTART;TZID=America/Chicago:20290402T204500
DTEND;TZID=America/Chicago:20290402T213000
DTSTAMP:20260420T232102
CREATED:20260330T183316Z
LAST-MODIFIED:20260419T053209Z
UID:10049209-1869857100-1869859800@mosquefoundation.org
SUMMARY:Monday Class
DESCRIPTION:
URL:https://mosquefoundation.org/event/monday-class/2029-04-02/
CATEGORIES:Mosque Foundation Events
ATTACH;FMTTYPE=image/jpeg:https://mosquefoundation.org/wp-content/uploads/2026/03/mondayclass.jpg
END:VEVENT
BEGIN:VEVENT
DTSTART;TZID=America/Chicago:20290403T120000
DTEND;TZID=America/Chicago:20290403T130000
DTSTAMP:20260420T232102
CREATED:20240802T032249Z
LAST-MODIFIED:20260308T174747Z
UID:10046461-1869912000-1869915600@mosquefoundation.org
SUMMARY:Tuesday Class for Sisters
DESCRIPTION:
URL:https://mosquefoundation.org/event/tuesday-class-for-sisters/2029-04-03/
CATEGORIES:Mosque Foundation Events
ATTACH;FMTTYPE=image/jpeg:https://mosquefoundation.org/wp-content/uploads/2023/06/MF_-Tue-Women-2024.jpg
END:VEVENT
BEGIN:VEVENT
DTSTART;TZID=America/Chicago:20290403T204500
DTEND;TZID=America/Chicago:20290403T213000
DTSTAMP:20260420T232102
CREATED:20260330T183652Z
LAST-MODIFIED:20260419T053510Z
UID:10050001-1869943500-1869946200@mosquefoundation.org
SUMMARY:Tuesday Class
DESCRIPTION:
URL:https://mosquefoundation.org/event/tuesday-class/2029-04-03/
CATEGORIES:Mosque Foundation Events
ATTACH;FMTTYPE=image/jpeg:https://mosquefoundation.org/wp-content/uploads/2026/03/tueclass.jpg
END:VEVENT
BEGIN:VEVENT
DTSTART;TZID=America/Chicago:20290404T170000
DTEND;TZID=America/Chicago:20290404T180000
DTSTAMP:20260420T232102
CREATED:20251102T133710Z
LAST-MODIFIED:20260308T175756Z
UID:10046740-1870016400-1870020000@mosquefoundation.org
SUMMARY:Wednesday Class For Women
DESCRIPTION:
URL:https://mosquefoundation.org/event/wednesday-class-for-women-2-2/2029-04-04/
CATEGORIES:Mosque Foundation Events
ATTACH;FMTTYPE=image/jpeg:https://mosquefoundation.org/wp-content/uploads/2024/01/MF_-Women-2024-scaled.jpg
END:VEVENT
BEGIN:VEVENT
DTSTART;TZID=America/Chicago:20290404T204500
DTEND;TZID=America/Chicago:20290404T213000
DTSTAMP:20260420T232102
CREATED:20260330T183840Z
LAST-MODIFIED:20260419T053416Z
UID:10049737-1870029900-1870032600@mosquefoundation.org
SUMMARY:Wednesday Class
DESCRIPTION:
URL:https://mosquefoundation.org/event/wednsday-class/2029-04-04/
CATEGORIES:Mosque Foundation Events
ATTACH;FMTTYPE=image/jpeg:https://mosquefoundation.org/wp-content/uploads/2026/03/wedclass.jpg
END:VEVENT
BEGIN:VEVENT
DTSTART;TZID=America/Chicago:20290405T204500
DTEND;TZID=America/Chicago:20290405T213000
DTSTAMP:20260420T232102
CREATED:20260330T184243Z
LAST-MODIFIED:20260419T053313Z
UID:10049473-1870116300-1870119000@mosquefoundation.org
SUMMARY:Thursday Class
DESCRIPTION:
URL:https://mosquefoundation.org/event/thursday-class/2029-04-05/
CATEGORIES:Mosque Foundation Events
ATTACH;FMTTYPE=image/jpeg:https://mosquefoundation.org/wp-content/uploads/2026/03/thursdayclass.jpg
END:VEVENT
END:VCALENDAR