BEGIN:VCALENDAR
VERSION:2.0
PRODID:-//Mosque Foundation | Bridgeview, Illinois - ECPv6.15.16//NONSGML v1.0//EN
CALSCALE:GREGORIAN
METHOD:PUBLISH
X-WR-CALNAME:Mosque Foundation | Bridgeview, Illinois
X-ORIGINAL-URL:https://mosquefoundation.org
X-WR-CALDESC:Events for Mosque Foundation | Bridgeview, Illinois
REFRESH-INTERVAL;VALUE=DURATION:PT1H
X-Robots-Tag:noindex
X-PUBLISHED-TTL:PT1H
BEGIN:VTIMEZONE
TZID:America/Chicago
BEGIN:DAYLIGHT
TZOFFSETFROM:-0600
TZOFFSETTO:-0500
TZNAME:CDT
DTSTART:20290311T080000
END:DAYLIGHT
BEGIN:STANDARD
TZOFFSETFROM:-0500
TZOFFSETTO:-0600
TZNAME:CST
DTSTART:20291104T070000
END:STANDARD
BEGIN:DAYLIGHT
TZOFFSETFROM:-0600
TZOFFSETTO:-0500
TZNAME:CDT
DTSTART:20300310T080000
END:DAYLIGHT
BEGIN:STANDARD
TZOFFSETFROM:-0500
TZOFFSETTO:-0600
TZNAME:CST
DTSTART:20301103T070000
END:STANDARD
BEGIN:DAYLIGHT
TZOFFSETFROM:-0600
TZOFFSETTO:-0500
TZNAME:CDT
DTSTART:20310309T080000
END:DAYLIGHT
BEGIN:STANDARD
TZOFFSETFROM:-0500
TZOFFSETTO:-0600
TZNAME:CST
DTSTART:20311102T070000
END:STANDARD
END:VTIMEZONE
BEGIN:VEVENT
DTSTART;TZID=America/Chicago:20300216T090000
DTEND;TZID=America/Chicago:20300216T130000
DTSTAMP:20260421T072526
CREATED:20250904T001543Z
LAST-MODIFIED:20251102T133041Z
UID:10040694-1897462800-1897477200@mosquefoundation.org
SUMMARY:Saturday Program For Young Women
DESCRIPTION:
URL:https://mosquefoundation.org/event/saturday-program-for-yong-women/2030-02-16/
CATEGORIES:Mosque Foundation Events
ATTACH;FMTTYPE=image/jpeg:https://mosquefoundation.org/wp-content/uploads/2025/09/MF_-Sat-Program-Women-SM-2025.jpg
END:VEVENT
BEGIN:VEVENT
DTSTART;TZID=America/Chicago:20300217T120000
DTEND;TZID=America/Chicago:20300217T130000
DTSTAMP:20260421T072526
CREATED:20240311T190209Z
LAST-MODIFIED:20260419T054313Z
UID:10041382-1897560000-1897563600@mosquefoundation.org
SUMMARY:Spanish Class for Women
DESCRIPTION:
URL:https://mosquefoundation.org/event/spanish-class/2030-02-17/
CATEGORIES:Mosque Foundation Events
ATTACH;FMTTYPE=image/jpeg:https://mosquefoundation.org/wp-content/uploads/2024/03/MF-Spanish-Class-ES-2024-SM-scaled.jpg
END:VEVENT
BEGIN:VEVENT
DTSTART;TZID=America/Chicago:20300217T120000
DTEND;TZID=America/Chicago:20300217T140000
DTSTAMP:20260421T072526
CREATED:20260419T053917Z
LAST-MODIFIED:20260419T053944Z
UID:10050308-1897560000-1897567200@mosquefoundation.org
SUMMARY:English Class for Women
DESCRIPTION:
URL:https://mosquefoundation.org/event/english-class-for-women/2030-02-17/
CATEGORIES:Mosque Foundation Events
ATTACH;FMTTYPE=image/jpeg:https://mosquefoundation.org/wp-content/uploads/2026/04/PHOTO-2026-04-18-06-01-36.jpg
END:VEVENT
BEGIN:VEVENT
DTSTART;TZID=America/Chicago:20300217T211500
DTEND;TZID=America/Chicago:20300217T220000
DTSTAMP:20260421T072526
CREATED:20260409T185427Z
LAST-MODIFIED:20260409T185443Z
UID:10048993-1897593300-1897596000@mosquefoundation.org
SUMMARY:Sunday Class
DESCRIPTION:
URL:https://mosquefoundation.org/event/sunday-class-2/2030-02-17/
CATEGORIES:Mosque Foundation Events
ATTACH;FMTTYPE=image/jpeg:https://mosquefoundation.org/wp-content/uploads/2026/03/MF_-Sh-Jafar-En-2026.jpg
END:VEVENT
BEGIN:VEVENT
DTSTART;TZID=America/Chicago:20300218T214500
DTEND;TZID=America/Chicago:20300218T223000
DTSTAMP:20260421T072526
CREATED:20260330T183316Z
LAST-MODIFIED:20260419T053209Z
UID:10049255-1897681500-1897684200@mosquefoundation.org
SUMMARY:Monday Class
DESCRIPTION:
URL:https://mosquefoundation.org/event/monday-class/2030-02-18/
CATEGORIES:Mosque Foundation Events
ATTACH;FMTTYPE=image/jpeg:https://mosquefoundation.org/wp-content/uploads/2026/03/mondayclass.jpg
END:VEVENT
BEGIN:VEVENT
DTSTART;TZID=America/Chicago:20300219T130000
DTEND;TZID=America/Chicago:20300219T140000
DTSTAMP:20260421T072526
CREATED:20240802T032249Z
LAST-MODIFIED:20260308T174747Z
UID:10046507-1897736400-1897740000@mosquefoundation.org
SUMMARY:Tuesday Class for Sisters
DESCRIPTION:
URL:https://mosquefoundation.org/event/tuesday-class-for-sisters/2030-02-19/
CATEGORIES:Mosque Foundation Events
ATTACH;FMTTYPE=image/jpeg:https://mosquefoundation.org/wp-content/uploads/2023/06/MF_-Tue-Women-2024.jpg
END:VEVENT
BEGIN:VEVENT
DTSTART;TZID=America/Chicago:20300219T214500
DTEND;TZID=America/Chicago:20300219T223000
DTSTAMP:20260421T072526
CREATED:20260330T183652Z
LAST-MODIFIED:20260419T053510Z
UID:10050047-1897767900-1897770600@mosquefoundation.org
SUMMARY:Tuesday Class
DESCRIPTION:
URL:https://mosquefoundation.org/event/tuesday-class/2030-02-19/
CATEGORIES:Mosque Foundation Events
ATTACH;FMTTYPE=image/jpeg:https://mosquefoundation.org/wp-content/uploads/2026/03/tueclass.jpg
END:VEVENT
BEGIN:VEVENT
DTSTART;TZID=America/Chicago:20300220T180000
DTEND;TZID=America/Chicago:20300220T190000
DTSTAMP:20260421T072526
CREATED:20251102T133710Z
LAST-MODIFIED:20260308T175756Z
UID:10046786-1897840800-1897844400@mosquefoundation.org
SUMMARY:Wednesday Class For Women
DESCRIPTION:
URL:https://mosquefoundation.org/event/wednesday-class-for-women-2-2/2030-02-20/
CATEGORIES:Mosque Foundation Events
ATTACH;FMTTYPE=image/jpeg:https://mosquefoundation.org/wp-content/uploads/2024/01/MF_-Women-2024-scaled.jpg
END:VEVENT
BEGIN:VEVENT
DTSTART;TZID=America/Chicago:20300220T214500
DTEND;TZID=America/Chicago:20300220T223000
DTSTAMP:20260421T072526
CREATED:20260330T183840Z
LAST-MODIFIED:20260419T053416Z
UID:10049783-1897854300-1897857000@mosquefoundation.org
SUMMARY:Wednesday Class
DESCRIPTION:
URL:https://mosquefoundation.org/event/wednsday-class/2030-02-20/
CATEGORIES:Mosque Foundation Events
ATTACH;FMTTYPE=image/jpeg:https://mosquefoundation.org/wp-content/uploads/2026/03/wedclass.jpg
END:VEVENT
BEGIN:VEVENT
DTSTART;TZID=America/Chicago:20300221T214500
DTEND;TZID=America/Chicago:20300221T223000
DTSTAMP:20260421T072526
CREATED:20260330T184243Z
LAST-MODIFIED:20260419T053313Z
UID:10049519-1897940700-1897943400@mosquefoundation.org
SUMMARY:Thursday Class
DESCRIPTION:
URL:https://mosquefoundation.org/event/thursday-class/2030-02-21/
CATEGORIES:Mosque Foundation Events
ATTACH;FMTTYPE=image/jpeg:https://mosquefoundation.org/wp-content/uploads/2026/03/thursdayclass.jpg
END:VEVENT
BEGIN:VEVENT
DTSTART;TZID=America/Chicago:20300223T090000
DTEND;TZID=America/Chicago:20300223T130000
DTSTAMP:20260421T072526
CREATED:20250904T001543Z
LAST-MODIFIED:20251102T133041Z
UID:10040695-1898067600-1898082000@mosquefoundation.org
SUMMARY:Saturday Program For Young Women
DESCRIPTION:
URL:https://mosquefoundation.org/event/saturday-program-for-yong-women/2030-02-23/
CATEGORIES:Mosque Foundation Events
ATTACH;FMTTYPE=image/jpeg:https://mosquefoundation.org/wp-content/uploads/2025/09/MF_-Sat-Program-Women-SM-2025.jpg
END:VEVENT
BEGIN:VEVENT
DTSTART;TZID=America/Chicago:20300224T120000
DTEND;TZID=America/Chicago:20300224T130000
DTSTAMP:20260421T072526
CREATED:20240311T190209Z
LAST-MODIFIED:20260419T054313Z
UID:10041383-1898164800-1898168400@mosquefoundation.org
SUMMARY:Spanish Class for Women
DESCRIPTION:
URL:https://mosquefoundation.org/event/spanish-class/2030-02-24/
CATEGORIES:Mosque Foundation Events
ATTACH;FMTTYPE=image/jpeg:https://mosquefoundation.org/wp-content/uploads/2024/03/MF-Spanish-Class-ES-2024-SM-scaled.jpg
END:VEVENT
BEGIN:VEVENT
DTSTART;TZID=America/Chicago:20300224T120000
DTEND;TZID=America/Chicago:20300224T140000
DTSTAMP:20260421T072526
CREATED:20260419T053917Z
LAST-MODIFIED:20260419T053944Z
UID:10050309-1898164800-1898172000@mosquefoundation.org
SUMMARY:English Class for Women
DESCRIPTION:
URL:https://mosquefoundation.org/event/english-class-for-women/2030-02-24/
CATEGORIES:Mosque Foundation Events
ATTACH;FMTTYPE=image/jpeg:https://mosquefoundation.org/wp-content/uploads/2026/04/PHOTO-2026-04-18-06-01-36.jpg
END:VEVENT
BEGIN:VEVENT
DTSTART;TZID=America/Chicago:20300224T211500
DTEND;TZID=America/Chicago:20300224T220000
DTSTAMP:20260421T072526
CREATED:20260409T185427Z
LAST-MODIFIED:20260409T185443Z
UID:10048994-1898198100-1898200800@mosquefoundation.org
SUMMARY:Sunday Class
DESCRIPTION:
URL:https://mosquefoundation.org/event/sunday-class-2/2030-02-24/
CATEGORIES:Mosque Foundation Events
ATTACH;FMTTYPE=image/jpeg:https://mosquefoundation.org/wp-content/uploads/2026/03/MF_-Sh-Jafar-En-2026.jpg
END:VEVENT
BEGIN:VEVENT
DTSTART;TZID=America/Chicago:20300225T214500
DTEND;TZID=America/Chicago:20300225T223000
DTSTAMP:20260421T072526
CREATED:20260330T183316Z
LAST-MODIFIED:20260419T053209Z
UID:10049256-1898286300-1898289000@mosquefoundation.org
SUMMARY:Monday Class
DESCRIPTION:
URL:https://mosquefoundation.org/event/monday-class/2030-02-25/
CATEGORIES:Mosque Foundation Events
ATTACH;FMTTYPE=image/jpeg:https://mosquefoundation.org/wp-content/uploads/2026/03/mondayclass.jpg
END:VEVENT
BEGIN:VEVENT
DTSTART;TZID=America/Chicago:20300226T130000
DTEND;TZID=America/Chicago:20300226T140000
DTSTAMP:20260421T072526
CREATED:20240802T032249Z
LAST-MODIFIED:20260308T174747Z
UID:10046508-1898341200-1898344800@mosquefoundation.org
SUMMARY:Tuesday Class for Sisters
DESCRIPTION:
URL:https://mosquefoundation.org/event/tuesday-class-for-sisters/2030-02-26/
CATEGORIES:Mosque Foundation Events
ATTACH;FMTTYPE=image/jpeg:https://mosquefoundation.org/wp-content/uploads/2023/06/MF_-Tue-Women-2024.jpg
END:VEVENT
BEGIN:VEVENT
DTSTART;TZID=America/Chicago:20300226T214500
DTEND;TZID=America/Chicago:20300226T223000
DTSTAMP:20260421T072526
CREATED:20260330T183652Z
LAST-MODIFIED:20260419T053510Z
UID:10050048-1898372700-1898375400@mosquefoundation.org
SUMMARY:Tuesday Class
DESCRIPTION:
URL:https://mosquefoundation.org/event/tuesday-class/2030-02-26/
CATEGORIES:Mosque Foundation Events
ATTACH;FMTTYPE=image/jpeg:https://mosquefoundation.org/wp-content/uploads/2026/03/tueclass.jpg
END:VEVENT
BEGIN:VEVENT
DTSTART;TZID=America/Chicago:20300227T180000
DTEND;TZID=America/Chicago:20300227T190000
DTSTAMP:20260421T072526
CREATED:20251102T133710Z
LAST-MODIFIED:20260308T175756Z
UID:10046787-1898445600-1898449200@mosquefoundation.org
SUMMARY:Wednesday Class For Women
DESCRIPTION:
URL:https://mosquefoundation.org/event/wednesday-class-for-women-2-2/2030-02-27/
CATEGORIES:Mosque Foundation Events
ATTACH;FMTTYPE=image/jpeg:https://mosquefoundation.org/wp-content/uploads/2024/01/MF_-Women-2024-scaled.jpg
END:VEVENT
BEGIN:VEVENT
DTSTART;TZID=America/Chicago:20300227T214500
DTEND;TZID=America/Chicago:20300227T223000
DTSTAMP:20260421T072526
CREATED:20260330T183840Z
LAST-MODIFIED:20260419T053416Z
UID:10049784-1898459100-1898461800@mosquefoundation.org
SUMMARY:Wednesday Class
DESCRIPTION:
URL:https://mosquefoundation.org/event/wednsday-class/2030-02-27/
CATEGORIES:Mosque Foundation Events
ATTACH;FMTTYPE=image/jpeg:https://mosquefoundation.org/wp-content/uploads/2026/03/wedclass.jpg
END:VEVENT
BEGIN:VEVENT
DTSTART;TZID=America/Chicago:20300228T214500
DTEND;TZID=America/Chicago:20300228T223000
DTSTAMP:20260421T072526
CREATED:20260330T184243Z
LAST-MODIFIED:20260419T053313Z
UID:10049520-1898545500-1898548200@mosquefoundation.org
SUMMARY:Thursday Class
DESCRIPTION:
URL:https://mosquefoundation.org/event/thursday-class/2030-02-28/
CATEGORIES:Mosque Foundation Events
ATTACH;FMTTYPE=image/jpeg:https://mosquefoundation.org/wp-content/uploads/2026/03/thursdayclass.jpg
END:VEVENT
BEGIN:VEVENT
DTSTART;TZID=America/Chicago:20300302T090000
DTEND;TZID=America/Chicago:20300302T130000
DTSTAMP:20260421T072526
CREATED:20250904T001543Z
LAST-MODIFIED:20251102T133041Z
UID:10040696-1898672400-1898686800@mosquefoundation.org
SUMMARY:Saturday Program For Young Women
DESCRIPTION:
URL:https://mosquefoundation.org/event/saturday-program-for-yong-women/2030-03-02/
CATEGORIES:Mosque Foundation Events
ATTACH;FMTTYPE=image/jpeg:https://mosquefoundation.org/wp-content/uploads/2025/09/MF_-Sat-Program-Women-SM-2025.jpg
END:VEVENT
BEGIN:VEVENT
DTSTART;TZID=America/Chicago:20300303T120000
DTEND;TZID=America/Chicago:20300303T130000
DTSTAMP:20260421T072526
CREATED:20240311T190209Z
LAST-MODIFIED:20260419T054313Z
UID:10041384-1898769600-1898773200@mosquefoundation.org
SUMMARY:Spanish Class for Women
DESCRIPTION:
URL:https://mosquefoundation.org/event/spanish-class/2030-03-03/
CATEGORIES:Mosque Foundation Events
ATTACH;FMTTYPE=image/jpeg:https://mosquefoundation.org/wp-content/uploads/2024/03/MF-Spanish-Class-ES-2024-SM-scaled.jpg
END:VEVENT
BEGIN:VEVENT
DTSTART;TZID=America/Chicago:20300303T120000
DTEND;TZID=America/Chicago:20300303T140000
DTSTAMP:20260421T072526
CREATED:20260419T053917Z
LAST-MODIFIED:20260419T053944Z
UID:10050310-1898769600-1898776800@mosquefoundation.org
SUMMARY:English Class for Women
DESCRIPTION:
URL:https://mosquefoundation.org/event/english-class-for-women/2030-03-03/
CATEGORIES:Mosque Foundation Events
ATTACH;FMTTYPE=image/jpeg:https://mosquefoundation.org/wp-content/uploads/2026/04/PHOTO-2026-04-18-06-01-36.jpg
END:VEVENT
BEGIN:VEVENT
DTSTART;TZID=America/Chicago:20300303T211500
DTEND;TZID=America/Chicago:20300303T220000
DTSTAMP:20260421T072526
CREATED:20260409T185427Z
LAST-MODIFIED:20260409T185443Z
UID:10048995-1898802900-1898805600@mosquefoundation.org
SUMMARY:Sunday Class
DESCRIPTION:
URL:https://mosquefoundation.org/event/sunday-class-2/2030-03-03/
CATEGORIES:Mosque Foundation Events
ATTACH;FMTTYPE=image/jpeg:https://mosquefoundation.org/wp-content/uploads/2026/03/MF_-Sh-Jafar-En-2026.jpg
END:VEVENT
BEGIN:VEVENT
DTSTART;TZID=America/Chicago:20300304T214500
DTEND;TZID=America/Chicago:20300304T223000
DTSTAMP:20260421T072526
CREATED:20260330T183316Z
LAST-MODIFIED:20260419T053209Z
UID:10049257-1898891100-1898893800@mosquefoundation.org
SUMMARY:Monday Class
DESCRIPTION:
URL:https://mosquefoundation.org/event/monday-class/2030-03-04/
CATEGORIES:Mosque Foundation Events
ATTACH;FMTTYPE=image/jpeg:https://mosquefoundation.org/wp-content/uploads/2026/03/mondayclass.jpg
END:VEVENT
BEGIN:VEVENT
DTSTART;TZID=America/Chicago:20300305T130000
DTEND;TZID=America/Chicago:20300305T140000
DTSTAMP:20260421T072526
CREATED:20240802T032249Z
LAST-MODIFIED:20260308T174747Z
UID:10046509-1898946000-1898949600@mosquefoundation.org
SUMMARY:Tuesday Class for Sisters
DESCRIPTION:
URL:https://mosquefoundation.org/event/tuesday-class-for-sisters/2030-03-05/
CATEGORIES:Mosque Foundation Events
ATTACH;FMTTYPE=image/jpeg:https://mosquefoundation.org/wp-content/uploads/2023/06/MF_-Tue-Women-2024.jpg
END:VEVENT
BEGIN:VEVENT
DTSTART;TZID=America/Chicago:20300305T214500
DTEND;TZID=America/Chicago:20300305T223000
DTSTAMP:20260421T072526
CREATED:20260330T183652Z
LAST-MODIFIED:20260419T053510Z
UID:10050049-1898977500-1898980200@mosquefoundation.org
SUMMARY:Tuesday Class
DESCRIPTION:
URL:https://mosquefoundation.org/event/tuesday-class/2030-03-05/
CATEGORIES:Mosque Foundation Events
ATTACH;FMTTYPE=image/jpeg:https://mosquefoundation.org/wp-content/uploads/2026/03/tueclass.jpg
END:VEVENT
BEGIN:VEVENT
DTSTART;TZID=America/Chicago:20300306T180000
DTEND;TZID=America/Chicago:20300306T190000
DTSTAMP:20260421T072527
CREATED:20251102T133710Z
LAST-MODIFIED:20260308T175756Z
UID:10046788-1899050400-1899054000@mosquefoundation.org
SUMMARY:Wednesday Class For Women
DESCRIPTION:
URL:https://mosquefoundation.org/event/wednesday-class-for-women-2-2/2030-03-06/
CATEGORIES:Mosque Foundation Events
ATTACH;FMTTYPE=image/jpeg:https://mosquefoundation.org/wp-content/uploads/2024/01/MF_-Women-2024-scaled.jpg
END:VEVENT
BEGIN:VEVENT
DTSTART;TZID=America/Chicago:20300306T214500
DTEND;TZID=America/Chicago:20300306T223000
DTSTAMP:20260421T072527
CREATED:20260330T183840Z
LAST-MODIFIED:20260419T053416Z
UID:10049785-1899063900-1899066600@mosquefoundation.org
SUMMARY:Wednesday Class
DESCRIPTION:
URL:https://mosquefoundation.org/event/wednsday-class/2030-03-06/
CATEGORIES:Mosque Foundation Events
ATTACH;FMTTYPE=image/jpeg:https://mosquefoundation.org/wp-content/uploads/2026/03/wedclass.jpg
END:VEVENT
BEGIN:VEVENT
DTSTART;TZID=America/Chicago:20300307T214500
DTEND;TZID=America/Chicago:20300307T223000
DTSTAMP:20260421T072527
CREATED:20260330T184243Z
LAST-MODIFIED:20260419T053313Z
UID:10049521-1899150300-1899153000@mosquefoundation.org
SUMMARY:Thursday Class
DESCRIPTION:
URL:https://mosquefoundation.org/event/thursday-class/2030-03-07/
CATEGORIES:Mosque Foundation Events
ATTACH;FMTTYPE=image/jpeg:https://mosquefoundation.org/wp-content/uploads/2026/03/thursdayclass.jpg
END:VEVENT
END:VCALENDAR