BEGIN:VCALENDAR
VERSION:2.0
PRODID:-//Mosque Foundation | Bridgeview, Illinois - ECPv6.15.16//NONSGML v1.0//EN
CALSCALE:GREGORIAN
METHOD:PUBLISH
X-ORIGINAL-URL:https://mosquefoundation.org
X-WR-CALDESC:Events for Mosque Foundation | Bridgeview, Illinois
REFRESH-INTERVAL;VALUE=DURATION:PT1H
X-Robots-Tag:noindex
X-PUBLISHED-TTL:PT1H
BEGIN:VTIMEZONE
TZID:America/Chicago
BEGIN:DAYLIGHT
TZOFFSETFROM:-0600
TZOFFSETTO:-0500
TZNAME:CDT
DTSTART:20270314T080000
END:DAYLIGHT
BEGIN:STANDARD
TZOFFSETFROM:-0500
TZOFFSETTO:-0600
TZNAME:CST
DTSTART:20271107T070000
END:STANDARD
BEGIN:DAYLIGHT
TZOFFSETFROM:-0600
TZOFFSETTO:-0500
TZNAME:CDT
DTSTART:20280312T080000
END:DAYLIGHT
BEGIN:STANDARD
TZOFFSETFROM:-0500
TZOFFSETTO:-0600
TZNAME:CST
DTSTART:20281105T070000
END:STANDARD
BEGIN:DAYLIGHT
TZOFFSETFROM:-0600
TZOFFSETTO:-0500
TZNAME:CDT
DTSTART:20290311T080000
END:DAYLIGHT
BEGIN:STANDARD
TZOFFSETFROM:-0500
TZOFFSETTO:-0600
TZNAME:CST
DTSTART:20291104T070000
END:STANDARD
END:VTIMEZONE
BEGIN:VEVENT
DTSTART;TZID=America/Chicago:20280416T110000
DTEND;TZID=America/Chicago:20280416T120000
DTSTAMP:20260419T165144
CREATED:20240311T190209Z
LAST-MODIFIED:20260419T054313Z
UID:10041286-1839495600-1839499200@mosquefoundation.org
SUMMARY:Spanish Class for Women
DESCRIPTION:
URL:https://mosquefoundation.org/event/spanish-class/2028-04-16/
CATEGORIES:Mosque Foundation Events
ATTACH;FMTTYPE=image/jpeg:https://mosquefoundation.org/wp-content/uploads/2024/03/MF-Spanish-Class-ES-2024-SM-scaled.jpg
END:VEVENT
BEGIN:VEVENT
DTSTART;TZID=America/Chicago:20280416T110000
DTEND;TZID=America/Chicago:20280416T130000
DTSTAMP:20260419T165144
CREATED:20260419T053917Z
LAST-MODIFIED:20260419T053944Z
UID:10050212-1839495600-1839502800@mosquefoundation.org
SUMMARY:English Class for Women
DESCRIPTION:
URL:https://mosquefoundation.org/event/english-class-for-women/2028-04-16/
CATEGORIES:Mosque Foundation Events
ATTACH;FMTTYPE=image/jpeg:https://mosquefoundation.org/wp-content/uploads/2026/04/PHOTO-2026-04-18-06-01-36.jpg
END:VEVENT
BEGIN:VEVENT
DTSTART;TZID=America/Chicago:20280416T201500
DTEND;TZID=America/Chicago:20280416T210000
DTSTAMP:20260419T165144
CREATED:20260409T185427Z
LAST-MODIFIED:20260409T185443Z
UID:10048897-1839528900-1839531600@mosquefoundation.org
SUMMARY:Sunday Class
DESCRIPTION:
URL:https://mosquefoundation.org/event/sunday-class-2/2028-04-16/
CATEGORIES:Mosque Foundation Events
ATTACH;FMTTYPE=image/jpeg:https://mosquefoundation.org/wp-content/uploads/2026/03/MF_-Sh-Jafar-En-2026.jpg
END:VEVENT
BEGIN:VEVENT
DTSTART;TZID=America/Chicago:20280417T204500
DTEND;TZID=America/Chicago:20280417T213000
DTSTAMP:20260419T165144
CREATED:20260330T183316Z
LAST-MODIFIED:20260419T053209Z
UID:10049159-1839617100-1839619800@mosquefoundation.org
SUMMARY:Monday Class
DESCRIPTION:
URL:https://mosquefoundation.org/event/monday-class/2028-04-17/
CATEGORIES:Mosque Foundation Events
ATTACH;FMTTYPE=image/jpeg:https://mosquefoundation.org/wp-content/uploads/2026/03/mondayclass.jpg
END:VEVENT
BEGIN:VEVENT
DTSTART;TZID=America/Chicago:20280418T120000
DTEND;TZID=America/Chicago:20280418T130000
DTSTAMP:20260419T165144
CREATED:20240802T032249Z
LAST-MODIFIED:20260308T174747Z
UID:10046411-1839672000-1839675600@mosquefoundation.org
SUMMARY:Tuesday Class for Sisters
DESCRIPTION:
URL:https://mosquefoundation.org/event/tuesday-class-for-sisters/2028-04-18/
CATEGORIES:Mosque Foundation Events
ATTACH;FMTTYPE=image/jpeg:https://mosquefoundation.org/wp-content/uploads/2023/06/MF_-Tue-Women-2024.jpg
END:VEVENT
BEGIN:VEVENT
DTSTART;TZID=America/Chicago:20280418T204500
DTEND;TZID=America/Chicago:20280418T213000
DTSTAMP:20260419T165144
CREATED:20260330T183652Z
LAST-MODIFIED:20260419T053510Z
UID:10049951-1839703500-1839706200@mosquefoundation.org
SUMMARY:Tuesday Class
DESCRIPTION:
URL:https://mosquefoundation.org/event/tuesday-class/2028-04-18/
CATEGORIES:Mosque Foundation Events
ATTACH;FMTTYPE=image/jpeg:https://mosquefoundation.org/wp-content/uploads/2026/03/tueclass.jpg
END:VEVENT
BEGIN:VEVENT
DTSTART;TZID=America/Chicago:20280419T170000
DTEND;TZID=America/Chicago:20280419T180000
DTSTAMP:20260419T165144
CREATED:20251102T133710Z
LAST-MODIFIED:20260308T175756Z
UID:10046690-1839776400-1839780000@mosquefoundation.org
SUMMARY:Wednesday Class For Women
DESCRIPTION:
URL:https://mosquefoundation.org/event/wednesday-class-for-women-2-2/2028-04-19/
CATEGORIES:Mosque Foundation Events
ATTACH;FMTTYPE=image/jpeg:https://mosquefoundation.org/wp-content/uploads/2024/01/MF_-Women-2024-scaled.jpg
END:VEVENT
BEGIN:VEVENT
DTSTART;TZID=America/Chicago:20280419T204500
DTEND;TZID=America/Chicago:20280419T213000
DTSTAMP:20260419T165145
CREATED:20260330T183840Z
LAST-MODIFIED:20260419T053416Z
UID:10049687-1839789900-1839792600@mosquefoundation.org
SUMMARY:Wednesday Class
DESCRIPTION:
URL:https://mosquefoundation.org/event/wednsday-class/2028-04-19/
CATEGORIES:Mosque Foundation Events
ATTACH;FMTTYPE=image/jpeg:https://mosquefoundation.org/wp-content/uploads/2026/03/wedclass.jpg
END:VEVENT
BEGIN:VEVENT
DTSTART;TZID=America/Chicago:20280420T204500
DTEND;TZID=America/Chicago:20280420T213000
DTSTAMP:20260419T165145
CREATED:20260330T184243Z
LAST-MODIFIED:20260419T053313Z
UID:10049423-1839876300-1839879000@mosquefoundation.org
SUMMARY:Thursday Class
DESCRIPTION:
URL:https://mosquefoundation.org/event/thursday-class/2028-04-20/
CATEGORIES:Mosque Foundation Events
ATTACH;FMTTYPE=image/jpeg:https://mosquefoundation.org/wp-content/uploads/2026/03/thursdayclass.jpg
END:VEVENT
BEGIN:VEVENT
DTSTART;TZID=America/Chicago:20280422T080000
DTEND;TZID=America/Chicago:20280422T120000
DTSTAMP:20260419T165145
CREATED:20250904T001543Z
LAST-MODIFIED:20251102T133041Z
UID:10040599-1840003200-1840017600@mosquefoundation.org
SUMMARY:Saturday Program For Young Women
DESCRIPTION:
URL:https://mosquefoundation.org/event/saturday-program-for-yong-women/2028-04-22/
CATEGORIES:Mosque Foundation Events
ATTACH;FMTTYPE=image/jpeg:https://mosquefoundation.org/wp-content/uploads/2025/09/MF_-Sat-Program-Women-SM-2025.jpg
END:VEVENT
BEGIN:VEVENT
DTSTART;TZID=America/Chicago:20280423T110000
DTEND;TZID=America/Chicago:20280423T120000
DTSTAMP:20260419T165145
CREATED:20240311T190209Z
LAST-MODIFIED:20260419T054313Z
UID:10041287-1840100400-1840104000@mosquefoundation.org
SUMMARY:Spanish Class for Women
DESCRIPTION:
URL:https://mosquefoundation.org/event/spanish-class/2028-04-23/
CATEGORIES:Mosque Foundation Events
ATTACH;FMTTYPE=image/jpeg:https://mosquefoundation.org/wp-content/uploads/2024/03/MF-Spanish-Class-ES-2024-SM-scaled.jpg
END:VEVENT
BEGIN:VEVENT
DTSTART;TZID=America/Chicago:20280423T110000
DTEND;TZID=America/Chicago:20280423T130000
DTSTAMP:20260419T165145
CREATED:20260419T053917Z
LAST-MODIFIED:20260419T053944Z
UID:10050213-1840100400-1840107600@mosquefoundation.org
SUMMARY:English Class for Women
DESCRIPTION:
URL:https://mosquefoundation.org/event/english-class-for-women/2028-04-23/
CATEGORIES:Mosque Foundation Events
ATTACH;FMTTYPE=image/jpeg:https://mosquefoundation.org/wp-content/uploads/2026/04/PHOTO-2026-04-18-06-01-36.jpg
END:VEVENT
BEGIN:VEVENT
DTSTART;TZID=America/Chicago:20280423T201500
DTEND;TZID=America/Chicago:20280423T210000
DTSTAMP:20260419T165145
CREATED:20260409T185427Z
LAST-MODIFIED:20260409T185443Z
UID:10048898-1840133700-1840136400@mosquefoundation.org
SUMMARY:Sunday Class
DESCRIPTION:
URL:https://mosquefoundation.org/event/sunday-class-2/2028-04-23/
CATEGORIES:Mosque Foundation Events
ATTACH;FMTTYPE=image/jpeg:https://mosquefoundation.org/wp-content/uploads/2026/03/MF_-Sh-Jafar-En-2026.jpg
END:VEVENT
BEGIN:VEVENT
DTSTART;TZID=America/Chicago:20280424T204500
DTEND;TZID=America/Chicago:20280424T213000
DTSTAMP:20260419T165145
CREATED:20260330T183316Z
LAST-MODIFIED:20260419T053209Z
UID:10049160-1840221900-1840224600@mosquefoundation.org
SUMMARY:Monday Class
DESCRIPTION:
URL:https://mosquefoundation.org/event/monday-class/2028-04-24/
CATEGORIES:Mosque Foundation Events
ATTACH;FMTTYPE=image/jpeg:https://mosquefoundation.org/wp-content/uploads/2026/03/mondayclass.jpg
END:VEVENT
BEGIN:VEVENT
DTSTART;TZID=America/Chicago:20280425T120000
DTEND;TZID=America/Chicago:20280425T130000
DTSTAMP:20260419T165145
CREATED:20240802T032249Z
LAST-MODIFIED:20260308T174747Z
UID:10046412-1840276800-1840280400@mosquefoundation.org
SUMMARY:Tuesday Class for Sisters
DESCRIPTION:
URL:https://mosquefoundation.org/event/tuesday-class-for-sisters/2028-04-25/
CATEGORIES:Mosque Foundation Events
ATTACH;FMTTYPE=image/jpeg:https://mosquefoundation.org/wp-content/uploads/2023/06/MF_-Tue-Women-2024.jpg
END:VEVENT
BEGIN:VEVENT
DTSTART;TZID=America/Chicago:20280425T204500
DTEND;TZID=America/Chicago:20280425T213000
DTSTAMP:20260419T165145
CREATED:20260330T183652Z
LAST-MODIFIED:20260419T053510Z
UID:10049952-1840308300-1840311000@mosquefoundation.org
SUMMARY:Tuesday Class
DESCRIPTION:
URL:https://mosquefoundation.org/event/tuesday-class/2028-04-25/
CATEGORIES:Mosque Foundation Events
ATTACH;FMTTYPE=image/jpeg:https://mosquefoundation.org/wp-content/uploads/2026/03/tueclass.jpg
END:VEVENT
BEGIN:VEVENT
DTSTART;TZID=America/Chicago:20280426T170000
DTEND;TZID=America/Chicago:20280426T180000
DTSTAMP:20260419T165145
CREATED:20251102T133710Z
LAST-MODIFIED:20260308T175756Z
UID:10046691-1840381200-1840384800@mosquefoundation.org
SUMMARY:Wednesday Class For Women
DESCRIPTION:
URL:https://mosquefoundation.org/event/wednesday-class-for-women-2-2/2028-04-26/
CATEGORIES:Mosque Foundation Events
ATTACH;FMTTYPE=image/jpeg:https://mosquefoundation.org/wp-content/uploads/2024/01/MF_-Women-2024-scaled.jpg
END:VEVENT
BEGIN:VEVENT
DTSTART;TZID=America/Chicago:20280426T204500
DTEND;TZID=America/Chicago:20280426T213000
DTSTAMP:20260419T165145
CREATED:20260330T183840Z
LAST-MODIFIED:20260419T053416Z
UID:10049688-1840394700-1840397400@mosquefoundation.org
SUMMARY:Wednesday Class
DESCRIPTION:
URL:https://mosquefoundation.org/event/wednsday-class/2028-04-26/
CATEGORIES:Mosque Foundation Events
ATTACH;FMTTYPE=image/jpeg:https://mosquefoundation.org/wp-content/uploads/2026/03/wedclass.jpg
END:VEVENT
BEGIN:VEVENT
DTSTART;TZID=America/Chicago:20280427T204500
DTEND;TZID=America/Chicago:20280427T213000
DTSTAMP:20260419T165145
CREATED:20260330T184243Z
LAST-MODIFIED:20260419T053313Z
UID:10049424-1840481100-1840483800@mosquefoundation.org
SUMMARY:Thursday Class
DESCRIPTION:
URL:https://mosquefoundation.org/event/thursday-class/2028-04-27/
CATEGORIES:Mosque Foundation Events
ATTACH;FMTTYPE=image/jpeg:https://mosquefoundation.org/wp-content/uploads/2026/03/thursdayclass.jpg
END:VEVENT
BEGIN:VEVENT
DTSTART;TZID=America/Chicago:20280429T080000
DTEND;TZID=America/Chicago:20280429T120000
DTSTAMP:20260419T165145
CREATED:20250904T001543Z
LAST-MODIFIED:20251102T133041Z
UID:10040600-1840608000-1840622400@mosquefoundation.org
SUMMARY:Saturday Program For Young Women
DESCRIPTION:
URL:https://mosquefoundation.org/event/saturday-program-for-yong-women/2028-04-29/
CATEGORIES:Mosque Foundation Events
ATTACH;FMTTYPE=image/jpeg:https://mosquefoundation.org/wp-content/uploads/2025/09/MF_-Sat-Program-Women-SM-2025.jpg
END:VEVENT
BEGIN:VEVENT
DTSTART;TZID=America/Chicago:20280430T110000
DTEND;TZID=America/Chicago:20280430T120000
DTSTAMP:20260419T165145
CREATED:20240311T190209Z
LAST-MODIFIED:20260419T054313Z
UID:10041288-1840705200-1840708800@mosquefoundation.org
SUMMARY:Spanish Class for Women
DESCRIPTION:
URL:https://mosquefoundation.org/event/spanish-class/2028-04-30/
CATEGORIES:Mosque Foundation Events
ATTACH;FMTTYPE=image/jpeg:https://mosquefoundation.org/wp-content/uploads/2024/03/MF-Spanish-Class-ES-2024-SM-scaled.jpg
END:VEVENT
BEGIN:VEVENT
DTSTART;TZID=America/Chicago:20280430T110000
DTEND;TZID=America/Chicago:20280430T130000
DTSTAMP:20260419T165145
CREATED:20260419T053917Z
LAST-MODIFIED:20260419T053944Z
UID:10050214-1840705200-1840712400@mosquefoundation.org
SUMMARY:English Class for Women
DESCRIPTION:
URL:https://mosquefoundation.org/event/english-class-for-women/2028-04-30/
CATEGORIES:Mosque Foundation Events
ATTACH;FMTTYPE=image/jpeg:https://mosquefoundation.org/wp-content/uploads/2026/04/PHOTO-2026-04-18-06-01-36.jpg
END:VEVENT
BEGIN:VEVENT
DTSTART;TZID=America/Chicago:20280430T201500
DTEND;TZID=America/Chicago:20280430T210000
DTSTAMP:20260419T165145
CREATED:20260409T185427Z
LAST-MODIFIED:20260409T185443Z
UID:10048899-1840738500-1840741200@mosquefoundation.org
SUMMARY:Sunday Class
DESCRIPTION:
URL:https://mosquefoundation.org/event/sunday-class-2/2028-04-30/
CATEGORIES:Mosque Foundation Events
ATTACH;FMTTYPE=image/jpeg:https://mosquefoundation.org/wp-content/uploads/2026/03/MF_-Sh-Jafar-En-2026.jpg
END:VEVENT
BEGIN:VEVENT
DTSTART;TZID=America/Chicago:20280501T204500
DTEND;TZID=America/Chicago:20280501T213000
DTSTAMP:20260419T165145
CREATED:20260330T183316Z
LAST-MODIFIED:20260419T053209Z
UID:10049161-1840826700-1840829400@mosquefoundation.org
SUMMARY:Monday Class
DESCRIPTION:
URL:https://mosquefoundation.org/event/monday-class/2028-05-01/
CATEGORIES:Mosque Foundation Events
ATTACH;FMTTYPE=image/jpeg:https://mosquefoundation.org/wp-content/uploads/2026/03/mondayclass.jpg
END:VEVENT
BEGIN:VEVENT
DTSTART;TZID=America/Chicago:20280502T120000
DTEND;TZID=America/Chicago:20280502T130000
DTSTAMP:20260419T165145
CREATED:20240802T032249Z
LAST-MODIFIED:20260308T174747Z
UID:10046413-1840881600-1840885200@mosquefoundation.org
SUMMARY:Tuesday Class for Sisters
DESCRIPTION:
URL:https://mosquefoundation.org/event/tuesday-class-for-sisters/2028-05-02/
CATEGORIES:Mosque Foundation Events
ATTACH;FMTTYPE=image/jpeg:https://mosquefoundation.org/wp-content/uploads/2023/06/MF_-Tue-Women-2024.jpg
END:VEVENT
BEGIN:VEVENT
DTSTART;TZID=America/Chicago:20280502T204500
DTEND;TZID=America/Chicago:20280502T213000
DTSTAMP:20260419T165145
CREATED:20260330T183652Z
LAST-MODIFIED:20260419T053510Z
UID:10049953-1840913100-1840915800@mosquefoundation.org
SUMMARY:Tuesday Class
DESCRIPTION:
URL:https://mosquefoundation.org/event/tuesday-class/2028-05-02/
CATEGORIES:Mosque Foundation Events
ATTACH;FMTTYPE=image/jpeg:https://mosquefoundation.org/wp-content/uploads/2026/03/tueclass.jpg
END:VEVENT
BEGIN:VEVENT
DTSTART;TZID=America/Chicago:20280503T170000
DTEND;TZID=America/Chicago:20280503T180000
DTSTAMP:20260419T165145
CREATED:20251102T133710Z
LAST-MODIFIED:20260308T175756Z
UID:10046692-1840986000-1840989600@mosquefoundation.org
SUMMARY:Wednesday Class For Women
DESCRIPTION:
URL:https://mosquefoundation.org/event/wednesday-class-for-women-2-2/2028-05-03/
CATEGORIES:Mosque Foundation Events
ATTACH;FMTTYPE=image/jpeg:https://mosquefoundation.org/wp-content/uploads/2024/01/MF_-Women-2024-scaled.jpg
END:VEVENT
BEGIN:VEVENT
DTSTART;TZID=America/Chicago:20280503T204500
DTEND;TZID=America/Chicago:20280503T213000
DTSTAMP:20260419T165145
CREATED:20260330T183840Z
LAST-MODIFIED:20260419T053416Z
UID:10049689-1840999500-1841002200@mosquefoundation.org
SUMMARY:Wednesday Class
DESCRIPTION:
URL:https://mosquefoundation.org/event/wednsday-class/2028-05-03/
CATEGORIES:Mosque Foundation Events
ATTACH;FMTTYPE=image/jpeg:https://mosquefoundation.org/wp-content/uploads/2026/03/wedclass.jpg
END:VEVENT
BEGIN:VEVENT
DTSTART;TZID=America/Chicago:20280504T204500
DTEND;TZID=America/Chicago:20280504T213000
DTSTAMP:20260419T165145
CREATED:20260330T184243Z
LAST-MODIFIED:20260419T053313Z
UID:10049425-1841085900-1841088600@mosquefoundation.org
SUMMARY:Thursday Class
DESCRIPTION:
URL:https://mosquefoundation.org/event/thursday-class/2028-05-04/
CATEGORIES:Mosque Foundation Events
ATTACH;FMTTYPE=image/jpeg:https://mosquefoundation.org/wp-content/uploads/2026/03/thursdayclass.jpg
END:VEVENT
BEGIN:VEVENT
DTSTART;TZID=America/Chicago:20280506T080000
DTEND;TZID=America/Chicago:20280506T120000
DTSTAMP:20260419T165145
CREATED:20250904T001543Z
LAST-MODIFIED:20251102T133041Z
UID:10040601-1841212800-1841227200@mosquefoundation.org
SUMMARY:Saturday Program For Young Women
DESCRIPTION:
URL:https://mosquefoundation.org/event/saturday-program-for-yong-women/2028-05-06/
CATEGORIES:Mosque Foundation Events
ATTACH;FMTTYPE=image/jpeg:https://mosquefoundation.org/wp-content/uploads/2025/09/MF_-Sat-Program-Women-SM-2025.jpg
END:VEVENT
END:VCALENDAR