BEGIN:VCALENDAR
VERSION:2.0
PRODID:-//Mosque Foundation | Bridgeview, Illinois - ECPv6.15.16//NONSGML v1.0//EN
CALSCALE:GREGORIAN
METHOD:PUBLISH
X-ORIGINAL-URL:https://mosquefoundation.org
X-WR-CALDESC:Events for Mosque Foundation | Bridgeview, Illinois
REFRESH-INTERVAL;VALUE=DURATION:PT1H
X-Robots-Tag:noindex
X-PUBLISHED-TTL:PT1H
BEGIN:VTIMEZONE
TZID:America/Chicago
BEGIN:DAYLIGHT
TZOFFSETFROM:-0600
TZOFFSETTO:-0500
TZNAME:CDT
DTSTART:20300310T080000
END:DAYLIGHT
BEGIN:STANDARD
TZOFFSETFROM:-0500
TZOFFSETTO:-0600
TZNAME:CST
DTSTART:20301103T070000
END:STANDARD
BEGIN:DAYLIGHT
TZOFFSETFROM:-0600
TZOFFSETTO:-0500
TZNAME:CDT
DTSTART:20310309T080000
END:DAYLIGHT
BEGIN:STANDARD
TZOFFSETFROM:-0500
TZOFFSETTO:-0600
TZNAME:CST
DTSTART:20311102T070000
END:STANDARD
BEGIN:DAYLIGHT
TZOFFSETFROM:-0600
TZOFFSETTO:-0500
TZNAME:CDT
DTSTART:20320314T080000
END:DAYLIGHT
BEGIN:STANDARD
TZOFFSETFROM:-0500
TZOFFSETTO:-0600
TZNAME:CST
DTSTART:20321107T070000
END:STANDARD
END:VTIMEZONE
BEGIN:VEVENT
DTSTART;TZID=America/Chicago:20310109T214500
DTEND;TZID=America/Chicago:20310109T223000
DTSTAMP:20260420T234141
CREATED:20260330T184243Z
LAST-MODIFIED:20260419T053313Z
UID:10049565-1925761500-1925764200@mosquefoundation.org
SUMMARY:Thursday Class
DESCRIPTION:
URL:https://mosquefoundation.org/event/thursday-class/2031-01-09/
CATEGORIES:Mosque Foundation Events
ATTACH;FMTTYPE=image/jpeg:https://mosquefoundation.org/wp-content/uploads/2026/03/thursdayclass.jpg
END:VEVENT
BEGIN:VEVENT
DTSTART;TZID=America/Chicago:20310112T120000
DTEND;TZID=America/Chicago:20310112T130000
DTSTAMP:20260420T234142
CREATED:20240311T190209Z
LAST-MODIFIED:20260419T054313Z
UID:10050379-1925985600-1925989200@mosquefoundation.org
SUMMARY:Spanish Class for Women
DESCRIPTION:
URL:https://mosquefoundation.org/event/spanish-class/2031-01-12/
CATEGORIES:Mosque Foundation Events
ATTACH;FMTTYPE=image/jpeg:https://mosquefoundation.org/wp-content/uploads/2024/03/MF-Spanish-Class-ES-2024-SM-scaled.jpg
END:VEVENT
BEGIN:VEVENT
DTSTART;TZID=America/Chicago:20310112T120000
DTEND;TZID=America/Chicago:20310112T140000
DTSTAMP:20260420T234142
CREATED:20260419T053917Z
LAST-MODIFIED:20260419T053944Z
UID:10050355-1925985600-1925992800@mosquefoundation.org
SUMMARY:English Class for Women
DESCRIPTION:
URL:https://mosquefoundation.org/event/english-class-for-women/2031-01-12/
CATEGORIES:Mosque Foundation Events
ATTACH;FMTTYPE=image/jpeg:https://mosquefoundation.org/wp-content/uploads/2026/04/PHOTO-2026-04-18-06-01-36.jpg
END:VEVENT
BEGIN:VEVENT
DTSTART;TZID=America/Chicago:20310112T211500
DTEND;TZID=America/Chicago:20310112T220000
DTSTAMP:20260420T234142
CREATED:20260409T185427Z
LAST-MODIFIED:20260409T185443Z
UID:10049040-1926018900-1926021600@mosquefoundation.org
SUMMARY:Sunday Class
DESCRIPTION:
URL:https://mosquefoundation.org/event/sunday-class-2/2031-01-12/
CATEGORIES:Mosque Foundation Events
ATTACH;FMTTYPE=image/jpeg:https://mosquefoundation.org/wp-content/uploads/2026/03/MF_-Sh-Jafar-En-2026.jpg
END:VEVENT
BEGIN:VEVENT
DTSTART;TZID=America/Chicago:20310113T214500
DTEND;TZID=America/Chicago:20310113T223000
DTSTAMP:20260420T234142
CREATED:20260330T183316Z
LAST-MODIFIED:20260419T053209Z
UID:10049302-1926107100-1926109800@mosquefoundation.org
SUMMARY:Monday Class
DESCRIPTION:
URL:https://mosquefoundation.org/event/monday-class/2031-01-13/
CATEGORIES:Mosque Foundation Events
ATTACH;FMTTYPE=image/jpeg:https://mosquefoundation.org/wp-content/uploads/2026/03/mondayclass.jpg
END:VEVENT
BEGIN:VEVENT
DTSTART;TZID=America/Chicago:20310114T130000
DTEND;TZID=America/Chicago:20310114T140000
DTSTAMP:20260420T234142
CREATED:20240802T032249Z
LAST-MODIFIED:20260308T174747Z
UID:10046554-1926162000-1926165600@mosquefoundation.org
SUMMARY:Tuesday Class for Sisters
DESCRIPTION:
URL:https://mosquefoundation.org/event/tuesday-class-for-sisters/2031-01-14/
CATEGORIES:Mosque Foundation Events
ATTACH;FMTTYPE=image/jpeg:https://mosquefoundation.org/wp-content/uploads/2023/06/MF_-Tue-Women-2024.jpg
END:VEVENT
BEGIN:VEVENT
DTSTART;TZID=America/Chicago:20310114T214500
DTEND;TZID=America/Chicago:20310114T223000
DTSTAMP:20260420T234142
CREATED:20260330T183652Z
LAST-MODIFIED:20260419T053510Z
UID:10050094-1926193500-1926196200@mosquefoundation.org
SUMMARY:Tuesday Class
DESCRIPTION:
URL:https://mosquefoundation.org/event/tuesday-class/2031-01-14/
CATEGORIES:Mosque Foundation Events
ATTACH;FMTTYPE=image/jpeg:https://mosquefoundation.org/wp-content/uploads/2026/03/tueclass.jpg
END:VEVENT
BEGIN:VEVENT
DTSTART;TZID=America/Chicago:20310115T180000
DTEND;TZID=America/Chicago:20310115T190000
DTSTAMP:20260420T234142
CREATED:20251102T133710Z
LAST-MODIFIED:20260308T175756Z
UID:10046833-1926266400-1926270000@mosquefoundation.org
SUMMARY:Wednesday Class For Women
DESCRIPTION:
URL:https://mosquefoundation.org/event/wednesday-class-for-women-2-2/2031-01-15/
CATEGORIES:Mosque Foundation Events
ATTACH;FMTTYPE=image/jpeg:https://mosquefoundation.org/wp-content/uploads/2024/01/MF_-Women-2024-scaled.jpg
END:VEVENT
BEGIN:VEVENT
DTSTART;TZID=America/Chicago:20310115T214500
DTEND;TZID=America/Chicago:20310115T223000
DTSTAMP:20260420T234142
CREATED:20260330T183840Z
LAST-MODIFIED:20260419T053416Z
UID:10049830-1926279900-1926282600@mosquefoundation.org
SUMMARY:Wednesday Class
DESCRIPTION:
URL:https://mosquefoundation.org/event/wednsday-class/2031-01-15/
CATEGORIES:Mosque Foundation Events
ATTACH;FMTTYPE=image/jpeg:https://mosquefoundation.org/wp-content/uploads/2026/03/wedclass.jpg
END:VEVENT
BEGIN:VEVENT
DTSTART;TZID=America/Chicago:20310116T214500
DTEND;TZID=America/Chicago:20310116T223000
DTSTAMP:20260420T234142
CREATED:20260330T184243Z
LAST-MODIFIED:20260419T053313Z
UID:10049566-1926366300-1926369000@mosquefoundation.org
SUMMARY:Thursday Class
DESCRIPTION:
URL:https://mosquefoundation.org/event/thursday-class/2031-01-16/
CATEGORIES:Mosque Foundation Events
ATTACH;FMTTYPE=image/jpeg:https://mosquefoundation.org/wp-content/uploads/2026/03/thursdayclass.jpg
END:VEVENT
BEGIN:VEVENT
DTSTART;TZID=America/Chicago:20310119T120000
DTEND;TZID=America/Chicago:20310119T130000
DTSTAMP:20260420T234142
CREATED:20240311T190209Z
LAST-MODIFIED:20260419T054313Z
UID:10050380-1926590400-1926594000@mosquefoundation.org
SUMMARY:Spanish Class for Women
DESCRIPTION:
URL:https://mosquefoundation.org/event/spanish-class/2031-01-19/
CATEGORIES:Mosque Foundation Events
ATTACH;FMTTYPE=image/jpeg:https://mosquefoundation.org/wp-content/uploads/2024/03/MF-Spanish-Class-ES-2024-SM-scaled.jpg
END:VEVENT
BEGIN:VEVENT
DTSTART;TZID=America/Chicago:20310119T120000
DTEND;TZID=America/Chicago:20310119T140000
DTSTAMP:20260420T234142
CREATED:20260419T053917Z
LAST-MODIFIED:20260419T053944Z
UID:10050356-1926590400-1926597600@mosquefoundation.org
SUMMARY:English Class for Women
DESCRIPTION:
URL:https://mosquefoundation.org/event/english-class-for-women/2031-01-19/
CATEGORIES:Mosque Foundation Events
ATTACH;FMTTYPE=image/jpeg:https://mosquefoundation.org/wp-content/uploads/2026/04/PHOTO-2026-04-18-06-01-36.jpg
END:VEVENT
BEGIN:VEVENT
DTSTART;TZID=America/Chicago:20310119T211500
DTEND;TZID=America/Chicago:20310119T220000
DTSTAMP:20260420T234142
CREATED:20260409T185427Z
LAST-MODIFIED:20260409T185443Z
UID:10049041-1926623700-1926626400@mosquefoundation.org
SUMMARY:Sunday Class
DESCRIPTION:
URL:https://mosquefoundation.org/event/sunday-class-2/2031-01-19/
CATEGORIES:Mosque Foundation Events
ATTACH;FMTTYPE=image/jpeg:https://mosquefoundation.org/wp-content/uploads/2026/03/MF_-Sh-Jafar-En-2026.jpg
END:VEVENT
BEGIN:VEVENT
DTSTART;TZID=America/Chicago:20310120T214500
DTEND;TZID=America/Chicago:20310120T223000
DTSTAMP:20260420T234142
CREATED:20260330T183316Z
LAST-MODIFIED:20260419T053209Z
UID:10049303-1926711900-1926714600@mosquefoundation.org
SUMMARY:Monday Class
DESCRIPTION:
URL:https://mosquefoundation.org/event/monday-class/2031-01-20/
CATEGORIES:Mosque Foundation Events
ATTACH;FMTTYPE=image/jpeg:https://mosquefoundation.org/wp-content/uploads/2026/03/mondayclass.jpg
END:VEVENT
BEGIN:VEVENT
DTSTART;TZID=America/Chicago:20310121T130000
DTEND;TZID=America/Chicago:20310121T140000
DTSTAMP:20260420T234142
CREATED:20240802T032249Z
LAST-MODIFIED:20260308T174747Z
UID:10046555-1926766800-1926770400@mosquefoundation.org
SUMMARY:Tuesday Class for Sisters
DESCRIPTION:
URL:https://mosquefoundation.org/event/tuesday-class-for-sisters/2031-01-21/
CATEGORIES:Mosque Foundation Events
ATTACH;FMTTYPE=image/jpeg:https://mosquefoundation.org/wp-content/uploads/2023/06/MF_-Tue-Women-2024.jpg
END:VEVENT
BEGIN:VEVENT
DTSTART;TZID=America/Chicago:20310121T214500
DTEND;TZID=America/Chicago:20310121T223000
DTSTAMP:20260420T234142
CREATED:20260330T183652Z
LAST-MODIFIED:20260419T053510Z
UID:10050095-1926798300-1926801000@mosquefoundation.org
SUMMARY:Tuesday Class
DESCRIPTION:
URL:https://mosquefoundation.org/event/tuesday-class/2031-01-21/
CATEGORIES:Mosque Foundation Events
ATTACH;FMTTYPE=image/jpeg:https://mosquefoundation.org/wp-content/uploads/2026/03/tueclass.jpg
END:VEVENT
BEGIN:VEVENT
DTSTART;TZID=America/Chicago:20310122T180000
DTEND;TZID=America/Chicago:20310122T190000
DTSTAMP:20260420T234142
CREATED:20251102T133710Z
LAST-MODIFIED:20260308T175756Z
UID:10046834-1926871200-1926874800@mosquefoundation.org
SUMMARY:Wednesday Class For Women
DESCRIPTION:
URL:https://mosquefoundation.org/event/wednesday-class-for-women-2-2/2031-01-22/
CATEGORIES:Mosque Foundation Events
ATTACH;FMTTYPE=image/jpeg:https://mosquefoundation.org/wp-content/uploads/2024/01/MF_-Women-2024-scaled.jpg
END:VEVENT
BEGIN:VEVENT
DTSTART;TZID=America/Chicago:20310122T214500
DTEND;TZID=America/Chicago:20310122T223000
DTSTAMP:20260420T234142
CREATED:20260330T183840Z
LAST-MODIFIED:20260419T053416Z
UID:10049831-1926884700-1926887400@mosquefoundation.org
SUMMARY:Wednesday Class
DESCRIPTION:
URL:https://mosquefoundation.org/event/wednsday-class/2031-01-22/
CATEGORIES:Mosque Foundation Events
ATTACH;FMTTYPE=image/jpeg:https://mosquefoundation.org/wp-content/uploads/2026/03/wedclass.jpg
END:VEVENT
BEGIN:VEVENT
DTSTART;TZID=America/Chicago:20310123T214500
DTEND;TZID=America/Chicago:20310123T223000
DTSTAMP:20260420T234142
CREATED:20260330T184243Z
LAST-MODIFIED:20260419T053313Z
UID:10049567-1926971100-1926973800@mosquefoundation.org
SUMMARY:Thursday Class
DESCRIPTION:
URL:https://mosquefoundation.org/event/thursday-class/2031-01-23/
CATEGORIES:Mosque Foundation Events
ATTACH;FMTTYPE=image/jpeg:https://mosquefoundation.org/wp-content/uploads/2026/03/thursdayclass.jpg
END:VEVENT
BEGIN:VEVENT
DTSTART;TZID=America/Chicago:20310126T120000
DTEND;TZID=America/Chicago:20310126T130000
DTSTAMP:20260420T234142
CREATED:20240311T190209Z
LAST-MODIFIED:20260419T054313Z
UID:10050381-1927195200-1927198800@mosquefoundation.org
SUMMARY:Spanish Class for Women
DESCRIPTION:
URL:https://mosquefoundation.org/event/spanish-class/2031-01-26/
CATEGORIES:Mosque Foundation Events
ATTACH;FMTTYPE=image/jpeg:https://mosquefoundation.org/wp-content/uploads/2024/03/MF-Spanish-Class-ES-2024-SM-scaled.jpg
END:VEVENT
BEGIN:VEVENT
DTSTART;TZID=America/Chicago:20310126T120000
DTEND;TZID=America/Chicago:20310126T140000
DTSTAMP:20260420T234142
CREATED:20260419T053917Z
LAST-MODIFIED:20260419T053944Z
UID:10050357-1927195200-1927202400@mosquefoundation.org
SUMMARY:English Class for Women
DESCRIPTION:
URL:https://mosquefoundation.org/event/english-class-for-women/2031-01-26/
CATEGORIES:Mosque Foundation Events
ATTACH;FMTTYPE=image/jpeg:https://mosquefoundation.org/wp-content/uploads/2026/04/PHOTO-2026-04-18-06-01-36.jpg
END:VEVENT
BEGIN:VEVENT
DTSTART;TZID=America/Chicago:20310126T211500
DTEND;TZID=America/Chicago:20310126T220000
DTSTAMP:20260420T234142
CREATED:20260409T185427Z
LAST-MODIFIED:20260409T185443Z
UID:10049042-1927228500-1927231200@mosquefoundation.org
SUMMARY:Sunday Class
DESCRIPTION:
URL:https://mosquefoundation.org/event/sunday-class-2/2031-01-26/
CATEGORIES:Mosque Foundation Events
ATTACH;FMTTYPE=image/jpeg:https://mosquefoundation.org/wp-content/uploads/2026/03/MF_-Sh-Jafar-En-2026.jpg
END:VEVENT
BEGIN:VEVENT
DTSTART;TZID=America/Chicago:20310127T214500
DTEND;TZID=America/Chicago:20310127T223000
DTSTAMP:20260420T234142
CREATED:20260330T183316Z
LAST-MODIFIED:20260419T053209Z
UID:10049304-1927316700-1927319400@mosquefoundation.org
SUMMARY:Monday Class
DESCRIPTION:
URL:https://mosquefoundation.org/event/monday-class/2031-01-27/
CATEGORIES:Mosque Foundation Events
ATTACH;FMTTYPE=image/jpeg:https://mosquefoundation.org/wp-content/uploads/2026/03/mondayclass.jpg
END:VEVENT
BEGIN:VEVENT
DTSTART;TZID=America/Chicago:20310128T130000
DTEND;TZID=America/Chicago:20310128T140000
DTSTAMP:20260420T234142
CREATED:20240802T032249Z
LAST-MODIFIED:20260308T174747Z
UID:10046556-1927371600-1927375200@mosquefoundation.org
SUMMARY:Tuesday Class for Sisters
DESCRIPTION:
URL:https://mosquefoundation.org/event/tuesday-class-for-sisters/2031-01-28/
CATEGORIES:Mosque Foundation Events
ATTACH;FMTTYPE=image/jpeg:https://mosquefoundation.org/wp-content/uploads/2023/06/MF_-Tue-Women-2024.jpg
END:VEVENT
BEGIN:VEVENT
DTSTART;TZID=America/Chicago:20310128T214500
DTEND;TZID=America/Chicago:20310128T223000
DTSTAMP:20260420T234142
CREATED:20260330T183652Z
LAST-MODIFIED:20260419T053510Z
UID:10050096-1927403100-1927405800@mosquefoundation.org
SUMMARY:Tuesday Class
DESCRIPTION:
URL:https://mosquefoundation.org/event/tuesday-class/2031-01-28/
CATEGORIES:Mosque Foundation Events
ATTACH;FMTTYPE=image/jpeg:https://mosquefoundation.org/wp-content/uploads/2026/03/tueclass.jpg
END:VEVENT
BEGIN:VEVENT
DTSTART;TZID=America/Chicago:20310129T180000
DTEND;TZID=America/Chicago:20310129T190000
DTSTAMP:20260420T234142
CREATED:20251102T133710Z
LAST-MODIFIED:20260308T175756Z
UID:10046835-1927476000-1927479600@mosquefoundation.org
SUMMARY:Wednesday Class For Women
DESCRIPTION:
URL:https://mosquefoundation.org/event/wednesday-class-for-women-2-2/2031-01-29/
CATEGORIES:Mosque Foundation Events
ATTACH;FMTTYPE=image/jpeg:https://mosquefoundation.org/wp-content/uploads/2024/01/MF_-Women-2024-scaled.jpg
END:VEVENT
BEGIN:VEVENT
DTSTART;TZID=America/Chicago:20310129T214500
DTEND;TZID=America/Chicago:20310129T223000
DTSTAMP:20260420T234142
CREATED:20260330T183840Z
LAST-MODIFIED:20260419T053416Z
UID:10049832-1927489500-1927492200@mosquefoundation.org
SUMMARY:Wednesday Class
DESCRIPTION:
URL:https://mosquefoundation.org/event/wednsday-class/2031-01-29/
CATEGORIES:Mosque Foundation Events
ATTACH;FMTTYPE=image/jpeg:https://mosquefoundation.org/wp-content/uploads/2026/03/wedclass.jpg
END:VEVENT
BEGIN:VEVENT
DTSTART;TZID=America/Chicago:20310130T214500
DTEND;TZID=America/Chicago:20310130T223000
DTSTAMP:20260420T234142
CREATED:20260330T184243Z
LAST-MODIFIED:20260419T053313Z
UID:10049568-1927575900-1927578600@mosquefoundation.org
SUMMARY:Thursday Class
DESCRIPTION:
URL:https://mosquefoundation.org/event/thursday-class/2031-01-30/
CATEGORIES:Mosque Foundation Events
ATTACH;FMTTYPE=image/jpeg:https://mosquefoundation.org/wp-content/uploads/2026/03/thursdayclass.jpg
END:VEVENT
BEGIN:VEVENT
DTSTART;TZID=America/Chicago:20310202T120000
DTEND;TZID=America/Chicago:20310202T130000
DTSTAMP:20260420T234142
CREATED:20240311T190209Z
LAST-MODIFIED:20260419T054313Z
UID:10050382-1927800000-1927803600@mosquefoundation.org
SUMMARY:Spanish Class for Women
DESCRIPTION:
URL:https://mosquefoundation.org/event/spanish-class/2031-02-02/
CATEGORIES:Mosque Foundation Events
ATTACH;FMTTYPE=image/jpeg:https://mosquefoundation.org/wp-content/uploads/2024/03/MF-Spanish-Class-ES-2024-SM-scaled.jpg
END:VEVENT
BEGIN:VEVENT
DTSTART;TZID=America/Chicago:20310202T120000
DTEND;TZID=America/Chicago:20310202T140000
DTSTAMP:20260420T234142
CREATED:20260419T053917Z
LAST-MODIFIED:20260419T053944Z
UID:10050358-1927800000-1927807200@mosquefoundation.org
SUMMARY:English Class for Women
DESCRIPTION:
URL:https://mosquefoundation.org/event/english-class-for-women/2031-02-02/
CATEGORIES:Mosque Foundation Events
ATTACH;FMTTYPE=image/jpeg:https://mosquefoundation.org/wp-content/uploads/2026/04/PHOTO-2026-04-18-06-01-36.jpg
END:VEVENT
END:VCALENDAR