BEGIN:VCALENDAR
VERSION:2.0
PRODID:-//Mosque Foundation | Bridgeview, Illinois - ECPv6.15.16//NONSGML v1.0//EN
CALSCALE:GREGORIAN
METHOD:PUBLISH
X-ORIGINAL-URL:https://mosquefoundation.org
X-WR-CALDESC:Events for Mosque Foundation | Bridgeview, Illinois
REFRESH-INTERVAL;VALUE=DURATION:PT1H
X-Robots-Tag:noindex
X-PUBLISHED-TTL:PT1H
BEGIN:VTIMEZONE
TZID:America/Chicago
BEGIN:DAYLIGHT
TZOFFSETFROM:-0600
TZOFFSETTO:-0500
TZNAME:CDT
DTSTART:20290311T080000
END:DAYLIGHT
BEGIN:STANDARD
TZOFFSETFROM:-0500
TZOFFSETTO:-0600
TZNAME:CST
DTSTART:20291104T070000
END:STANDARD
BEGIN:DAYLIGHT
TZOFFSETFROM:-0600
TZOFFSETTO:-0500
TZNAME:CDT
DTSTART:20300310T080000
END:DAYLIGHT
BEGIN:STANDARD
TZOFFSETFROM:-0500
TZOFFSETTO:-0600
TZNAME:CST
DTSTART:20301103T070000
END:STANDARD
BEGIN:DAYLIGHT
TZOFFSETFROM:-0600
TZOFFSETTO:-0500
TZNAME:CDT
DTSTART:20310309T080000
END:DAYLIGHT
BEGIN:STANDARD
TZOFFSETFROM:-0500
TZOFFSETTO:-0600
TZNAME:CST
DTSTART:20311102T070000
END:STANDARD
BEGIN:DAYLIGHT
TZOFFSETFROM:-0600
TZOFFSETTO:-0500
TZNAME:CDT
DTSTART:20320314T080000
END:DAYLIGHT
BEGIN:STANDARD
TZOFFSETFROM:-0500
TZOFFSETTO:-0600
TZNAME:CST
DTSTART:20321107T070000
END:STANDARD
END:VTIMEZONE
BEGIN:VEVENT
DTSTART;TZID=America/Chicago:20301210T130000
DTEND;TZID=America/Chicago:20301210T140000
DTSTAMP:20260420T164837
CREATED:20240802T032249Z
LAST-MODIFIED:20260308T174747Z
UID:10046549-1923138000-1923141600@mosquefoundation.org
SUMMARY:Tuesday Class for Sisters
DESCRIPTION:
URL:https://mosquefoundation.org/event/tuesday-class-for-sisters/2030-12-10/
CATEGORIES:Mosque Foundation Events
ATTACH;FMTTYPE=image/jpeg:https://mosquefoundation.org/wp-content/uploads/2023/06/MF_-Tue-Women-2024.jpg
END:VEVENT
BEGIN:VEVENT
DTSTART;TZID=America/Chicago:20301210T214500
DTEND;TZID=America/Chicago:20301210T223000
DTSTAMP:20260420T164837
CREATED:20260330T183652Z
LAST-MODIFIED:20260419T053510Z
UID:10050089-1923169500-1923172200@mosquefoundation.org
SUMMARY:Tuesday Class
DESCRIPTION:
URL:https://mosquefoundation.org/event/tuesday-class/2030-12-10/
CATEGORIES:Mosque Foundation Events
ATTACH;FMTTYPE=image/jpeg:https://mosquefoundation.org/wp-content/uploads/2026/03/tueclass.jpg
END:VEVENT
BEGIN:VEVENT
DTSTART;TZID=America/Chicago:20301211T180000
DTEND;TZID=America/Chicago:20301211T190000
DTSTAMP:20260420T164837
CREATED:20251102T133710Z
LAST-MODIFIED:20260308T175756Z
UID:10046828-1923242400-1923246000@mosquefoundation.org
SUMMARY:Wednesday Class For Women
DESCRIPTION:
URL:https://mosquefoundation.org/event/wednesday-class-for-women-2-2/2030-12-11/
CATEGORIES:Mosque Foundation Events
ATTACH;FMTTYPE=image/jpeg:https://mosquefoundation.org/wp-content/uploads/2024/01/MF_-Women-2024-scaled.jpg
END:VEVENT
BEGIN:VEVENT
DTSTART;TZID=America/Chicago:20301211T214500
DTEND;TZID=America/Chicago:20301211T223000
DTSTAMP:20260420T164837
CREATED:20260330T183840Z
LAST-MODIFIED:20260419T053416Z
UID:10049825-1923255900-1923258600@mosquefoundation.org
SUMMARY:Wednesday Class
DESCRIPTION:
URL:https://mosquefoundation.org/event/wednsday-class/2030-12-11/
CATEGORIES:Mosque Foundation Events
ATTACH;FMTTYPE=image/jpeg:https://mosquefoundation.org/wp-content/uploads/2026/03/wedclass.jpg
END:VEVENT
BEGIN:VEVENT
DTSTART;TZID=America/Chicago:20301212T214500
DTEND;TZID=America/Chicago:20301212T223000
DTSTAMP:20260420T164837
CREATED:20260330T184243Z
LAST-MODIFIED:20260419T053313Z
UID:10049561-1923342300-1923345000@mosquefoundation.org
SUMMARY:Thursday Class
DESCRIPTION:
URL:https://mosquefoundation.org/event/thursday-class/2030-12-12/
CATEGORIES:Mosque Foundation Events
ATTACH;FMTTYPE=image/jpeg:https://mosquefoundation.org/wp-content/uploads/2026/03/thursdayclass.jpg
END:VEVENT
BEGIN:VEVENT
DTSTART;TZID=America/Chicago:20301215T120000
DTEND;TZID=America/Chicago:20301215T130000
DTSTAMP:20260420T164837
CREATED:20240311T190209Z
LAST-MODIFIED:20260419T054313Z
UID:10050375-1923566400-1923570000@mosquefoundation.org
SUMMARY:Spanish Class for Women
DESCRIPTION:
URL:https://mosquefoundation.org/event/spanish-class/2030-12-15/
CATEGORIES:Mosque Foundation Events
ATTACH;FMTTYPE=image/jpeg:https://mosquefoundation.org/wp-content/uploads/2024/03/MF-Spanish-Class-ES-2024-SM-scaled.jpg
END:VEVENT
BEGIN:VEVENT
DTSTART;TZID=America/Chicago:20301215T120000
DTEND;TZID=America/Chicago:20301215T140000
DTSTAMP:20260420T164837
CREATED:20260419T053917Z
LAST-MODIFIED:20260419T053944Z
UID:10050351-1923566400-1923573600@mosquefoundation.org
SUMMARY:English Class for Women
DESCRIPTION:
URL:https://mosquefoundation.org/event/english-class-for-women/2030-12-15/
CATEGORIES:Mosque Foundation Events
ATTACH;FMTTYPE=image/jpeg:https://mosquefoundation.org/wp-content/uploads/2026/04/PHOTO-2026-04-18-06-01-36.jpg
END:VEVENT
BEGIN:VEVENT
DTSTART;TZID=America/Chicago:20301215T211500
DTEND;TZID=America/Chicago:20301215T220000
DTSTAMP:20260420T164837
CREATED:20260409T185427Z
LAST-MODIFIED:20260409T185443Z
UID:10049036-1923599700-1923602400@mosquefoundation.org
SUMMARY:Sunday Class
DESCRIPTION:
URL:https://mosquefoundation.org/event/sunday-class-2/2030-12-15/
CATEGORIES:Mosque Foundation Events
ATTACH;FMTTYPE=image/jpeg:https://mosquefoundation.org/wp-content/uploads/2026/03/MF_-Sh-Jafar-En-2026.jpg
END:VEVENT
BEGIN:VEVENT
DTSTART;TZID=America/Chicago:20301216T214500
DTEND;TZID=America/Chicago:20301216T223000
DTSTAMP:20260420T164837
CREATED:20260330T183316Z
LAST-MODIFIED:20260419T053209Z
UID:10049298-1923687900-1923690600@mosquefoundation.org
SUMMARY:Monday Class
DESCRIPTION:
URL:https://mosquefoundation.org/event/monday-class/2030-12-16/
CATEGORIES:Mosque Foundation Events
ATTACH;FMTTYPE=image/jpeg:https://mosquefoundation.org/wp-content/uploads/2026/03/mondayclass.jpg
END:VEVENT
BEGIN:VEVENT
DTSTART;TZID=America/Chicago:20301217T130000
DTEND;TZID=America/Chicago:20301217T140000
DTSTAMP:20260420T164837
CREATED:20240802T032249Z
LAST-MODIFIED:20260308T174747Z
UID:10046550-1923742800-1923746400@mosquefoundation.org
SUMMARY:Tuesday Class for Sisters
DESCRIPTION:
URL:https://mosquefoundation.org/event/tuesday-class-for-sisters/2030-12-17/
CATEGORIES:Mosque Foundation Events
ATTACH;FMTTYPE=image/jpeg:https://mosquefoundation.org/wp-content/uploads/2023/06/MF_-Tue-Women-2024.jpg
END:VEVENT
BEGIN:VEVENT
DTSTART;TZID=America/Chicago:20301217T214500
DTEND;TZID=America/Chicago:20301217T223000
DTSTAMP:20260420T164837
CREATED:20260330T183652Z
LAST-MODIFIED:20260419T053510Z
UID:10050090-1923774300-1923777000@mosquefoundation.org
SUMMARY:Tuesday Class
DESCRIPTION:
URL:https://mosquefoundation.org/event/tuesday-class/2030-12-17/
CATEGORIES:Mosque Foundation Events
ATTACH;FMTTYPE=image/jpeg:https://mosquefoundation.org/wp-content/uploads/2026/03/tueclass.jpg
END:VEVENT
BEGIN:VEVENT
DTSTART;TZID=America/Chicago:20301218T180000
DTEND;TZID=America/Chicago:20301218T190000
DTSTAMP:20260420T164837
CREATED:20251102T133710Z
LAST-MODIFIED:20260308T175756Z
UID:10046829-1923847200-1923850800@mosquefoundation.org
SUMMARY:Wednesday Class For Women
DESCRIPTION:
URL:https://mosquefoundation.org/event/wednesday-class-for-women-2-2/2030-12-18/
CATEGORIES:Mosque Foundation Events
ATTACH;FMTTYPE=image/jpeg:https://mosquefoundation.org/wp-content/uploads/2024/01/MF_-Women-2024-scaled.jpg
END:VEVENT
BEGIN:VEVENT
DTSTART;TZID=America/Chicago:20301218T214500
DTEND;TZID=America/Chicago:20301218T223000
DTSTAMP:20260420T164837
CREATED:20260330T183840Z
LAST-MODIFIED:20260419T053416Z
UID:10049826-1923860700-1923863400@mosquefoundation.org
SUMMARY:Wednesday Class
DESCRIPTION:
URL:https://mosquefoundation.org/event/wednsday-class/2030-12-18/
CATEGORIES:Mosque Foundation Events
ATTACH;FMTTYPE=image/jpeg:https://mosquefoundation.org/wp-content/uploads/2026/03/wedclass.jpg
END:VEVENT
BEGIN:VEVENT
DTSTART;TZID=America/Chicago:20301219T214500
DTEND;TZID=America/Chicago:20301219T223000
DTSTAMP:20260420T164837
CREATED:20260330T184243Z
LAST-MODIFIED:20260419T053313Z
UID:10049562-1923947100-1923949800@mosquefoundation.org
SUMMARY:Thursday Class
DESCRIPTION:
URL:https://mosquefoundation.org/event/thursday-class/2030-12-19/
CATEGORIES:Mosque Foundation Events
ATTACH;FMTTYPE=image/jpeg:https://mosquefoundation.org/wp-content/uploads/2026/03/thursdayclass.jpg
END:VEVENT
BEGIN:VEVENT
DTSTART;TZID=America/Chicago:20301222T120000
DTEND;TZID=America/Chicago:20301222T130000
DTSTAMP:20260420T164837
CREATED:20240311T190209Z
LAST-MODIFIED:20260419T054313Z
UID:10050376-1924171200-1924174800@mosquefoundation.org
SUMMARY:Spanish Class for Women
DESCRIPTION:
URL:https://mosquefoundation.org/event/spanish-class/2030-12-22/
CATEGORIES:Mosque Foundation Events
ATTACH;FMTTYPE=image/jpeg:https://mosquefoundation.org/wp-content/uploads/2024/03/MF-Spanish-Class-ES-2024-SM-scaled.jpg
END:VEVENT
BEGIN:VEVENT
DTSTART;TZID=America/Chicago:20301222T120000
DTEND;TZID=America/Chicago:20301222T140000
DTSTAMP:20260420T164837
CREATED:20260419T053917Z
LAST-MODIFIED:20260419T053944Z
UID:10050352-1924171200-1924178400@mosquefoundation.org
SUMMARY:English Class for Women
DESCRIPTION:
URL:https://mosquefoundation.org/event/english-class-for-women/2030-12-22/
CATEGORIES:Mosque Foundation Events
ATTACH;FMTTYPE=image/jpeg:https://mosquefoundation.org/wp-content/uploads/2026/04/PHOTO-2026-04-18-06-01-36.jpg
END:VEVENT
BEGIN:VEVENT
DTSTART;TZID=America/Chicago:20301222T211500
DTEND;TZID=America/Chicago:20301222T220000
DTSTAMP:20260420T164837
CREATED:20260409T185427Z
LAST-MODIFIED:20260409T185443Z
UID:10049037-1924204500-1924207200@mosquefoundation.org
SUMMARY:Sunday Class
DESCRIPTION:
URL:https://mosquefoundation.org/event/sunday-class-2/2030-12-22/
CATEGORIES:Mosque Foundation Events
ATTACH;FMTTYPE=image/jpeg:https://mosquefoundation.org/wp-content/uploads/2026/03/MF_-Sh-Jafar-En-2026.jpg
END:VEVENT
BEGIN:VEVENT
DTSTART;TZID=America/Chicago:20301223T214500
DTEND;TZID=America/Chicago:20301223T223000
DTSTAMP:20260420T164837
CREATED:20260330T183316Z
LAST-MODIFIED:20260419T053209Z
UID:10049299-1924292700-1924295400@mosquefoundation.org
SUMMARY:Monday Class
DESCRIPTION:
URL:https://mosquefoundation.org/event/monday-class/2030-12-23/
CATEGORIES:Mosque Foundation Events
ATTACH;FMTTYPE=image/jpeg:https://mosquefoundation.org/wp-content/uploads/2026/03/mondayclass.jpg
END:VEVENT
BEGIN:VEVENT
DTSTART;TZID=America/Chicago:20301224T130000
DTEND;TZID=America/Chicago:20301224T140000
DTSTAMP:20260420T164837
CREATED:20240802T032249Z
LAST-MODIFIED:20260308T174747Z
UID:10046551-1924347600-1924351200@mosquefoundation.org
SUMMARY:Tuesday Class for Sisters
DESCRIPTION:
URL:https://mosquefoundation.org/event/tuesday-class-for-sisters/2030-12-24/
CATEGORIES:Mosque Foundation Events
ATTACH;FMTTYPE=image/jpeg:https://mosquefoundation.org/wp-content/uploads/2023/06/MF_-Tue-Women-2024.jpg
END:VEVENT
BEGIN:VEVENT
DTSTART;TZID=America/Chicago:20301224T214500
DTEND;TZID=America/Chicago:20301224T223000
DTSTAMP:20260420T164837
CREATED:20260330T183652Z
LAST-MODIFIED:20260419T053510Z
UID:10050091-1924379100-1924381800@mosquefoundation.org
SUMMARY:Tuesday Class
DESCRIPTION:
URL:https://mosquefoundation.org/event/tuesday-class/2030-12-24/
CATEGORIES:Mosque Foundation Events
ATTACH;FMTTYPE=image/jpeg:https://mosquefoundation.org/wp-content/uploads/2026/03/tueclass.jpg
END:VEVENT
BEGIN:VEVENT
DTSTART;TZID=America/Chicago:20301225T180000
DTEND;TZID=America/Chicago:20301225T190000
DTSTAMP:20260420T164837
CREATED:20251102T133710Z
LAST-MODIFIED:20260308T175756Z
UID:10046830-1924452000-1924455600@mosquefoundation.org
SUMMARY:Wednesday Class For Women
DESCRIPTION:
URL:https://mosquefoundation.org/event/wednesday-class-for-women-2-2/2030-12-25/
CATEGORIES:Mosque Foundation Events
ATTACH;FMTTYPE=image/jpeg:https://mosquefoundation.org/wp-content/uploads/2024/01/MF_-Women-2024-scaled.jpg
END:VEVENT
BEGIN:VEVENT
DTSTART;TZID=America/Chicago:20301225T214500
DTEND;TZID=America/Chicago:20301225T223000
DTSTAMP:20260420T164837
CREATED:20260330T183840Z
LAST-MODIFIED:20260419T053416Z
UID:10049827-1924465500-1924468200@mosquefoundation.org
SUMMARY:Wednesday Class
DESCRIPTION:
URL:https://mosquefoundation.org/event/wednsday-class/2030-12-25/
CATEGORIES:Mosque Foundation Events
ATTACH;FMTTYPE=image/jpeg:https://mosquefoundation.org/wp-content/uploads/2026/03/wedclass.jpg
END:VEVENT
BEGIN:VEVENT
DTSTART;TZID=America/Chicago:20301226T214500
DTEND;TZID=America/Chicago:20301226T223000
DTSTAMP:20260420T164837
CREATED:20260330T184243Z
LAST-MODIFIED:20260419T053313Z
UID:10049563-1924551900-1924554600@mosquefoundation.org
SUMMARY:Thursday Class
DESCRIPTION:
URL:https://mosquefoundation.org/event/thursday-class/2030-12-26/
CATEGORIES:Mosque Foundation Events
ATTACH;FMTTYPE=image/jpeg:https://mosquefoundation.org/wp-content/uploads/2026/03/thursdayclass.jpg
END:VEVENT
BEGIN:VEVENT
DTSTART;TZID=America/Chicago:20301229T120000
DTEND;TZID=America/Chicago:20301229T130000
DTSTAMP:20260420T164837
CREATED:20240311T190209Z
LAST-MODIFIED:20260419T054313Z
UID:10050377-1924776000-1924779600@mosquefoundation.org
SUMMARY:Spanish Class for Women
DESCRIPTION:
URL:https://mosquefoundation.org/event/spanish-class/2030-12-29/
CATEGORIES:Mosque Foundation Events
ATTACH;FMTTYPE=image/jpeg:https://mosquefoundation.org/wp-content/uploads/2024/03/MF-Spanish-Class-ES-2024-SM-scaled.jpg
END:VEVENT
BEGIN:VEVENT
DTSTART;TZID=America/Chicago:20301229T120000
DTEND;TZID=America/Chicago:20301229T140000
DTSTAMP:20260420T164837
CREATED:20260419T053917Z
LAST-MODIFIED:20260419T053944Z
UID:10050353-1924776000-1924783200@mosquefoundation.org
SUMMARY:English Class for Women
DESCRIPTION:
URL:https://mosquefoundation.org/event/english-class-for-women/2030-12-29/
CATEGORIES:Mosque Foundation Events
ATTACH;FMTTYPE=image/jpeg:https://mosquefoundation.org/wp-content/uploads/2026/04/PHOTO-2026-04-18-06-01-36.jpg
END:VEVENT
BEGIN:VEVENT
DTSTART;TZID=America/Chicago:20301229T211500
DTEND;TZID=America/Chicago:20301229T220000
DTSTAMP:20260420T164837
CREATED:20260409T185427Z
LAST-MODIFIED:20260409T185443Z
UID:10049038-1924809300-1924812000@mosquefoundation.org
SUMMARY:Sunday Class
DESCRIPTION:
URL:https://mosquefoundation.org/event/sunday-class-2/2030-12-29/
CATEGORIES:Mosque Foundation Events
ATTACH;FMTTYPE=image/jpeg:https://mosquefoundation.org/wp-content/uploads/2026/03/MF_-Sh-Jafar-En-2026.jpg
END:VEVENT
BEGIN:VEVENT
DTSTART;TZID=America/Chicago:20301230T214500
DTEND;TZID=America/Chicago:20301230T223000
DTSTAMP:20260420T164837
CREATED:20260330T183316Z
LAST-MODIFIED:20260419T053209Z
UID:10049300-1924897500-1924900200@mosquefoundation.org
SUMMARY:Monday Class
DESCRIPTION:
URL:https://mosquefoundation.org/event/monday-class/2030-12-30/
CATEGORIES:Mosque Foundation Events
ATTACH;FMTTYPE=image/jpeg:https://mosquefoundation.org/wp-content/uploads/2026/03/mondayclass.jpg
END:VEVENT
BEGIN:VEVENT
DTSTART;TZID=America/Chicago:20301231T130000
DTEND;TZID=America/Chicago:20301231T140000
DTSTAMP:20260420T164837
CREATED:20240802T032249Z
LAST-MODIFIED:20260308T174747Z
UID:10046552-1924952400-1924956000@mosquefoundation.org
SUMMARY:Tuesday Class for Sisters
DESCRIPTION:
URL:https://mosquefoundation.org/event/tuesday-class-for-sisters/2030-12-31/
CATEGORIES:Mosque Foundation Events
ATTACH;FMTTYPE=image/jpeg:https://mosquefoundation.org/wp-content/uploads/2023/06/MF_-Tue-Women-2024.jpg
END:VEVENT
BEGIN:VEVENT
DTSTART;TZID=America/Chicago:20301231T214500
DTEND;TZID=America/Chicago:20301231T223000
DTSTAMP:20260420T164837
CREATED:20260330T183652Z
LAST-MODIFIED:20260419T053510Z
UID:10050092-1924983900-1924986600@mosquefoundation.org
SUMMARY:Tuesday Class
DESCRIPTION:
URL:https://mosquefoundation.org/event/tuesday-class/2030-12-31/
CATEGORIES:Mosque Foundation Events
ATTACH;FMTTYPE=image/jpeg:https://mosquefoundation.org/wp-content/uploads/2026/03/tueclass.jpg
END:VEVENT
BEGIN:VEVENT
DTSTART;TZID=America/Chicago:20310101T180000
DTEND;TZID=America/Chicago:20310101T190000
DTSTAMP:20260420T164837
CREATED:20251102T133710Z
LAST-MODIFIED:20260308T175756Z
UID:10046831-1925056800-1925060400@mosquefoundation.org
SUMMARY:Wednesday Class For Women
DESCRIPTION:
URL:https://mosquefoundation.org/event/wednesday-class-for-women-2-2/2031-01-01/
CATEGORIES:Mosque Foundation Events
ATTACH;FMTTYPE=image/jpeg:https://mosquefoundation.org/wp-content/uploads/2024/01/MF_-Women-2024-scaled.jpg
END:VEVENT
END:VCALENDAR