BEGIN:VCALENDAR
VERSION:2.0
PRODID:-//Mosque Foundation | Bridgeview, Illinois - ECPv6.15.16//NONSGML v1.0//EN
CALSCALE:GREGORIAN
METHOD:PUBLISH
X-ORIGINAL-URL:https://mosquefoundation.org
X-WR-CALDESC:Events for Mosque Foundation | Bridgeview, Illinois
REFRESH-INTERVAL;VALUE=DURATION:PT1H
X-Robots-Tag:noindex
X-PUBLISHED-TTL:PT1H
BEGIN:VTIMEZONE
TZID:America/Chicago
BEGIN:DAYLIGHT
TZOFFSETFROM:-0600
TZOFFSETTO:-0500
TZNAME:CDT
DTSTART:20280312T080000
END:DAYLIGHT
BEGIN:STANDARD
TZOFFSETFROM:-0500
TZOFFSETTO:-0600
TZNAME:CST
DTSTART:20281105T070000
END:STANDARD
BEGIN:DAYLIGHT
TZOFFSETFROM:-0600
TZOFFSETTO:-0500
TZNAME:CDT
DTSTART:20290311T080000
END:DAYLIGHT
BEGIN:STANDARD
TZOFFSETFROM:-0500
TZOFFSETTO:-0600
TZNAME:CST
DTSTART:20291104T070000
END:STANDARD
BEGIN:DAYLIGHT
TZOFFSETFROM:-0600
TZOFFSETTO:-0500
TZNAME:CDT
DTSTART:20300310T080000
END:DAYLIGHT
BEGIN:STANDARD
TZOFFSETFROM:-0500
TZOFFSETTO:-0600
TZNAME:CST
DTSTART:20301103T070000
END:STANDARD
END:VTIMEZONE
BEGIN:VEVENT
DTSTART;TZID=America/Chicago:20290122T214500
DTEND;TZID=America/Chicago:20290122T223000
DTSTAMP:20260420T083835
CREATED:20260330T183316Z
LAST-MODIFIED:20260419T053209Z
UID:10049199-1863812700-1863815400@mosquefoundation.org
SUMMARY:Monday Class
DESCRIPTION:
URL:https://mosquefoundation.org/event/monday-class/2029-01-22/
CATEGORIES:Mosque Foundation Events
ATTACH;FMTTYPE=image/jpeg:https://mosquefoundation.org/wp-content/uploads/2026/03/mondayclass.jpg
END:VEVENT
BEGIN:VEVENT
DTSTART;TZID=America/Chicago:20290123T130000
DTEND;TZID=America/Chicago:20290123T140000
DTSTAMP:20260420T083835
CREATED:20240802T032249Z
LAST-MODIFIED:20260308T174747Z
UID:10046451-1863867600-1863871200@mosquefoundation.org
SUMMARY:Tuesday Class for Sisters
DESCRIPTION:
URL:https://mosquefoundation.org/event/tuesday-class-for-sisters/2029-01-23/
CATEGORIES:Mosque Foundation Events
ATTACH;FMTTYPE=image/jpeg:https://mosquefoundation.org/wp-content/uploads/2023/06/MF_-Tue-Women-2024.jpg
END:VEVENT
BEGIN:VEVENT
DTSTART;TZID=America/Chicago:20290123T214500
DTEND;TZID=America/Chicago:20290123T223000
DTSTAMP:20260420T083835
CREATED:20260330T183652Z
LAST-MODIFIED:20260419T053510Z
UID:10049991-1863899100-1863901800@mosquefoundation.org
SUMMARY:Tuesday Class
DESCRIPTION:
URL:https://mosquefoundation.org/event/tuesday-class/2029-01-23/
CATEGORIES:Mosque Foundation Events
ATTACH;FMTTYPE=image/jpeg:https://mosquefoundation.org/wp-content/uploads/2026/03/tueclass.jpg
END:VEVENT
BEGIN:VEVENT
DTSTART;TZID=America/Chicago:20290124T180000
DTEND;TZID=America/Chicago:20290124T190000
DTSTAMP:20260420T083835
CREATED:20251102T133710Z
LAST-MODIFIED:20260308T175756Z
UID:10046730-1863972000-1863975600@mosquefoundation.org
SUMMARY:Wednesday Class For Women
DESCRIPTION:
URL:https://mosquefoundation.org/event/wednesday-class-for-women-2-2/2029-01-24/
CATEGORIES:Mosque Foundation Events
ATTACH;FMTTYPE=image/jpeg:https://mosquefoundation.org/wp-content/uploads/2024/01/MF_-Women-2024-scaled.jpg
END:VEVENT
BEGIN:VEVENT
DTSTART;TZID=America/Chicago:20290124T214500
DTEND;TZID=America/Chicago:20290124T223000
DTSTAMP:20260420T083835
CREATED:20260330T183840Z
LAST-MODIFIED:20260419T053416Z
UID:10049727-1863985500-1863988200@mosquefoundation.org
SUMMARY:Wednesday Class
DESCRIPTION:
URL:https://mosquefoundation.org/event/wednsday-class/2029-01-24/
CATEGORIES:Mosque Foundation Events
ATTACH;FMTTYPE=image/jpeg:https://mosquefoundation.org/wp-content/uploads/2026/03/wedclass.jpg
END:VEVENT
BEGIN:VEVENT
DTSTART;TZID=America/Chicago:20290125T214500
DTEND;TZID=America/Chicago:20290125T223000
DTSTAMP:20260420T083835
CREATED:20260330T184243Z
LAST-MODIFIED:20260419T053313Z
UID:10049463-1864071900-1864074600@mosquefoundation.org
SUMMARY:Thursday Class
DESCRIPTION:
URL:https://mosquefoundation.org/event/thursday-class/2029-01-25/
CATEGORIES:Mosque Foundation Events
ATTACH;FMTTYPE=image/jpeg:https://mosquefoundation.org/wp-content/uploads/2026/03/thursdayclass.jpg
END:VEVENT
BEGIN:VEVENT
DTSTART;TZID=America/Chicago:20290127T090000
DTEND;TZID=America/Chicago:20290127T130000
DTSTAMP:20260420T083835
CREATED:20250904T001543Z
LAST-MODIFIED:20251102T133041Z
UID:10040639-1864198800-1864213200@mosquefoundation.org
SUMMARY:Saturday Program For Young Women
DESCRIPTION:
URL:https://mosquefoundation.org/event/saturday-program-for-yong-women/2029-01-27/
CATEGORIES:Mosque Foundation Events
ATTACH;FMTTYPE=image/jpeg:https://mosquefoundation.org/wp-content/uploads/2025/09/MF_-Sat-Program-Women-SM-2025.jpg
END:VEVENT
BEGIN:VEVENT
DTSTART;TZID=America/Chicago:20290128T120000
DTEND;TZID=America/Chicago:20290128T130000
DTSTAMP:20260420T083835
CREATED:20240311T190209Z
LAST-MODIFIED:20260419T054313Z
UID:10041327-1864296000-1864299600@mosquefoundation.org
SUMMARY:Spanish Class for Women
DESCRIPTION:
URL:https://mosquefoundation.org/event/spanish-class/2029-01-28/
CATEGORIES:Mosque Foundation Events
ATTACH;FMTTYPE=image/jpeg:https://mosquefoundation.org/wp-content/uploads/2024/03/MF-Spanish-Class-ES-2024-SM-scaled.jpg
END:VEVENT
BEGIN:VEVENT
DTSTART;TZID=America/Chicago:20290128T120000
DTEND;TZID=America/Chicago:20290128T140000
DTSTAMP:20260420T083835
CREATED:20260419T053917Z
LAST-MODIFIED:20260419T053944Z
UID:10050253-1864296000-1864303200@mosquefoundation.org
SUMMARY:English Class for Women
DESCRIPTION:
URL:https://mosquefoundation.org/event/english-class-for-women/2029-01-28/
CATEGORIES:Mosque Foundation Events
ATTACH;FMTTYPE=image/jpeg:https://mosquefoundation.org/wp-content/uploads/2026/04/PHOTO-2026-04-18-06-01-36.jpg
END:VEVENT
BEGIN:VEVENT
DTSTART;TZID=America/Chicago:20290128T211500
DTEND;TZID=America/Chicago:20290128T220000
DTSTAMP:20260420T083835
CREATED:20260409T185427Z
LAST-MODIFIED:20260409T185443Z
UID:10048938-1864329300-1864332000@mosquefoundation.org
SUMMARY:Sunday Class
DESCRIPTION:
URL:https://mosquefoundation.org/event/sunday-class-2/2029-01-28/
CATEGORIES:Mosque Foundation Events
ATTACH;FMTTYPE=image/jpeg:https://mosquefoundation.org/wp-content/uploads/2026/03/MF_-Sh-Jafar-En-2026.jpg
END:VEVENT
BEGIN:VEVENT
DTSTART;TZID=America/Chicago:20290129T214500
DTEND;TZID=America/Chicago:20290129T223000
DTSTAMP:20260420T083835
CREATED:20260330T183316Z
LAST-MODIFIED:20260419T053209Z
UID:10049200-1864417500-1864420200@mosquefoundation.org
SUMMARY:Monday Class
DESCRIPTION:
URL:https://mosquefoundation.org/event/monday-class/2029-01-29/
CATEGORIES:Mosque Foundation Events
ATTACH;FMTTYPE=image/jpeg:https://mosquefoundation.org/wp-content/uploads/2026/03/mondayclass.jpg
END:VEVENT
BEGIN:VEVENT
DTSTART;TZID=America/Chicago:20290130T130000
DTEND;TZID=America/Chicago:20290130T140000
DTSTAMP:20260420T083835
CREATED:20240802T032249Z
LAST-MODIFIED:20260308T174747Z
UID:10046452-1864472400-1864476000@mosquefoundation.org
SUMMARY:Tuesday Class for Sisters
DESCRIPTION:
URL:https://mosquefoundation.org/event/tuesday-class-for-sisters/2029-01-30/
CATEGORIES:Mosque Foundation Events
ATTACH;FMTTYPE=image/jpeg:https://mosquefoundation.org/wp-content/uploads/2023/06/MF_-Tue-Women-2024.jpg
END:VEVENT
BEGIN:VEVENT
DTSTART;TZID=America/Chicago:20290130T214500
DTEND;TZID=America/Chicago:20290130T223000
DTSTAMP:20260420T083835
CREATED:20260330T183652Z
LAST-MODIFIED:20260419T053510Z
UID:10049992-1864503900-1864506600@mosquefoundation.org
SUMMARY:Tuesday Class
DESCRIPTION:
URL:https://mosquefoundation.org/event/tuesday-class/2029-01-30/
CATEGORIES:Mosque Foundation Events
ATTACH;FMTTYPE=image/jpeg:https://mosquefoundation.org/wp-content/uploads/2026/03/tueclass.jpg
END:VEVENT
BEGIN:VEVENT
DTSTART;TZID=America/Chicago:20290131T180000
DTEND;TZID=America/Chicago:20290131T190000
DTSTAMP:20260420T083835
CREATED:20251102T133710Z
LAST-MODIFIED:20260308T175756Z
UID:10046731-1864576800-1864580400@mosquefoundation.org
SUMMARY:Wednesday Class For Women
DESCRIPTION:
URL:https://mosquefoundation.org/event/wednesday-class-for-women-2-2/2029-01-31/
CATEGORIES:Mosque Foundation Events
ATTACH;FMTTYPE=image/jpeg:https://mosquefoundation.org/wp-content/uploads/2024/01/MF_-Women-2024-scaled.jpg
END:VEVENT
BEGIN:VEVENT
DTSTART;TZID=America/Chicago:20290131T214500
DTEND;TZID=America/Chicago:20290131T223000
DTSTAMP:20260420T083835
CREATED:20260330T183840Z
LAST-MODIFIED:20260419T053416Z
UID:10049728-1864590300-1864593000@mosquefoundation.org
SUMMARY:Wednesday Class
DESCRIPTION:
URL:https://mosquefoundation.org/event/wednsday-class/2029-01-31/
CATEGORIES:Mosque Foundation Events
ATTACH;FMTTYPE=image/jpeg:https://mosquefoundation.org/wp-content/uploads/2026/03/wedclass.jpg
END:VEVENT
BEGIN:VEVENT
DTSTART;TZID=America/Chicago:20290201T214500
DTEND;TZID=America/Chicago:20290201T223000
DTSTAMP:20260420T083835
CREATED:20260330T184243Z
LAST-MODIFIED:20260419T053313Z
UID:10049464-1864676700-1864679400@mosquefoundation.org
SUMMARY:Thursday Class
DESCRIPTION:
URL:https://mosquefoundation.org/event/thursday-class/2029-02-01/
CATEGORIES:Mosque Foundation Events
ATTACH;FMTTYPE=image/jpeg:https://mosquefoundation.org/wp-content/uploads/2026/03/thursdayclass.jpg
END:VEVENT
BEGIN:VEVENT
DTSTART;TZID=America/Chicago:20290203T090000
DTEND;TZID=America/Chicago:20290203T130000
DTSTAMP:20260420T083835
CREATED:20250904T001543Z
LAST-MODIFIED:20251102T133041Z
UID:10040640-1864803600-1864818000@mosquefoundation.org
SUMMARY:Saturday Program For Young Women
DESCRIPTION:
URL:https://mosquefoundation.org/event/saturday-program-for-yong-women/2029-02-03/
CATEGORIES:Mosque Foundation Events
ATTACH;FMTTYPE=image/jpeg:https://mosquefoundation.org/wp-content/uploads/2025/09/MF_-Sat-Program-Women-SM-2025.jpg
END:VEVENT
BEGIN:VEVENT
DTSTART;TZID=America/Chicago:20290204T120000
DTEND;TZID=America/Chicago:20290204T130000
DTSTAMP:20260420T083835
CREATED:20240311T190209Z
LAST-MODIFIED:20260419T054313Z
UID:10041328-1864900800-1864904400@mosquefoundation.org
SUMMARY:Spanish Class for Women
DESCRIPTION:
URL:https://mosquefoundation.org/event/spanish-class/2029-02-04/
CATEGORIES:Mosque Foundation Events
ATTACH;FMTTYPE=image/jpeg:https://mosquefoundation.org/wp-content/uploads/2024/03/MF-Spanish-Class-ES-2024-SM-scaled.jpg
END:VEVENT
BEGIN:VEVENT
DTSTART;TZID=America/Chicago:20290204T120000
DTEND;TZID=America/Chicago:20290204T140000
DTSTAMP:20260420T083835
CREATED:20260419T053917Z
LAST-MODIFIED:20260419T053944Z
UID:10050254-1864900800-1864908000@mosquefoundation.org
SUMMARY:English Class for Women
DESCRIPTION:
URL:https://mosquefoundation.org/event/english-class-for-women/2029-02-04/
CATEGORIES:Mosque Foundation Events
ATTACH;FMTTYPE=image/jpeg:https://mosquefoundation.org/wp-content/uploads/2026/04/PHOTO-2026-04-18-06-01-36.jpg
END:VEVENT
BEGIN:VEVENT
DTSTART;TZID=America/Chicago:20290204T211500
DTEND;TZID=America/Chicago:20290204T220000
DTSTAMP:20260420T083835
CREATED:20260409T185427Z
LAST-MODIFIED:20260409T185443Z
UID:10048939-1864934100-1864936800@mosquefoundation.org
SUMMARY:Sunday Class
DESCRIPTION:
URL:https://mosquefoundation.org/event/sunday-class-2/2029-02-04/
CATEGORIES:Mosque Foundation Events
ATTACH;FMTTYPE=image/jpeg:https://mosquefoundation.org/wp-content/uploads/2026/03/MF_-Sh-Jafar-En-2026.jpg
END:VEVENT
BEGIN:VEVENT
DTSTART;TZID=America/Chicago:20290205T214500
DTEND;TZID=America/Chicago:20290205T223000
DTSTAMP:20260420T083835
CREATED:20260330T183316Z
LAST-MODIFIED:20260419T053209Z
UID:10049201-1865022300-1865025000@mosquefoundation.org
SUMMARY:Monday Class
DESCRIPTION:
URL:https://mosquefoundation.org/event/monday-class/2029-02-05/
CATEGORIES:Mosque Foundation Events
ATTACH;FMTTYPE=image/jpeg:https://mosquefoundation.org/wp-content/uploads/2026/03/mondayclass.jpg
END:VEVENT
BEGIN:VEVENT
DTSTART;TZID=America/Chicago:20290206T130000
DTEND;TZID=America/Chicago:20290206T140000
DTSTAMP:20260420T083835
CREATED:20240802T032249Z
LAST-MODIFIED:20260308T174747Z
UID:10046453-1865077200-1865080800@mosquefoundation.org
SUMMARY:Tuesday Class for Sisters
DESCRIPTION:
URL:https://mosquefoundation.org/event/tuesday-class-for-sisters/2029-02-06/
CATEGORIES:Mosque Foundation Events
ATTACH;FMTTYPE=image/jpeg:https://mosquefoundation.org/wp-content/uploads/2023/06/MF_-Tue-Women-2024.jpg
END:VEVENT
BEGIN:VEVENT
DTSTART;TZID=America/Chicago:20290206T214500
DTEND;TZID=America/Chicago:20290206T223000
DTSTAMP:20260420T083835
CREATED:20260330T183652Z
LAST-MODIFIED:20260419T053510Z
UID:10049993-1865108700-1865111400@mosquefoundation.org
SUMMARY:Tuesday Class
DESCRIPTION:
URL:https://mosquefoundation.org/event/tuesday-class/2029-02-06/
CATEGORIES:Mosque Foundation Events
ATTACH;FMTTYPE=image/jpeg:https://mosquefoundation.org/wp-content/uploads/2026/03/tueclass.jpg
END:VEVENT
BEGIN:VEVENT
DTSTART;TZID=America/Chicago:20290207T180000
DTEND;TZID=America/Chicago:20290207T190000
DTSTAMP:20260420T083835
CREATED:20251102T133710Z
LAST-MODIFIED:20260308T175756Z
UID:10046732-1865181600-1865185200@mosquefoundation.org
SUMMARY:Wednesday Class For Women
DESCRIPTION:
URL:https://mosquefoundation.org/event/wednesday-class-for-women-2-2/2029-02-07/
CATEGORIES:Mosque Foundation Events
ATTACH;FMTTYPE=image/jpeg:https://mosquefoundation.org/wp-content/uploads/2024/01/MF_-Women-2024-scaled.jpg
END:VEVENT
BEGIN:VEVENT
DTSTART;TZID=America/Chicago:20290207T214500
DTEND;TZID=America/Chicago:20290207T223000
DTSTAMP:20260420T083835
CREATED:20260330T183840Z
LAST-MODIFIED:20260419T053416Z
UID:10049729-1865195100-1865197800@mosquefoundation.org
SUMMARY:Wednesday Class
DESCRIPTION:
URL:https://mosquefoundation.org/event/wednsday-class/2029-02-07/
CATEGORIES:Mosque Foundation Events
ATTACH;FMTTYPE=image/jpeg:https://mosquefoundation.org/wp-content/uploads/2026/03/wedclass.jpg
END:VEVENT
BEGIN:VEVENT
DTSTART;TZID=America/Chicago:20290208T214500
DTEND;TZID=America/Chicago:20290208T223000
DTSTAMP:20260420T083835
CREATED:20260330T184243Z
LAST-MODIFIED:20260419T053313Z
UID:10049465-1865281500-1865284200@mosquefoundation.org
SUMMARY:Thursday Class
DESCRIPTION:
URL:https://mosquefoundation.org/event/thursday-class/2029-02-08/
CATEGORIES:Mosque Foundation Events
ATTACH;FMTTYPE=image/jpeg:https://mosquefoundation.org/wp-content/uploads/2026/03/thursdayclass.jpg
END:VEVENT
BEGIN:VEVENT
DTSTART;TZID=America/Chicago:20290210T090000
DTEND;TZID=America/Chicago:20290210T130000
DTSTAMP:20260420T083835
CREATED:20250904T001543Z
LAST-MODIFIED:20251102T133041Z
UID:10040641-1865408400-1865422800@mosquefoundation.org
SUMMARY:Saturday Program For Young Women
DESCRIPTION:
URL:https://mosquefoundation.org/event/saturday-program-for-yong-women/2029-02-10/
CATEGORIES:Mosque Foundation Events
ATTACH;FMTTYPE=image/jpeg:https://mosquefoundation.org/wp-content/uploads/2025/09/MF_-Sat-Program-Women-SM-2025.jpg
END:VEVENT
BEGIN:VEVENT
DTSTART;TZID=America/Chicago:20290211T120000
DTEND;TZID=America/Chicago:20290211T130000
DTSTAMP:20260420T083835
CREATED:20240311T190209Z
LAST-MODIFIED:20260419T054313Z
UID:10041329-1865505600-1865509200@mosquefoundation.org
SUMMARY:Spanish Class for Women
DESCRIPTION:
URL:https://mosquefoundation.org/event/spanish-class/2029-02-11/
CATEGORIES:Mosque Foundation Events
ATTACH;FMTTYPE=image/jpeg:https://mosquefoundation.org/wp-content/uploads/2024/03/MF-Spanish-Class-ES-2024-SM-scaled.jpg
END:VEVENT
BEGIN:VEVENT
DTSTART;TZID=America/Chicago:20290211T120000
DTEND;TZID=America/Chicago:20290211T140000
DTSTAMP:20260420T083835
CREATED:20260419T053917Z
LAST-MODIFIED:20260419T053944Z
UID:10050255-1865505600-1865512800@mosquefoundation.org
SUMMARY:English Class for Women
DESCRIPTION:
URL:https://mosquefoundation.org/event/english-class-for-women/2029-02-11/
CATEGORIES:Mosque Foundation Events
ATTACH;FMTTYPE=image/jpeg:https://mosquefoundation.org/wp-content/uploads/2026/04/PHOTO-2026-04-18-06-01-36.jpg
END:VEVENT
BEGIN:VEVENT
DTSTART;TZID=America/Chicago:20290211T211500
DTEND;TZID=America/Chicago:20290211T220000
DTSTAMP:20260420T083835
CREATED:20260409T185427Z
LAST-MODIFIED:20260409T185443Z
UID:10048940-1865538900-1865541600@mosquefoundation.org
SUMMARY:Sunday Class
DESCRIPTION:
URL:https://mosquefoundation.org/event/sunday-class-2/2029-02-11/
CATEGORIES:Mosque Foundation Events
ATTACH;FMTTYPE=image/jpeg:https://mosquefoundation.org/wp-content/uploads/2026/03/MF_-Sh-Jafar-En-2026.jpg
END:VEVENT
END:VCALENDAR